{"text_format":"1","workbook":"xlsx","n_sheets":5,"sheets":["Eurostat","pomocniczo_do_kalibracji_alfy","pomocniczo_do_innych_kalibracji","kalibracje","dane_do_matlaba"],"not_rendered":{"charts":0,"images":0,"macros":1,"external_links":0,"defined_names":0,"comments":0,"pivot_tables":0},"unopened":[],"bounds":{"document_bytes":16777216,"sheet_cells":100000,"rows_first":2000,"rows_last":500,"rows_between":2000,"halvings":0,"cell_chars":16384,"cell_head_chars":4096},"cells_cut":0,"cells_raw":0,"read":"whole","date_system":"1900"}

{"sheet":"Eurostat","index":0,"n_rows":83,"n_cols":82,"rows_kept":83,"cut":false,"hidden":false,"merged":[]}
[null,"http://appsso.eurostat.ec.europa.eu/nui/show.do?query=BOOKMARK_DS-055786_QID_6CDF9737_UID_-3F171EB0&layout=GEO,L,X,0;TIME,C,Y,0;S_ADJ,L,Z,0;UNIT,L,Z,1;INDIC_NA,L,Z,2;INDICATORS,C,Z,3;&zSelection=DS-055786S_ADJ,SWDA;DS-055786INDICATORS,OBS_FLAG;DS-055786UNIT,MIO_NAC;DS-055786INDIC_NA,B1GM;&rankName1=UNIT_1_2_-1_2&rankName2=INDICATORS_1_2_-1_2&rankName3=INDIC-NA_1_2_-1_2&rankName4=S-ADJ_1_2_-1_2&rankName5=GEO_1_2_0_0&rankName6=TIME_1_0_0_1&sortR=ASC_-1_FIRST&rStp=&cStp=&rDCh=&cDCh=&rDM=true&cDM=true&footnes=false&empty=false&wai=false&time_mode=ROLLING&time_most_recent=false&lang=EN&cfo=%23%23%23%2C%23%23%23.%23%23%23",null,"http://appsso.eurostat.ec.europa.eu/nui/show.do?query=BOOKMARK_DS-055780_QID_6C0B384A_UID_-3F171EB0&layout=TIME,C,X,0;GEO,L,Y,0;S_ADJ,L,Z,0;UNIT,L,Z,1;INDIC_NA,L,Z,2;INDICATORS,C,Z,3;&zSelection=DS-055780S_ADJ,SWDA;DS-055780INDIC_NA,B1GM;DS-055780INDICATORS,OBS_FLAG;DS-055780UNIT,PCH_PRE;&rankName1=INDIC-NA_1_2_-1_2&rankName2=S-ADJ_1_2_-1_2&rankName3=INDICATORS_1_2_-1_2&rankName4=UNIT_1_2_-1_2&rankName5=TIME_1_0_0_0&rankName6=GEO_1_2_0_1&sortC=ASC_-1_FIRST&rStp=&cStp=&rDCh=&cDCh=&rDM=true&cDM=true&footnes=false&empty=false&wai=false&time_mode=ROLLING&time_most_recent=true&lang=EN&cfo=%23%23%23%2C%23%23%23.%23%23%23",null,"http://appsso.eurostat.ec.europa.eu/nui/show.do?query=BOOKMARK_DS-055786_QID_-2D752CE9_UID_-3F171EB0&layout=TIME,C,X,0;GEO,L,Y,0;S_ADJ,L,Z,0;UNIT,L,Z,1;INDIC_NA,L,Z,2;INDICATORS,C,Z,3;&zSelection=DS-055786S_ADJ,SWDA;DS-055786INDICATORS,OBS_FLAG;DS-055786UNIT,MIO_EUR;DS-055786INDIC_NA,B1GM;&rankName1=INDIC-NA_1_2_-1_2&rankName2=S-ADJ_1_2_-1_2&rankName3=INDICATORS_1_2_-1_2&rankName4=UNIT_1_2_-1_2&rankName5=TIME_1_0_0_0&rankName6=GEO_1_2_0_1&sortC=ASC_-1_FIRST&rStp=&cStp=&rDCh=&cDCh=&rDM=true&cDM=true&footnes=false&empty=false&wai=false&time_mode=ROLLING&time_most_recent=false&lang=EN&cfo=%23%23%23%2C%23%23%23.%23%23%23",null,"http://appsso.eurostat.ec.europa.eu/nui/show.do?query=BOOKMARK_DS-209529_QID_-221099C4_UID_-3F171EB0&layout=TIME,C,X,0;GEO,L,Y,0;UNIT,L,Z,0;NACE_R2,L,Z,1;S_ADJ,L,Z,2;INDIC_NA,L,Z,3;INDICATORS,C,Z,4;&zSelection=DS-209529UNIT,PCH_PRE_CPI05_EUR;DS-209529NACE_R2,TOTAL;DS-209529S_ADJ,SWDA;DS-209529INDIC_NA,B1G;DS-209529INDICATORS,OBS_FLAG;&rankName1=INDIC-NA_1_2_-1_2&rankName2=S-ADJ_1_2_-1_2&rankName3=NACE-R2_1_2_-1_2&rankName4=INDICATORS_1_2_-1_2&rankName5=UNIT_1_2_-1_2&rankName6=TIME_1_0_0_0&rankName7=GEO_1_2_0_1&sortC=ASC_-1_FIRST&rStp=&cStp=&rDCh=&cDCh=&rDM=true&cDM=true&footnes=false&empty=false&wai=false&time_mode=ROLLING&time_most_recent=true&lang=EN&cfo=%23%23%23%2C%23%23%23.%23%23%23",null,null,null,null,null,null,null,null,null,null,null,null,null,null,null,null,null,null,null,null,null,null,null,"http://appsso.eurostat.ec.europa.eu/nui/show.do?query=BOOKMARK_DS-209523_QID_4068214F_UID_-3F171EB0&layout=TIME,C,X,0;GEO,L,Y,0;UNIT,L,Z,0;NACE_R2,L,Z,1;S_ADJ,L,Z,2;INDIC_NA,L,Z,3;INDICATORS,C,Z,4;&zSelection=DS-209523INDICATORS,OBS_FLAG;DS-209523NACE_R2,TOTAL;DS-209523UNIT,MIO_EUR;DS-209523INDIC_NA,B1G;DS-209523S_ADJ,SWDA;&rankName1=INDIC-NA_1_2_-1_2&rankName2=S-ADJ_1_2_-1_2&rankName3=NACE-R2_1_2_-1_2&rankName4=INDICATORS_1_2_-1_2&rankName5=UNIT_1_2_-1_2&rankName6=TIME_1_0_0_0&rankName7=GEO_1_2_0_1&sortC=ASC_-1_FIRST&rStp=&cStp=&rDCh=&cDCh=&rDM=true&cDM=true&footnes=false&empty=false&wai=false&time_mode=ROLLING&time_most_recent=true&lang=EN&cfo=%23%23%23%2C%23%23%23.%23%23%23",null,null,null,null,null,null,null,null,null,null,null,null,null,null,null,null,null,null,null,null,null,null,null,"http://appsso.eurostat.ec.europa.eu/nui/show.do?query=BOOKMARK_DS-209527_QID_-324026DE_UID_-3F171EB0&layout=TIME,C,X,0;GEO,L,Y,0;UNIT,L,Z,0;NACE_R2,L,Z,1;S_ADJ,L,Z,2;INDIC_NA,L,Z,3;INDICATORS,C,Z,4;&zSelection=DS-209527UNIT,PCH_PRE;DS-209527NACE_R2,TOTAL;DS-209527INDICATORS,OBS_FLAG;DS-209527INDIC_NA,B1G;DS-209527S_ADJ,SWDA;&rankName1=INDIC-NA_1_2_-1_2&rankName2=S-ADJ_1_2_-1_2&rankName3=NACE-R2_1_2_-1_2&rankName4=INDICATORS_1_2_-1_2&rankName5=UNIT_1_2_-1_2&rankName6=TIME_1_0_0_0&rankName7=GEO_1_2_0_1&sortC=ASC_-1_FIRST&rStp=&cStp=&rDCh=&cDCh=&rDM=true&cDM=true&footnes=false&empty=false&wai=false&time_mode=ROLLING&time_most_recent=true&lang=EN&cfo=%23%23%23%2C%23%23%23.%23%23%23",null,null,null,null,null,null,null,null,null,null,null,null,null,null,null,null,null,null,null,null,null,null,null,"http://appsso.eurostat.ec.europa.eu/nui/show.do?query=BOOKMARK_DS-054888_QID_2C6A03A2_UID_-3F171EB0&layout=TIME,C,X,0;GEO,L,Y,0;INTRT,L,Z,0;INDICATORS,C,Z,1;&zSelection=DS-054888INDICATORS,OBS_FLAG;DS-054888INTRT,MAT_M03;&rankName1=INTRT_1_2_-1_2&rankName2=INDICATORS_1_2_-1_2&rankName3=TIME_1_0_0_0&rankName4=GEO_1_2_0_1&sortC=ASC_-1_FIRST&rStp=&cStp=&rDCh=&cDCh=&rDM=true&cDM=true&footnes=false&empty=false&wai=false&time_mode=ROLLING&time_most_recent=false&lang=EN&cfo=%23%23%23%2C%23%23%23.%23%23%23",null,"http://appsso.eurostat.ec.europa.eu/nui/show.do?query=BOOKMARK_DS-054876_QID_121B6565_UID_-3F171EB0&layout=TIME,C,X,0;CURRENCY,L,Y,0;UNIT,L,Z,0;STATINFO,L,Z,1;INDICATORS,C,Z,2;&zSelection=DS-054876INDICATORS,OBS_FLAG;DS-054876STATINFO,AVG;DS-054876UNIT,NAC;&rankName1=STATINFO_1_2_-1_2&rankName2=INDICATORS_1_2_-1_2&rankName3=UNIT_1_2_-1_2&rankName4=TIME_1_0_0_0&rankName5=CURRENCY_1_2_0_1&sortC=ASC_-1_FIRST&rStp=&cStp=&rDCh=&cDCh=&rDM=true&cDM=true&footnes=false&empty=false&wai=false&time_mode=ROLLING&time_most_recent=true&lang=EN&cfo=%23%23%23%2C%23%23%23.%23%23%23"]
[null,"GDP, Mio EUR, SWDA, value",null,"Cons, 2005=100, SWDA",null,"Cons, Mio NC, SWDA, value",null,"GVA, 2005=100 (NC), SWDA, price index, TOTAL",null,"-- AGRICULTURE, FORESTRY AND FISHING",null,"-- INDUSTRY EXCEPT CONSTRUCTION",null,"-- MANUFACTURING",null,"-- CONSTRUCTION",null,"-- WHOLESALE AND RETAIL TRADE, TRANSPORT, ACCOMODATION AND FOOD SERVICE ACTIVITIES",null,"-- INFORMATION AND COMMUNICATION",null,"-- FINANCIAL AND INSURANCE ACTIVITIES",null,"-- REAL ESTATE ACTIVITIES",null,"-- Professional, scientific and technical activities; administrative and support service activities",null,"-- Public administration, defence, education, human health and social work activities",null,"-- Arts, entertainment and recreation; other service activities; activities of household and extra-territorial organizations and bodies",null,"GVA, value (NC), SWDA, TOTAL",null,"-- AGRICULTURE, FORESTRY AND FISHING",null,"-- INDUSTRY EXCEPT CONSTRUCTION",null,"-- MANUFACTURING",null,"-- CONSTRUCTION",null,"-- WHOLESALE AND RETAIL TRADE, TRANSPORT, ACCOMODATION AND FOOD SERVICE ACTIVITIES",null,"-- INFORMATION AND COMMUNICATION",null,"-- FINANCIAL AND INSURANCE ACTIVITIES",null,"-- REAL ESTATE ACTIVITIES",null,"-- Professional, scientific and technical activities; administrative and support service activities",null,"-- Public administration, defence, education, human health and social work activities",null,"-- Arts, entertainment and recreation; other service activities; activities of household and extra-territorial organizations and bodies",null,"GVA, volume (2005=100), SWDA, TOTAL",null,"-- AGRICULTURE, FORESTRY AND FISHING",null,"-- INDUSTRY EXCEPT CONSTRUCTION",null,"-- MANUFACTURING",null,"-- CONSTRUCTION",null,"-- WHOLESALE AND RETAIL TRADE, TRANSPORT, ACCOMODATION AND FOOD SERVICE ACTIVITIES",null,"-- INFORMATION AND COMMUNICATION",null,"-- FINANCIAL AND INSURANCE ACTIVITIES",null,"-- REAL ESTATE ACTIVITIES",null,"-- Professional, scientific and technical activities; administrative and support service activities",null,"-- Public administration, defence, education, human health and social work activities",null,"-- Arts, entertainment and recreation; other service activities; activities of household and extra-territorial organizations and bodies",null,"3M MM rates",null,"EURPLN"]
["GEO/TIME","Euro area (17 countries)","Poland","Euro area (17 countries)","Poland","Euro area (17 countries)","Poland","Euro area (17 countries)","Poland","Euro area (17 countries)","Poland","Euro area (17 countries)","Poland","Euro area (17 countries)","Poland","Euro area (17 countries)","Poland","Euro area (17 countries)","Poland","Euro area (17 countries)","Poland","Euro area (17 countries)","Poland","Euro area (17 countries)","Poland","Euro area (17 countries)","Poland","Euro area (17 countries)","Poland","Euro area (17 countries)","Poland","Euro area (17 countries)","Poland","Euro area (17 countries)","Poland","Euro area (17 countries)","Poland","Euro area (17 countries)","Poland","Euro area (17 countries)","Poland","Euro area (17 countries)","Poland","Euro area (17 countries)","Poland","Euro area (17 countries)","Poland","Euro area (17 countries)","Poland","Euro area (17 countries)","Poland","Euro area (17 countries)","Poland","Euro area (17 countries)","Poland","Euro area (17 countries)","Poland","Euro area (17 countries)","Poland","Euro area (17 countries)","Poland","Euro area (17 countries)","Poland","Euro area (17 countries)","Poland","Euro area (17 countries)","Poland","Euro area (17 countries)","Poland","Euro area (17 countries)","Poland","Euro area (17 countries)","Poland","Euro area (17 countries)","Poland","Euro area (17 countries)","Poland","Euro area (17 countries)","Poland","Euro area (EA11-2000, EA12-2006, EA13-2007, EA15-2008, EA16-2010, EA17-2013, EA18)","Poland","Polish zloty"]
["1995Q1",1366927.2,25721.4,81.8,61.7,1059037.2,60070.3,":",48.8,":",75.900000000000006,":",60.4,":",72,":",46.6,":",49.8,":",38.799999999999997,":",57,":",34.4,":",22.1,":",42.6,":",34.200000000000003,":",69800,":",5476.2,":",19581.900000000001,":",14173.2,":",5432.8,":",16510.5,":",1752.5,":",2112.1,":",3950.1,":",2420.8000000000002,":",10143.6,":",2491.1999999999998,":",65.900000000000006,":",71.400000000000006,":",61,":",51,":",85.6,":",60,":",48.4,":",38.799999999999997,":",82.1,":",80.3,":",77.900000000000006,":",95.7,6.96,29.44,3.0755400000000002]
["1995Q2",1385317,26252.7,82.6,68,1076259.3,64598.400000000001,":",50.5,":",81.8,":",60.7,":",72.7,":",48,":",51,":",40,":",63.4,":",40.9,":",20.100000000000001,":",45,":",36,":",73480.800000000003,":",5966.9,":",20218.900000000001,":",14795.7,":",5507.2,":",17422.900000000001,":",1841.3,":",1879.1,":",4228.6000000000004,":",2181.1999999999998,":",10796.8,":",2671.8,":",67,":",72.099999999999994,":",62.7,":",52.8,":",84.3,":",61.8,":",49.3,":",31.1,":",74.099999999999994,":",79.3,":",78.400000000000006,":",97.4,7.14,28.46,3.1663899999999998]
["1995Q3",1407589.6,27555,82.8,68.7,1091805.3,68889.100000000006,":",52.1,":",82.5,":",62.3,":",74.599999999999994,":",49.4,":",52,":",42.9,":",59,":",39.299999999999997,":",21,":",47.1,":",38.799999999999997,":",77393.399999999994,":",6078.5,":",21173.7,":",15357.9,":",5732,":",18338.8,":",1986.1,":",1848.3,":",4592.3999999999996,":",2374,":",11377.3,":",2906.3,":",68.5,":",72.900000000000006,":",63.9,":",53.4,":",85.1,":",63.8,":",49.6,":",32.9,":",83.7,":",82.6,":",79,":",98.4,6.7,26.84,3.1794799999999999]
["1995Q4",1418890,26794.3,83.2,69.7,1104482.5,73793.5,":",51,":",80.7,":",63.1,":",75.3,":",52.1,":",54.4,":",43.1,":",62.4,":",41.8,":",26.6,":",40.5,":",34.299999999999997,":",76558.7,":",5973.7,":",22002.400000000001,":",15946.4,":",6120.8,":",19375.900000000001,":",2184.9,":",2028.8,":",4970.5,":",3012.2,":",9910.7000000000007,":",3113.3,":",69.2,":",73.2,":",65.5,":",54.9,":",86.3,":",64.400000000000006,":",54.3,":",34.1,":",85.1,":",83,":",80,":",119.1,6.51,25.65,3.2605400000000002]
["1996Q1",1432460.3,29727,83.4,70.3,1118848.8,78442.399999999994,":",56,":",88.7,":",65,":",77.099999999999994,":",56.6,":",57.9,":",49.2,":",62.1,":",46.2,":",23.5,":",50.8,":",37.1,":",85710.3,":",6635.3,":",23082,":",16668.900000000001,":",6561.7,":",21112.400000000001,":",2375,":",2067.1999999999998,":",5431.3,":",2658.6,":",12320.5,":",3334,":",70.5,":",74,":",66.8,":",56.1,":",85.1,":",65.900000000000006,":",51.7,":",34.9,":",84.2,":",82.9,":",79.3,":",118.1,5.63,23.08,3.2741699999999998]
["1996Q2",1449132,30644.7,83.8,71.3,1130147.3,83223.3,":",57.7,":",88.5,":",66.599999999999994,":",79.2,":",59.7,":",60.5,":",51.1,":",61.6,":",48.7,":",24.6,":",51.2,":",40.4,":",90249.3,":",6745.5,":",23984,":",17377.8,":",7121.5,":",22229.9,":",2445.3000000000002,":",2310.5,":",5781.5,":",2848.4,":",12780.2,":",3515.3,":",72,":",75.400000000000006,":",67.7,":",56.9,":",87.7,":",66.400000000000006,":",51.2,":",39.299999999999997,":",85,":",84.6,":",81.5,":",114.3,5.14,22.08,3.35066]
["1996Q3",1462740.5,31006.3,84.3,72.599999999999994,1140653.8999999999,87484.800000000003,":",60,":",88.9,":",68,":",80.2,":",62.7,":",64.7,":",53.7,":",65.7,":",51.1,":",27.7,":",53,":",42.5,":",94995,":",6891.7,":",24853.599999999999,":",18083.7,":",7623.2,":",23582.5,":",2770.9,":",2624.8,":",6157.3,":",3155.1,":",13200,":",3682.3,":",73,":",76.7,":",68.7,":",58.4,":",89.3,":",65.8,":",55.3,":",41.9,":",86.2,":",83.4,":",81.400000000000006,":",113.7,5,19.989999999999998,3.4912000000000001]
["1996Q4",1463882.4,31724.6,84.5,74.099999999999994,1142012.6000000001,91476.6,":",65.3,":",97.4,":",70,":",82.8,":",65.7,":",67,":",57.8,":",124.4,":",52.7,":",28.9,":",57.3,":",49.7,":",100072.2,":",7518.3,":",25811,":",19044.8,":",7998,":",25210.3,":",2771.8,":",4231.5,":",6393.9,":",3408.8,":",13905.9,":",3885.4,":",70.599999999999994,":",76.400000000000006,":",69.3,":",59.6,":",89.4,":",68,":",51.3,":",35.6,":",86.8,":",86.5,":",79.3,":",102.6,4.59,20.53,3.5732300000000001]
["1997Q1",1462504.7,33711.4,84.5,75,1139027.1000000001,96612,":",65.099999999999994,":",95.9,":",72.400000000000006,":",85.6,":",65.900000000000006,":",68.400000000000006,":",56.5,":",136.6,":",53.9,":",32.799999999999997,":",58.2,":",44.8,":",105579.8,":",7436.4,":",27221.8,":",20110.599999999999,":",8452.9,":",26005.599999999999,":",2988.3,":",4576.6000000000004,":",6723.7,":",3836.9,":",14661.1,":",4051.7,":",74.7,":",76.8,":",70.7,":",60.9,":",94.1,":",68.8,":",56.7,":",35.1,":",89.4,":",85.5,":",82.3,":",118.8,4.4400000000000004,22.15,3.5492300000000001]
["1997Q2",1479166.7,34620.5,85.3,76.2,1147388.2,101377.60000000001,":",68,":",96.7,":",74.8,":",87.4,":",68.099999999999994,":",70.599999999999994,":",62.3,":",111.3,":",57.6,":",36.4,":",62.2,":",41.9,":",110929.1,":",7433.1,":",28610.9,":",21177.4,":",8999.2000000000007,":",27314.3,":",3209.7,":",4709.8,":",7166.3,":",4354.8999999999996,":",15313.9,":",3871.5,":",75.2,":",76,":",71.900000000000006,":",62.8,":",97.1,":",69.900000000000006,":",55.2,":",44.4,":",89.1,":",87.5,":",80.400000000000006,":",121.4,4.33,22.5,3.6322399999999999]
["1997Q3",1488268.5,34795.1,85.5,77.2,1151107.1000000001,105862.9,":",70.3,":",99.2,":",76.8,":",90.4,":",72.599999999999994,":",72.900000000000006,":",61.8,":",109.3,":",61.2,":",40.5,":",63.3,":",43.2,":",115963.6,":",7494.5,":",29964.799999999999,":",22567.1,":",9611,":",28588.1,":",3353.2,":",4388.3,":",7526.8,":",4715,":",15988.2,":",4068.3,":",76,":",74.7,":",73.400000000000006,":",64.7,":",97.3,":",70.900000000000006,":",58.1,":",42.1,":",88,":",85.1,":",82.5,":",123.5,4.32,25.01,3.7659799999999999]
["1997Q4",1511164.1,35079.699999999997,86.2,78.099999999999994,1165761.3999999999,111223.4,":",71.7,":",89.6,":",79.5,":",93,":",73.8,":",74,":",71,":",74.400000000000006,":",66.400000000000006,":",47.4,":",63.6,":",49.7,":",121116,":",6994.3,":",31563.9,":",23595.200000000001,":",10291.200000000001,":",30558,":",3669.5,":",4170.1000000000004,":",8035.9,":",5346.8,":",16414.8,":",4306.1000000000004,":",77.8,":",77.3,":",74.599999999999994,":",65.8,":",102.4,":",74.7,":",55.3,":",58.7,":",86.6,":",82.5,":",84.3,":",113.7,4.43,24.99,3.9143599999999998]
["1998Q1",1516448.9,37396.400000000001,86.6,79.2,1166720.5,115256.6,":",73.3,":",100.6,":",80.2,":",93.6,":",79.900000000000006,":",75.900000000000006,":",72.900000000000006,":",78.3,":",67.400000000000006,":",52.9,":",66.2,":",51.7,":",126120.5,":",7979.9,":",32298.799999999999,":",24699.7,":",11171.3,":",30973.9,":",3924.4,":",4256.3,":",8246,":",6157.4,":",17106.8,":",4591.3999999999996,":",79.3,":",78.5,":",75.7,":",68.400000000000006,":",102.6,":",73.8,":",57.7,":",57,":",87.6,":",85.1,":",84.5,":",116.7,4.2,24.9,3.8125399999999998]
["1998Q2",1533252.1,38906.5,87.2,80.099999999999994,1179255.7,117582.9,":",75.8,":",92.1,":",82.9,":",96.9,":",83.4,":",77.8,":",75.900000000000006,":",84.7,":",69.599999999999994,":",56.7,":",66.7,":",54.8,":",130840.9,":",7424.3,":",32815,":",25014.9,":",11785.3,":",32462.1,":",4232.6000000000004,":",4309,":",8709.7000000000007,":",6631.5,":",17444.3,":",4857.2,":",79.599999999999994,":",79.7,":",74.5,":",67,":",103.7,":",75.400000000000006,":",59.7,":",53.3,":",89.6,":",85.6,":",85.5,":",116.3,4.0599999999999996,22.3,3.7839499999999999]
["1998Q3",1549103.3,38512.5,87.9,81.3,1194537.3999999999,123094.8,":",78.3,":",91.9,":",84.5,":",97.5,":",84,":",78.3,":",80,":",90.5,":",70.8,":",59,":",69.599999999999994,":",63.3,":",135459,":",7483.4,":",33113.1,":",25041.5,":",12275.4,":",33698.6,":",4361.8999999999996,":",4829.8999999999996,":",9138.7999999999993,":",7149.5,":",18069.8,":",5017.7,":",79.7,":",80.5,":",73.7,":",66.599999999999994,":",107.3,":",77.8,":",58.4,":",56,":",92.4,":",88.7,":",84.9,":",104.1,3.94,18.940000000000001,3.96183]
["1998Q4",1567454.4,38196.300000000003,88.7,78.900000000000006,1213848.7,123742.8,":",80.900000000000006,":",100.3,":",86.1,":",99,":",84.7,":",80.099999999999994,":",77.7,":",119.6,":",71.400000000000006,":",59,":",71.5,":",65.2,":",139447.6,":",8092.8,":",33354.199999999997,":",25177.1,":",12106.7,":",34601.1,":",4514.5,":",5276.8,":",9434.1,":",7253.1,":",18813.099999999999,":",5105,":",79.400000000000006,":",79.8,":",72.8,":",65.900000000000006,":",104.9,":",78.099999999999994,":",62.2,":",46.2,":",94.6,":",89.9,":",86,":",102.8,3.62,15.74,4.0934799999999996]
["1999Q1",1581929.8,36982.699999999997,89.1,82.9,1222189,128010.7,":",78.599999999999994,":",90.2,":",86.6,":",100,":",84.4,":",80.900000000000006,":",76.099999999999994,":",85.3,":",73.5,":",59,":",72.7,":",67.900000000000006,":",136969.20000000001,":",7319.3,":",33479.699999999997,":",25330.400000000001,":",12718.8,":",35102.199999999997,":",4413.2,":",5246.2,":",9789.5,":",7248.9,":",18933.900000000001,":",5190.6000000000004,":",80.3,":",80.3,":",72.7,":",65.7,":",110.7,":",78.400000000000006,":",62.1,":",64.5,":",95.4,":",89.9,":",85.1,":",100.4,3.09,13.77,4.2202000000000002]
["1999Q2",1597384.5,38840.1,89.6,83.9,1235959.6000000001,132864.20000000001,":",80.599999999999994,":",93.6,":",87.3,":",99.2,":",84.1,":",80.8,":",78.400000000000006,":",98.6,":",74.400000000000006,":",60.9,":",73.900000000000006,":",69.7,":",143256,":",7569.8,":",34477.1,":",25900.7,":",12461.4,":",36696.199999999997,":",4701.7,":",6048.6,":",9857.7999999999993,":",7328.5,":",19498.3,":",5278.2,":",81.900000000000006,":",80,":",74.3,":",67.7,":",108.8,":",82.1,":",64.2,":",64.3,":",94.8,":",88.1,":",86.3,":",99.4,2.63,13.26,4.1847000000000003]
["1999Q3",1618763.3,40459.599999999999,90.4,84.1,1251877,136093.79999999999,":",82.1,":",89.5,":",88,":",99.8,":",84.7,":",82.6,":",81.2,":",87.2,":",74.099999999999994,":",63.3,":",75.400000000000006,":",72,":",148902.6,":",7391.1,":",35818.9,":",26809.599999999999,":",12308.7,":",38086.199999999997,":",4945.8,":",6259.1,":",9864,":",7649.6,":",19919.400000000001,":",5387.2,":",83.6,":",81.7,":",76.5,":",69.599999999999994,":",106.8,":",83.4,":",65.2,":",75.2,":",95.4,":",88.4,":",86.3,":",98.3,2.7,13.78,4.1681999999999997]
["1999Q4",1641677.5,40508.199999999997,91.1,84.4,1268287.7,140890.9,":",83.8,":",90.1,":",88.2,":",99.5,":",88.5,":",83.1,":",82.6,":",95.9,":",82.2,":",69.5,":",76.099999999999994,":",81.599999999999994,":",154518.20000000001,":",7524.9,":",36926.800000000003,":",27718,":",12655.9,":",39620.1,":",5268.6,":",6502.3,":",10945,":",8255.2000000000007,":",20554.900000000001,":",6120.9,":",85,":",82.6,":",78.7,":",72.2,":",105,":",86.2,":",68.3,":",71.099999999999994,":",95.4,":",87,":",88.2,":",98.5,3.43,18.07,4.3372000000000002]
["2000Q1",1668006.1,44245,91.9,85.7,1289442.8999999999,147068.9,89.2,86,104.1,92,92.8,88.7,96.9,99.6,80.2,87,89.8,84.6,102.9,91.8,85.3,122.7,86.1,80.8,87.3,83.5,85.1,79,86.6,76.900000000000006,1490692.4,159097.4,36070.9,7715.1,324716.59999999998,37574.6,281159.7,27939.3,89153,12239.6,286670.5,41473,67179.5,5371.4,75014.5,8023.8,150872.5,10783.3,142516.79999999999,9987.7000000000007,266283.09999999998,21182.6,52215.1,5701,91.6,85.3,102.4,83,94.8,79.599999999999994,92.7,72.7,95.3,103.3,90.4,88.6,79.2,62.7,94.3,68.5,89.3,95.6,91.6,87.6,93,87.6,94.1,97.4,3.54,17.82,4.0579000000000001]
["2000Q2",1687758.4,45084.800000000003,92.5,85.8,1302987.7,150530.70000000001,89.7,87.2,104.3,88.6,95.8,90.3,97.7,100.8,81,89.2,90.3,87.1,101.7,89.9,84,102.2,87,80.5,88,84.4,85.5,80.400000000000006,87,74.599999999999994,1510832.4,163371.9,35748.5,7492.7,332448.40000000002,38982.300000000003,288424.8,28809.8,89122.7,12897.1,292551.59999999998,42343.4,66385.399999999994,5633.2,74055,8137.4,153785.4,10829.5,145294.6,10274.799999999999,268769.90000000002,21793.8,52670.9,5501.4,92.4,86.3,101.3,83.7,94.1,81.2,94.3,74.099999999999994,94.3,106.2,91.8,87.8,79.2,67.099999999999994,94.5,83.5,90.1,96.4,92.6,89.1,93.4,88.6,94.4,96.8,4.26,18.489999999999998,4.0891999999999999]
["2000Q3",1706020.5,47417.5,92.8,86.3,1317076.8,153879.1,90.2,89.3,105.4,100.9,97,90.3,98.2,100.5,81.900000000000006,90.5,90.9,88.2,101.2,90.3,82.8,114.4,87.7,84.3,88.6,87.7,86.3,83.1,87.8,80.2,1529894.5,167625.20000000001,36231.4,8433.1,337574.1,38797,292870.90000000002,28629.7,90397.8,13212.9,296371.20000000001,43129.7,67013.5,5823.6,73526.7,8008.9,155970.70000000001,11014.7,147275.1,10704.4,272388,22414.799999999999,53146,5945.5,93,86.5,101.6,82.7,94.4,80.8,95.2,73.8,94.6,107.2,92.3,88.4,80.400000000000006,69.099999999999994,95.2,73.400000000000006,90.6,93.5,93.2,89.3,93.8,88.1,94.5,97.3,4.74,19.059999999999999,3.9708000000000001]
["2000Q4",1724588.2,48812.5,93.1,86.9,1330967.5,155643.29999999999,90.6,90,107.6,109.2,98.2,90.4,98.3,100,82.9,90.7,91.7,91,100.9,93.8,81.2,105.8,88.6,82.5,89.2,90.8,86.7,84.3,87.9,80.2,1547528.3,170648.4,36102.1,9329.2999999999993,341979.7,39104.800000000003,297302.09999999998,28732.5,91524.5,13408.1,301282,43601.5,68640.3,6160,72400.600000000006,8715.7000000000007,158155.5,11030.3,149424,11347.3,274574.59999999998,22727.4,53445,5969.4,93.6,87.3,99.2,84.5,94.5,81.400000000000006,96.6,74.5,94.6,108.6,93.1,86.6,82.6,70.3,95.7,86.4,91,95.8,94,91.5,94.2,88.1,94.9,97.7,5.0199999999999996,19.7,3.9157000000000002]
["2001Q1",1752119.4,50978.5,93.9,87.2,1348677.2,157341.20000000001,91.3,90.9,112.7,102.2,96.9,91.1,98.5,98.8,83,91.1,92.3,90.5,101.1,91.8,82.7,101,89,84.8,89.6,90.1,87.5,86.1,88.9,89,1572940,172279.4,37352.6,8883.1,345157.9,39263.599999999999,299825.2,28365.7,92601.1,13251.8,307525.5,44138.9,71678.600000000006,6423.7,72721.2,8089.2,161376.5,11133.5,152463.79999999999,11285.5,277922.40000000002,23604.2,54140.3,6125.3,94.5,87.3,98,86,96.5,81,97.3,74.5,95.5,106.8,94.4,88.2,86,75,94.3,83.9,92.4,94.1,95.4,91.7,94.4,89.6,95.1,90.3,4.74,18.52,3.7738]
["2001Q2",1764661.7,55909,94.3,87.8,1364974,160619.20000000001,91.9,91.9,113.9,109,97.1,90.3,98.8,96.4,83.9,91.3,93.2,91.9,101.5,98,84.3,102.3,89.1,85.8,90.2,95.1,88.1,88.5,89.6,83.1,1583672.9,173721.2,37449.5,9499,343193.5,38771.5,297453.59999999998,27613.599999999999,93758,12938.9,311128,44861.8,73146.3,6741.9,74069.2,7739.1,162108.70000000001,11263.6,152957.29999999999,11731.3,280937,24314.6,54925.599999999999,6011.9,94.5,87.1,97.2,86.2,95.8,80.8,96.1,74.3,95.7,104.1,94.5,88.2,87.5,73.599999999999994,94.2,79.3,92.6,94,95.2,90.3,94.7,89.8,95.7,95,4.59,17.09,3.484]
["2001Q3",1777426.8,52139.199999999997,94.5,88.6,1374565.3,162851.20000000001,92.5,91.6,113.4,98.3,97.5,89.6,99.2,96.1,85,91.3,93.9,93,101.8,96.1,82.2,109.5,90,83.7,91.2,93.3,89.2,89.3,90.5,83.3,1597125.2,174534.2,37720.400000000001,8859,343439.8,38550.1,297122.5,27483.1,95418.5,12580.1,312963.8,45946.2,74546.8,6799.3,72006,7887.6,165053.1,11281.1,155478.79999999999,11464,284742,25106.7,55756.2,6047.9,94.7,87.8,98.4,89.2,95.5,80.900000000000006,95.6,74.2,96.2,101.1,94.3,89.3,88.9,75.7,94,75.5,93.4,96.5,95.7,89.9,94.9,91.8,96.1,95.4,4.2699999999999996,15.36,3.7610999999999999]
["2001Q4",1794030.2,53874.3,94.8,88.8,1386939.4,165374.6,93.3,91.8,111.7,91.7,97.7,89.4,99.1,94.5,85.9,90.4,94.3,93.6,101.9,95.1,89.7,96.9,90.1,90,91.5,91.4,90.2,92.5,91.5,85.9,1613556,175533.4,37764.9,8202.2000000000007,341526.3,38006.199999999997,294059,26809.5,97199.9,12404,314384.40000000002,46438.8,75913.2,6872.4,79984.800000000003,8149.2,165750.70000000001,11337,155061.20000000001,11262.5,289634.8,26032.1,56335.9,6238.8,94.8,88.1,99.9,88.5,94.8,79.900000000000006,94.7,73.5,96.9,100.7,94.4,89.7,90.4,77.400000000000006,95.6,88.2,93.8,90.2,95,90.2,95.4,92,96.1,95.3,3.44,13.38,3.6623000000000001]
["2002Q1",1808634.5,55334.3,95,90,1396436.3,169877.4,93.9,92.2,110,90.3,98.2,90.8,100,95.4,86.6,93.4,95.5,93.6,101.9,98.4,86.5,84.2,91.2,89.2,91.9,95.5,91,92.7,92.5,85.4,1626561.7,176843.7,37161.5,8079.2,342875.9,38680.9,295658.8,27182,97598.1,12582.6,318911.3,46950.7,77761.2,7611.9,77427.3,6740,168585.1,12234.1,155662.20000000001,11322.8,293752.59999999998,26361.1,56826.400000000001,6371.5,95.1,88.4,99.9,88.6,94.7,80.099999999999994,94.4,73.900000000000006,96.6,98.9,94.6,90.6,92.6,82.8,95.9,83.9,94.2,98.2,95,86.8,95.9,93,95.9,98,3.36,10.64,3.6181999999999999]
["2002Q2",1824144.9,54044.9,95.3,90.3,1409032.1,169876.4,94.2,92.4,106.7,83.6,98.5,90.8,100.1,95.6,87.1,92.6,95.7,94.3,101.9,94.9,85.9,108,92.4,88.4,92.2,90.4,91.7,92.9,93,85.4,1640962.3,177731.1,35977.5,7641.2,347170.8,38628.1,298325.8,27165.8,97192.2,12018.6,319866.3,46844.9,78564.600000000006,7694.3,78142.2,7797,172241.2,12312.4,158165.1,11143.7,296528.90000000002,26662,57113.4,6415.1,95.6,88.6,99.7,90.5,95.5,79.900000000000006,95.1,73.7,95.6,95.4,94.6,89.8,93.6,86.8,97.6,75.599999999999994,95,99.7,96.2,90.2,96.1,93.8,95.9,98.6,3.45,9.7899999999999991,3.7168999999999999]
["2002Q3",1844595.3,49756,95.8,90.9,1422880.1,171670.7,94.9,93.1,107.2,96.1,99,91.6,100.4,94.3,88.2,92.6,96.3,92.3,102.1,97.7,88.4,105.8,92.6,89.3,92.9,95.6,92.6,92.7,93.9,86.3,1656580.4,179563,35989.699999999997,8578.4,350061.8,39524.6,300373,27800.3,99056.6,11964.6,322493.90000000002,46891.199999999997,78968.3,7874.9,79900.800000000003,7801.8,172741.6,12491.1,159044.79999999999,11473.8,300644.7,26813.599999999999,57678.2,6443,95.7,88.9,99.2,88.3,95.9,81.099999999999994,95.5,76.400000000000006,96.2,94.9,94.8,91.8,93.9,86.3,97,77.3,95.1,100.1,96,87.8,96.5,94.5,95.9,98,3.36,8.5,4.0810000000000004]
["2002Q4",1857140.3,51224,96.3,91.7,1439156.2,173930.7,95.5,93.2,109,91.5,98.9,92.6,100.1,95.9,89.2,93.7,96.8,92.1,101.5,98.4,92.1,96.4,92.8,91.5,93.4,97,93.7,93.2,94.5,86.8,1669277.3,180975.8,35624.699999999997,8349.2000000000007,349397.1,40582.9,299347.20000000001,28635.7,100154.4,11797.8,326096.90000000002,46945.4,78817.5,8086.1,81859.199999999997,7745.9,174739.5,12623.9,159824.29999999999,11552.4,305038.09999999998,27182.7,57725.7,6512,95.8,89.4,96.7,90.3,95.8,82.4,95.5,77.5,96.2,92.4,95.4,92.1,94.2,88,95.3,84.2,95.9,98.8,96,87.2,96.8,95.3,95.4,98.5,3.11,7.03,3.9969999999999999]
["2003Q1",1864016.2,49263.4,96.4,91.7,1450515.6,173380.6,95.9,93.3,111.1,86.4,98.9,93.1,100.5,95.2,90,91.8,97.3,93.4,100.8,97.9,93.2,112.7,93.2,90.4,94.2,93.3,93.7,92.9,95.5,87.2,1675024.4,182377,35721.300000000003,7848.7,350240.2,41450,300906.40000000002,29170.5,100634.8,11505,326768.2,46689.5,76303.7,8063.6,82771.199999999997,8040,176091.6,12852.2,162189,11563.8,305965.3,27555.7,58339.199999999997,6501.4,95.8,90.1,95,89.9,96,83.7,95.6,79.5,95.8,92.1,95.1,90.3,91.8,88.2,95.2,74.8,96.3,101.8,96.6,90.7,97,96.9,95.4,97.9,2.68,6.37,4.1891999999999996]
["2003Q2",1873745.8,48214.9,96.6,92.8,1459213.3,175634.4,96.4,93.7,112.4,94,98.7,93.9,99.9,96.2,91,91.9,97.9,93.2,101.4,100.9,96.1,86.3,93.3,91.8,94.8,97.9,94.3,93.4,95.9,86,1683886.5,185248.2,35554.699999999997,8527.7999999999993,346693.8,43009.2,296872,30794.799999999999,102712.6,11583.7,329392.7,47267.5,77510.8,8129.9,84768.5,7548.4,177177.60000000001,12966.3,162736.29999999999,11702.3,308776.5,27759,58563.1,6559.3,95.8,91.1,93.5,89.7,95.2,86.1,94.9,83,96.7,92.6,95.3,91.7,92.8,86.3,94.6,91.7,96.8,101.1,96.3,87.5,97.3,97.1,95.3,100.1,2.36,5.55,4.3559999999999999]
["2003Q3",1897870.3,47854.6,97.1,93.8,1477509,177854.9,97.2,93.3,114.7,85,98.6,94.8,99.5,97.2,91.7,91.1,98.2,93.1,101.4,95.7,98.1,85.4,93.7,91.7,95.5,92.1,96.4,94.1,96.4,88.2,1705845.4,187611.7,35743.800000000003,8164.9,348382.8,44726.3,297762.90000000002,32312.799999999999,103871.5,11585.7,332765.90000000002,47315.3,78363.399999999994,8037,86650.8,7568.3,179334.7,13058.6,164800.5,11673.8,316523.59999999998,28222.799999999999,59408.3,6676.4,96.3,92.7,92.1,95,95.8,88.7,95.6,86.2,97.1,93.4,95.9,91.9,93.8,89.9,94.7,92.9,97.5,102,96.8,92.8,97.6,98.1,96.2,99.4,2.14,5.2,4.4244000000000003]
["2003Q4",1915846.3,46424.800000000003,97.4,94.8,1485900.8,180806.9,97.4,93.5,112.3,84.4,98.9,95.8,99.7,97.4,92.7,90.8,99,93.7,101.5,95.9,97.8,101.9,94.7,92.5,95.8,95.7,95.6,93.7,96.5,90.2,1721435.7,190565.7,36468.9,8127.3,352884.6,46726.2,301640.90000000002,33988.1,104570.2,11499.1,337050,48326.7,79206.5,8212.1,88137.600000000006,8259.2000000000007,181548.7,13190.3,166003.20000000001,12038.9,315626,28031.599999999999,59940.1,6772.8,96.9,93.9,96,95.2,96.8,91.7,96.6,90.5,96.6,93,96.4,93.2,94.7,91.7,96.6,85,97.6,102.1,97.2,92.1,98.1,97.8,96.9,98.6,2.15,5.6,4.6231999999999998]
["2004Q1",1934387.8,47240.6,97.7,96.2,1497304.7,184694.6,97.7,94.1,105.4,91.4,98.8,98.5,99.8,99.3,93.7,89.2,99.1,94.9,101.1,101,98.3,97.1,95.7,93.5,96.4,92.8,96.7,93.2,96.8,87.8,1736527.9,194754,37122,9026.4,355978.1,49514.400000000001,303288,35984,106661.3,11236.4,338946.3,49697.7,80592.100000000006,9373.5,89290.3,7861.4,182935.4,13124,165365.1,11910,318995.40000000002,28103.4,60642,6473.7,97.5,95.4,104.1,97.7,97.7,94.5,97.1,93.9,97.6,92.5,96.9,94.6,96.8,99.4,97.4,84.9,97.4,100.5,96.2,93.9,98,98.6,97.7,96.7,2.06,5.44,4.7763]
["2004Q2",1955064.1,48863,98.1,96.9,1515164.1,188668.79999999999,98.2,99.2,104.4,105.2,98.9,100,99.8,100.1,95.3,93.6,99.6,96.4,100.4,98.5,98,107.4,96.5,94.5,97.2,95.5,97.7,95.3,97.1,91.3,1758055.6,207326.3,37465.1,10498.9,359388.6,51413.9,306425.40000000002,37477.5,108543.6,11819.5,342970.5,51162.2,81208.800000000003,9490.1,90277.2,8575.2999999999993,185593.7,13286.7,167402.79999999999,12485.6,324155.3,28514.400000000001,61050.1,6697.3,98.2,96.3,106,98.7,98.5,96.7,98.1,97.1,97.6,92.7,97.5,95.9,98.2,103.2,98.8,83.7,98,100.7,96.6,95.7,98.6,97.8,98.1,96.3,2.08,5.86,4.6877000000000004]
["2004Q3",1971424.6,52641.7,98.4,97.1,1525901.1,191750.8,98.5,99.6,101.5,109.3,99.6,101.5,100.4,101.9,96.1,95.3,99.5,97.9,100,99.6,98.5,97.6,97.9,96.1,97.5,99.3,97.5,95.4,97.9,93.1,1768921.4,208618.9,36577,10740.9,361283.8,52280.1,307475.7,38178.699999999997,109484.8,12128.3,343639.5,51580.2,81396.2,9492.7999999999993,91386.6,8743.1,189105.7,13428,169606.3,12862.4,324396.2,28740.3,62045.4,6848.7,98.5,96.6,106.5,97.2,98.4,96.8,97.8,97.1,97.6,93.4,97.8,95.2,98.8,102,99.5,93.9,98.4,100.1,97.6,94.8,98.9,98.5,99,96.6,2.12,6.68,4.4236000000000004]
["2004Q4",1987286.2,55935.9,98.9,98.2,1542561.6,195480,99,99.7,101.1,110.3,100.2,101.8,101,103.3,97.1,96.4,99.7,99.8,99.9,96.1,98.1,91.8,98.1,96.5,98.3,95.3,98.2,106.2,98.5,96.8,1783210.2,210976.8,36830,10861.8,362494.9,52441.4,308507,38595,111260.2,12668.2,348208.4,52480,81724.2,9359.5,92044.1,9557.1,189444.1,13526.1,170634.9,12803.2,327874.8,32281.4,62694.7,7152.7,98.8,97.5,107.7,97.4,98.1,96.8,97.6,96.9,98.2,96.5,98.9,95,99.3,104.3,100.6,109.1,98.4,100.4,97.3,98.3,99.2,99.4,99.4,97,2.16,6.81,4.2342000000000004]
["2005Q1",2001728.8,59888.2,99.1,98.2,1550755.4,195604.3,99.5,100.4,102.3,106.9,99.7,104.3,100.3,106.3,98.6,103,99.9,100.2,101.1,102.2,99.7,96.4,99.2,98.8,99.4,102,99,99.3,98.9,100.8,1797701.6,213131.3,34600.199999999997,10362.799999999999,363911.5,54100.9,309650.7,39566.300000000003,112668.1,13397.5,349209.9,53861.5,81874.399999999994,9425.5,92719.3,9371.7000000000007,193620.1,13729.5,174726.3,13559.8,331350,29931.9,63021.7,7580.8,99.1,97.8,100,95.9,98.9,97.5,98.6,96.5,97.9,95.5,99,97.2,98.3,98.8,99.7,101.9,99.5,99.5,98.6,97.3,99.5,98.5,99.5,98.7,2.14,6.44,4.0266999999999999]
["2005Q2",2023023.1,58927.4,99.8,99.5,1571090,199295.1,99.8,99.3,99.9,94.8,99.9,95.6,100,93.7,99,97.8,99.9,98.4,100.6,97.7,101,98.1,99.6,99.2,99.8,98.5,99.4,98.5,99.8,97.2,1813856.9,214923.2,33582.9,9567.9,367484.3,50464.800000000003,312163.90000000002,35865.1,115473.5,13402.6,350894.8,54455.5,82184.600000000006,9143.4,93642.7,9525.5,195218.1,13841.1,177328.2,13444.6,334371.5,30295.1,63676.3,7396.3,99.7,99.8,99.4,99.9,99.7,99.2,99.7,99.2,99.9,100.6,99.5,100,99.2,100.2,99.4,101.8,99.8,99.9,99.7,99.9,99.9,100.5,99.6,99.9,2.12,5.49,4.1300999999999997]
["2005Q3",2044188.2,61539.6,100.4,100.6,1590088.1,201994.6,100,99.6,99.2,99.5,100,98.1,99.9,97.3,100.3,99.3,100,100.5,100,99.6,99.8,99.6,100.2,100,100.2,98.4,100,99.6,100.4,99,1829187.2,217680.6,33879.599999999999,10165,369863.9,52437.9,314243.90000000002,37783.199999999997,118020.7,13649.2,354531.4,56024.7,83298.399999999994,9303.2000000000007,92395.199999999997,9612.7000000000007,197052.7,14015.3,179010.8,13552.5,336743.3,30506.799999999999,64391.4,7538,100.3,100.7,100.9,101.1,100.3,100.5,100.5,100.7,100.8,101,100.4,100.7,101.1,100,99.3,101.1,100.1,100.3,100.3,100.8,100.1,100.1,100.1,100,2.13,4.62,4.0186000000000002]
["2005Q4",2071300.3,64139.4,100.7,101.8,1606934.9,205274,100.6,100.1,98.6,96.9,100.4,100.2,99.8,99.3,102,100.1,100.2,100.4,98.4,99.9,99.6,104.8,100.9,101.7,100.7,101.2,101.6,100.2,100.9,101.1,1852140.1,220841,33244.199999999997,10104,373991.1,54769.8,316441.3,39647.199999999997,120680.2,14021,357818.4,56713.7,82233.399999999994,9423.2999999999993,94289.7,9513.4,199224.7,14244.6,182010.7,14103.3,343445.6,30915.4,65202.2,7805.8,101,101.7,99.7,103.2,101,102.8,101.2,103.5,101.4,102.9,101.1,102.1,101.4,101,101.6,95.1,100.6,100.3,101.4,102,100.4,100.9,100.8,101.4,2.34,4.5999999999999996,3.9152]
["2006Q1",2096417.5,66514,101.5,103.2,1624219.7,208260.3,100.8,100.2,99,100.2,100.5,97.7,99.1,94.9,103.9,100.3,100.2,101,98.8,96.1,98.1,108.1,102.7,100.7,100.7,101.2,100.8,101.4,101,85.6,1871218.2,224854.5,32689.3,10541.2,381435.1,55264.4,319773.40000000002,40482.1,122403.1,14217.2,359378.2,57546.3,84539.6,9270.9,94487.6,10256,203323.7,14496.8,184410.6,14303.4,342911.1,31438.7,65640.100000000006,7401.2,101.8,103.4,97.6,104.1,102.9,106.4,103.1,110.6,100.9,104.1,101.5,103,103.8,103.3,103.2,99.4,100.9,103.1,102.7,103.4,101.1,101.3,101.5,113.5,2.61,4.29,3.8346]
["2006Q2",2130582.4,66263.3,102,104.6,1644308.8,212705.5,101.3,101.4,98,96.9,100.9,100.3,99.4,96.5,104.6,101.6,100.6,102.5,97.9,99.5,97,104.7,104,102.3,101.6,103,102.2,102.2,101.4,96.3,1903472.4,229865.5,32733.4,10094.700000000001,387918.5,56975.9,327495.3,41392.1,125985.60000000001,15261.2,364457.8,59223.1,85230.5,9642.7999999999993,96992,10485.9,206562.7,14723,188238.9,14820.7,348732.9,31769.200000000001,66620.3,7697,103,104.5,98.7,103.1,104.3,106.8,105.2,111.2,103.2,110.4,102.6,104.5,105.7,103.8,107.2,104.9,101.2,103.1,104,105.3,101.4,101.6,102.6,104.9,2.89,4.1500000000000004,3.9481999999999999]
["2006Q3",2153791.7000000002,67678.5,102.2,106.1,1653135.3,216524.7,101.7,101.4,99.8,108.7,101.5,97.5,99.8,93.5,105.9,102.3,101.1,102.2,97.3,97.4,95.6,105.6,105.2,103.5,101.8,101.9,102.3,103.9,101.8,98.3,1924981.9,235043.9,33294.199999999997,9899.6,393116,57835.7,331643.09999999998,42378.9,129073.5,16150.1,368642.9,60381,85632.1,9686.7999999999993,97432.8,10993.5,209619.6,14912,190980.9,14992.8,350135.2,32514.6,67054.5,7880.4,103.8,106.8,98.7,90.1,105,111.5,106.2,117.5,104.5,115.9,103.3,106.8,106.8,106.4,109.3,109.2,101.5,103.1,105.2,107.7,101.7,102.3,102.8,105.2,3.22,4.2,3.9537]
["2006Q4",2187743.6,71480.2,103,107.2,1671391.1,219860.3,102.1,102.3,99.9,106,101.8,97.9,99.9,92.9,106.6,105.4,101.2,102.7,96.7,99.9,95.1,104.4,106.6,104.6,102.5,101,102.8,105.6,102.5,106.4,1952703.4,241189.6,33876.199999999997,9478,398176.4,59405.9,337782.9,43718.7,132105.4,17146,374380.3,61574.3,86782.1,9775.2999999999993,97521.8,10677.2,213987.6,15091.1,195458.3,15118.4,352769.3,33414.300000000003,67646.100000000006,8413.5,104.9,108.7,100.3,88.5,106,114.1,108,122,106.2,119.5,104.8,108.4,108.9,104.8,110,107.2,102.2,103.3,107,109.6,102,103.5,103.1,103.8,3.59,4.2,3.8477999999999999]
["2007Q1",2223059.7000000002,72773.600000000006,103.2,108.7,1683029,226070.7,102.8,102.9,96.8,122.7,102.4,98,100.9,93.2,108.2,107.1,102.4,103.6,95.7,98,94.7,108,107.8,108.2,103.6,103.9,103.1,106.4,103.1,104.8,1983181.2,247683.20000000001,34317,11351,403875.4,60348.800000000003,343302,44775.4,134181,17930.400000000001,380810.8,62502.7,87700.7,9985.2999999999993,98854.1,13096.8,217622.2,15262.9,200984.1,16185.6,356015.5,33984.9,68820.3,8157.6,105.8,110.9,104.8,91.6,106.9,115.8,108.7,124.6,106.2,123,105.3,109.1,111.3,109.1,112,127.1,102.8,101,108.9,114,102.6,104.4,104.1,102.2,3.82,4.21,3.8862999999999999]
["2007Q2",2246733.7000000002,76277.100000000006,103.8,109.7,1703781,229697.1,103.5,104.4,98.5,119,103.1,97.8,101.7,92.3,109.3,113.4,102.8,104.8,95.6,98.9,94.8,99.3,109.3,109.4,104.2,104,103.7,109,103.7,106.4,2007404.5,253667.4,34973.1,10882,410378,62264.1,348490.8,45632.1,134579.1,18504.8,385506.6,63520.6,89015.3,10247.9,99924.4,13114.8,220908.1,15473.7,203826.4,16463,359178.4,34778.9,69115.199999999997,8223.2000000000007,106.4,112,104.9,90.5,107.9,119.7,109.5,128.19999999999999,105.5,119.8,106.2,109.5,113,110.9,113,138.4,103,101.3,109.7,115.9,102.9,104.3,104,101.5,4.0599999999999996,4.42,3.8005]
["2007Q3",2271416.7000000002,78647.7,104.3,110.6,1720576.7,232666.9,104,106,104.2,122.5,102.9,98.6,101.5,92.7,110.5,116.1,103.3,107.3,95.9,100.5,94.1,105.1,110.7,111.6,104.6,103.9,104.6,111.2,104.4,109.4,2031201,260389.4,36831.800000000003,10969.7,413336.4,63908.800000000003,350604.6,47205.7,135797.9,19407.8,389072.7,65514,89836.9,10485.9,102349.8,13963.2,224485.9,15731.8,206671.6,16922.3,362994.4,35425.300000000003,69823.8,8449.2000000000007,107.1,113.1,104.5,88.6,108.9,121.9,110.3,132.1,105.3,122.8,106.7,110.3,113.7,111.7,116.6,139.19999999999999,103.3,101,110.8,119.2,103.1,104.1,104.4,101.4,4.5,4.92,3.79]
["2007Q4",2293646.5,83600.600000000006,104.7,111.1,1746577.9,234696.5,104.7,106.7,105.1,125.3,103.3,96.5,101.6,90.1,111.3,118.3,103.6,108,96.5,100,92.6,105.4,111.9,113.1,105.3,105.3,106.4,114,104.7,103.7,2054685,266672.7,37249.4,11098.2,416640.3,64545.5,350914.8,47802,137220.79999999999,20409.5,393527.2,67550.600000000006,91880.3,10530.3,101251.7,14415.5,227285.6,15994.9,208812.4,17347.400000000001,370352.7,36170.9,70464.600000000006,8709.2999999999993,107.7,115.2,104.8,87.7,109.4,125.7,110.3,137.6,105.6,126.7,107.6,113.1,115.6,112.7,117.3,143.4,103.5,101.3,111.3,120.6,103.4,103.7,105,110.3,4.7300000000000004,5.39,3.6583999999999999]
["2008Q1",2315099,87354.1,104.9,115.1,1759555.5,249749.3,105.2,107,102.5,115,104.3,96.8,102.1,90.2,113.1,120.4,104.1,107.5,95,102,90.8,102.7,113,116.2,106.8,104.7,106.2,117.1,106.2,105.5,2076577.9,272651.59999999998,36948.6,10132.700000000001,416718.5,66103,350044.5,48995.1,141735,20613.7,400270.7,68823.100000000006,91534.7,11211.5,99580.9,14923.2,231065.1,16386.3,213593.2,17852.599999999999,373192.1,37269.4,71939.100000000006,9064.4,108.3,117.4,106.5,87.2,108.3,128.4,109.5,140.80000000000001,107.4,125.7,108.9,115.8,116.9,117.7,117.5,152.4,104.2,101,112.2,124.7,104.5,104.1,105.7,112.8,4.4800000000000004,5.8,3.5758999999999999]
["2008Q2",2321936,93196.3,105,116.4,1779702.1,253590.9,106,108.6,99.7,120.9,105.4,99.8,103.2,92.3,115,119.5,105,108,94.7,100.4,89.3,111.9,114,119.9,107.3,108.7,107.8,119.1,106.5,107.9,2085774.7,278958.59999999998,36045.800000000003,10542.6,418412.7,68262.8,350396.1,50651.7,140936.5,21329,399432.3,69061.399999999994,91553.2,11176.2,97184,15164.8,233647.6,16757.2,215826.5,18737,380221.3,38475.9,72514.899999999994,9262.4,107.9,118.4,106.9,86.3,107.6,128.6,108.4,142.30000000000001,105,131,107.8,115.5,117.3,119.1,116.7,142,104.4,100.1,112.8,126.1,104.8,105.6,106.2,112.7,4.8600000000000003,6.43,3.407]
["2008Q3",2314757.6,97103.7,104.9,117,1784560,256542.6,106.2,109.9,96.6,111.7,105.9,102.6,103.1,95,116.9,121.8,105.6,110.7,94.5,102.5,90,88,113.9,122.1,107.6,109.8,107.3,121.2,107,109.4,2077206.3,283695.8,34966.300000000003,9975.5,412207.6,69431.899999999994,342547.20000000001,51479.9,141198.70000000001,21790.6,397746.8,70333.7,91892,11641.5,97167.1,14057.9,233863,17079.400000000001,215152.3,19392.5,380402.6,39544,72609.899999999994,9437.2000000000007,107.2,119,107,88.3,105.6,127.2,106.1,140.6,103.5,131.30000000000001,106.7,114.9,118,121.6,115.8,167.4,104.6,100.2,112.2,129.30000000000001,105.3,106.6,106,113.3,4.9800000000000004,6.57,3.3081]
["2008Q4",2284887.9,85896.4,104.8,118.1,1779234.2,261591.3,106.8,109.1,92.2,113.1,106.7,98.2,103.1,87.8,117,121,106.5,111.5,95.2,102.7,90.2,91.4,113.2,125.6,108.5,113.2,108.4,121.1,107.3,110.7,2052067,281551.8,33673.4,10487.1,393655.2,65530.7,322703.40000000002,46933.599999999999,138187,21849.1,391989.5,70732.100000000006,91700.1,11928,98279.6,14876.7,232273.6,17437.099999999999,213501,20399.7,386069.9,40006.199999999997,72737.8,9566.9,105.4,118.9,107.9,91.7,100,125.5,100,138.6,101.2,132.6,104.2,114.7,116.9,124.3,116.8,170.6,104.5,99.4,110.3,131.9,105.8,108,105.8,113.4,4.21,6.64,3.7658]
["2009Q1",2222477,73323.399999999994,104.6,118.7,1767898.1,264482.09999999998,107.1,113.5,87,109.7,108.2,109.1,105.2,100.5,117.7,123.4,106.7,113.9,93.6,106.7,93.7,92.3,109.9,117.5,109.1,114.8,109.7,122.6,108.6,112.2,1998396,292945.90000000002,31772.2,10342.6,362779.2,72185.2,292420.3,53612.6,136417.1,24167.599999999999,382136.7,73778.399999999994,92209,12003.2,102782,12340.3,225040,16520.5,202033.4,20816.400000000001,390029.6,40854.800000000003,73196.800000000003,9609.7000000000007,102.3,119,108,93.3,90.9,124.4,88.7,138.4,99.3,143.80000000000001,101.5,117.1,119.6,120.5,117.6,140.19999999999999,104.4,100.6,103.9,132.69999999999999,105.7,109,105.2,112.5,2.0099999999999998,4.83,4.4988000000000001]
["2009Q2",2219893.4,74563,104.8,118.4,1776241.7,264814.7,107.3,113.7,84.6,109.9,108.1,107.3,105.7,96.9,117.9,123.4,106.9,116.6,93.5,103.5,95.2,94.9,109.6,116.8,109.3,112,110.3,124.9,109.2,113.6,1997261.9,296081,30889.200000000001,10694.1,359591,72445.8,292898.2,53603.4,133642.5,23870.9,381540,75651.7,92195.1,12019.5,104073.4,10982.8,225634.4,16736.7,201187.4,20768.400000000001,394774.7,41679.199999999997,73734.2,9739.2000000000007,102.1,120,108,96.3,90.2,126.9,88.5,143.4,97.2,142,101.1,117.3,119.7,124.4,117.2,121.3,104.9,102.6,103.3,135.69999999999999,106.4,109.1,105.4,112.5,1.31,4.4400000000000004,4.4523000000000001]
["2009Q3",2230881.7999999998,80389.3,105,119.1,1784173.1,269234.09999999998,107.5,114,82.2,109.4,107.9,106,105.7,94,118.3,119.6,107.2,116.5,93.7,100.8,97.7,130.6,109.7,116.9,109.5,114.1,110.4,125.6,109.3,115.9,2010237,299664.3,30343.599999999999,10591.8,367712.3,73553.8,299509,53717.5,131193.29999999999,24036.1,383793.9,77185.100000000006,92308.9,12049,106857.4,11698.8,226232.8,16950.5,201398,21174.3,396643.1,42467.6,73753.8,9886.6,102.5,121.1,109.1,95.8,92.4,130.5,90.5,148.1,95,147.5,101.4,119.8,119.6,127.9,117.3,93.9,105.1,103.9,103.1,135.80000000000001,106.8,110.5,105.3,112,0.87,4.2,4.1978]
["2009Q4",2245612.6,81957,105.5,120,1797126.6,271618.8,107.6,114.5,84.9,115.1,107.6,104.8,105.6,91.2,118.9,122.2,106.8,119.3,93.9,100.3,98.8,119.2,109.3,116.7,109.4,114.4,110.8,129.9,109.5,117.3,2019575,303348.40000000002,31040.7,11044.7,372762.8,74331,303800.8,53345,128611.5,24550.400000000001,384649.1,78995.399999999994,93155.9,12135.3,107346.2,11735.3,225893.8,17141.7,201701.9,21411.9,400166.40000000002,43287.5,74246.7,9888.7000000000007,103,122.1,108.1,94.9,93.9,133.4,91.9,151.69999999999999,92.7,147.5,102,119.7,120.3,129.5,116.5,103.2,105.3,105.2,103.4,137,107.3,109,105.8,110.7,0.72,4.2,4.1745000000000001]
["2010Q1",2258651.7000000002,86182.6,105.5,121.3,1803837,276238.3,107.5,111.9,89.7,120.8,106.2,92.5,103.9,76.3,117.3,120.1,107.2,119,93.1,97.1,98.3,118.7,110.7,115.1,108.8,114.1,111,129.4,110.2,119.9,2029361.1,300040.59999999998,32017.599999999999,11366.4,382481.7,67100.800000000003,313825.90000000002,45656.3,125344.9,24245.4,381927.8,79760.100000000006,92580.7,11545.1,109195.9,12534.9,227203.1,17326.5,203105.1,21323.4,401026.3,43691.5,74478,9834.2000000000007,103.6,123.5,105.5,93.1,97.7,136.5,96.4,155.19999999999999,91.6,148.30000000000001,100.9,121.1,120.7,127.3,119.1,110.7,104.5,107.8,104.7,136.80000000000001,107.3,110.4,105.5,107.7,0.66,4.18,3.9868999999999999]
["2010Q2",2285681.1,87544.8,105.7,122.2,1816175.1,281053.59999999998,107.7,115.2,93.6,124.2,106.6,104.5,104.1,89.8,117.2,119,106.8,119.7,92.3,101.2,99.8,121,110.9,115.7,108.9,114.2,111.4,130.9,110.5,120.2,2049045.9,310527.59999999998,33155.599999999999,11551.5,393269,76166.3,323845.8,53630.3,125823.9,24763.3,383831.8,80834.899999999994,92122.2,11946.6,109431.4,12827.9,227645.7,17382.400000000001,205073.8,21329.5,403624.7,43812.9,75067.8,9890.5,104.4,124.2,104.7,92,100.1,137.1,99.4,154.80000000000001,92,152.9,101.8,122,121.1,126.4,117.5,111.2,104.5,107.6,105.7,136.69999999999999,107.7,109.4,106,108,0.69,3.8,4.0171000000000001]
["2010Q3",2300524.1,88951.7,106,123.8,1826506.2,287680.3,108,116,98.8,124.6,106,103.4,103.1,88.5,117.7,121.9,107.3,118.9,92.5,101.7,101.7,117.6,111.9,117.2,109.4,114.8,111,131.1,110.9,119.5,2062137.8,314963.59999999998,35042,11431.5,395476.5,76602.8,324932,53788.7,124113.7,25632.5,388965.7,81320.7,92750.2,11800.6,109915.4,15393.9,230163.7,17513.099999999999,207733.5,21420.1,402896.4,43971.9,75080.899999999994,9820.6,104.7,125.1,104.8,90.7,101.1,139.30000000000001,100.6,157.6,90.4,154.5,102.6,123.7,121.7,124.2,115.9,137.30000000000001,104.8,107,106.5,136.6,107.9,109.6,105.7,107.9,0.87,3.83,4.0087000000000002]
["2010Q4",2314800,91398.2,106.3,124.1,1840772.4,291377.3,108.2,116.3,101.1,128.4,106.3,105.3,103.7,89.6,118.3,119.4,107.5,116.7,91.4,101.5,100.6,118.8,112.6,117.1,109.7,114.6,111.3,131.80000000000001,111.2,120.1,2077644.9,319547.2,36085.599999999999,11809.5,403732.2,78417.3,332886.8,54945.3,122056.3,26384.799999999999,391488.1,82542.100000000006,92411.6,11827.5,109703.3,14155.1,232462.1,17778.7,209743.4,21654,404464.7,44289.7,75497.7,9874.1,105.3,126.6,105.5,91,103,140,102.5,159,88.4,162.30000000000001,103.1,127.9,122.7,124.8,117,124.9,105.2,108.7,107.3,138.30000000000001,108,109.8,106,108,1.02,3.87,3.9666000000000001]
["2011Q1",2343422.2999999998,94152.7,106.4,124.6,1853581.7,296309.2,108.4,117,99.6,139.69999999999999,106.6,103.5,103.4,87.7,119.2,119.4,107.4,124.8,90.7,99.9,97.5,118.5,114,118.9,109.7,116.4,111.9,133.19999999999999,112.6,121.2,2098979.9,325151.8,35176.9,13067.1,408255.7,79116.5,339270.1,54837.599999999999,125993.2,27094.6,393078.7,83735,93302.6,12149.3,109080.6,14878.6,238086.2,18189.900000000001,211949.8,22447.599999999999,407536,44885,76520.5,9948.7999999999993,106.2,128,104.4,92.5,103.9,143.69999999999999,104.8,162.1,90.6,166.6,103.7,121.3,124.8,130.19999999999999,120,131.6,106.4,109.6,108.4,141.19999999999999,108.3,110.1,106.1,107.7,1.0900000000000001,4.0999999999999996,3.9460000000000002]
["2011Q2",2352750.4,95386.8,106,125.1,1857665.8,299995.5,108.6,117.3,99.6,139.80000000000001,106.9,101.8,103.8,85.6,119.4,118.4,107.7,123.6,90.1,100,98.7,122.1,114.5,120.7,110,117,111.8,134.6,112.7,122.3,2107128.2000000002,331494.3,35480.9,13117,409952.5,80793,340487.9,56254.6,124561,27763.4,395280.2,84702.7,93026.9,12169.2,109647.6,16291.5,240096.7,18510.2,213398.39999999999,22827.5,409084.9,45439.4,76599,9973.4,106.4,130.19999999999999,105.3,92.8,104,149.19999999999999,104.8,170.3,89.4,172.2,103.9,123.9,125.3,130.30000000000001,119.1,139.80000000000001,106.9,109.8,108.8,142.80000000000001,108.7,110.3,106.1,107.1,1.41,4.43,3.9596]
["2011Q3",2360507.5,92483.6,106.1,125.3,1863579.7,303576.7,109,118.2,98,145.30000000000001,107.3,103.1,103.8,86.5,120.5,116.8,108.4,125,90,97.9,99.1,118.2,115,121.2,110.5,117.2,111.7,136.1,113,123.6,2116958.4,337985.9,35072.6,13722.7,411337.7,82018.399999999994,341007.2,57103.5,124422.7,28190.1,398689.5,86689,93721.1,12438.3,110273.8,14904.7,241926.3,18984.2,215104.9,23459.3,409600.4,46041.2,76809.399999999994,10186.5,106.5,131.69999999999999,105.8,93.5,103.9,149.5,104.9,171.2,88.5,177.3,104.1,125.4,126.3,136,119.3,132.1,107.2,112.1,109.2,146.5,109,110.6,106.1,108.2,1.56,4.72,4.1527000000000003]
["2011Q4",2362435.2999999998,88732.9,105.7,125.8,1867867.6,309197.90000000002,109.5,119.6,98.7,152.19999999999999,107.8,108.1,104.2,94.1,121.6,115.6,109.1,126.6,89.2,99.2,99.8,137.19999999999999,115.5,123,111.4,118.6,111.9,136.9,113.6,124.3,2122154.7999999998,344767.1,35369.5,14377.6,408230,88945.2,338147.4,63798.5,125351.9,27491.3,399648.1,89358.3,93552.4,12865.5,110461,13026,243780.7,19385,217388.6,24060.3,410743.2,46659.1,77629.5,10368.200000000001,106.3,132.9,106,93.5,102.6,154.69999999999999,103.6,175.9,88.3,174.6,103.7,127.5,127.3,138.9,118.7,99.5,107.5,112.8,109.5,148.5,109.1,111.4,106.7,109.5,1.5,4.91,4.4207000000000001]
["2012Q1",2369361.4,93276.9,105.4,126.3,1871872.8,313536.3,109.6,121.1,103.3,144.69999999999999,107.5,104.3,103.8,87.7,122.2,115.7,108.9,129.30000000000001,89.1,98.4,99.1,135.1,115.4,125.7,111.2,117.3,113,137.5,114.1,125.1,2123065.4,349201.5,35705,13334,408614.8,85736.5,337464.9,60025.3,124249.2,27345.599999999999,399128.1,91360.6,93088.6,13248,109141.1,15859.1,243257.4,19675.099999999999,218190.2,24006,413609.1,46554.9,78081.899999999994,10502,106.2,132.9,102.2,91.2,103.1,154.5,103.9,177.6,87.2,173.5,103.8,127.7,126.7,144.19999999999999,118,123,107.4,112.1,110.1,149.80000000000001,108.8,110.7,106.8,110.2,1.04,4.97,4.2328999999999999]
["2012Q2",2370524.9,93552.6,104.9,126.2,1871326.6,316063.40000000002,110,122.1,104.2,150.5,108,107.2,104.1,91.3,122.8,117.2,109.5,131.80000000000001,88.7,96.3,98.3,130.5,115.8,127.3,111.7,120.2,113.4,137.6,114.5,126.2,2126136.7000000002,353097.5,35413,13660.3,409789.9,86196.4,336512.2,60430.5,123403.6,27752,399637,93317.7,92617.3,13231.7,108910.7,16483,244307.8,20141.599999999999,218298,24840.6,415831.1,47031.199999999997,77928.5,10652.8,106,133.19999999999999,100.5,89.8,102.9,151.19999999999999,103.3,171.7,86.1,173.9,103.4,128,126.8,147.1,118.8,132.4,107.5,113.3,109.6,151.30000000000001,109,111.7,106.2,110.8,0.7,5.04,4.2595000000000001]
["2012Q3",2373339.5,96828.1,104.7,126.6,1871757.7,316569.3,110.3,122.5,107.7,156.4,108.5,107.8,104.1,92.3,123.1,116.5,110.2,132.6,88.1,97,96.8,122.2,116,128.1,112.1,121.2,113.3,139.19999999999999,115.5,127.5,2129729.9,355487.1,36114.300000000003,14253.4,412642.6,87808.8,337785.59999999998,61734.5,122337.8,25676.1,399904.3,95025.8,92295.2,13345,107163.7,14994.4,245477.3,20441.599999999999,219719.6,25265.8,415622.3,47826.2,78452.800000000003,10808.3,105.9,133.69999999999999,99.2,90.2,103.1,153.19999999999999,103.6,173.4,85.1,161.9,102.7,129.5,127.2,147.30000000000001,118.7,128.6,107.8,114.3,109.9,152.6,109,112.3,106,111.3,0.36,5.0599999999999996,4.1365999999999996]
["2012Q4",2370430,97664.5,104.3,126.5,1871795.4,317982.59999999998,110.7,122.7,108.7,155.80000000000001,109.7,107,105,90.7,123.8,116.5,111.5,133.4,87.6,93.4,96.5,126.4,116.4,129.9,112.6,120.9,112.5,140.19999999999999,115.9,128.1,2126857.1,356832.1,36400.699999999997,14082.2,409168.7,87792.4,334273.90000000002,61907.199999999997,120932.8,25319.4,401394.6,95258.8,91204.2,12916.1,107843.7,16931.900000000001,247382.8,20720.900000000001,219782.3,25403.599999999999,413958.1,48574.3,78789.100000000006,10889.1,105.4,134,99,89.4,101.2,154.30000000000001,101.6,177.1,83.7,159.5,102,129,126.4,148,119.9,140.4,108.3,114.2,109.5,153.80000000000001,109.3,113.3,106.1,111.6,0.2,4.57,4.1123000000000003]
["2013Q1",2379868.2999999998,96999.1,104.2,126.9,1879322,317998.5,111.3,123.4,106.7,155.1,109.9,108.4,105.1,93.1,124.3,116.7,111.5,134.19999999999999,86.7,93.3,98.6,120.3,117,130.5,112.5,122.5,114.6,142.6,116.7,128.69999999999999,2134856,358823.5,35861.9,13953,411183.8,88538.7,334581.90000000002,62391.3,119919.8,23990.1,400851.5,96394.8,90153.4,13055.1,108759.6,14858.3,248653.5,21038.5,220501.1,25658.1,419889.8,49696.800000000003,79081.600000000006,10932.5,105.2,134,99.4,89,101.4,153.5,101.6,173.8,82.6,150.9,101.8,129.9,126.1,149.80000000000001,118.3,129.4,108.2,115.4,109.9,153.30000000000001,108.9,113.9,105.8,111.5,0.21,3.77,4.1558000000000002]
["2013Q2",2395048.1,96875.5,104.3,127.7,1883741.6,321181.7,111.5,123,107.1,156.6,110.2,106.1,105.4,91,124.2,113.9,111.5,135.19999999999999,86.3,89.3,100.5,121,117.4,130.1,112.8,122.8,114.5,142.6,117.4,129.80000000000001,2145125.2000000002,361060,36059.199999999997,14132.3,414313,89524.5,338219.7,63594.2,118707.5,23107.5,403233.2,98010.4,89907.7,12824.4,110488.6,14691.5,249687.3,21186.6,223027,26188.9,420146.7,50052.4,79555.100000000006,11072.6,105.5,135.19999999999999,99.6,89.3,102,158.6,102.5,181.3,81.900000000000006,149,102.4,131.1,126.4,153.69999999999999,117.9,127.3,108.3,116.6,110.9,156.1,109,114.7,105.8,112,0.21,2.95,4.1981999999999999]
["2013Q3",2400180.5,96809.8,104.5,128.1,1892695.8,323982.90000000002,111.7,123.3,105.1,155.4,110.2,105.5,105.2,90.7,124.3,113.6,112,135.69999999999999,85.8,87.4,99.7,130.5,117.8,131.69999999999999,113.4,124.6,114.8,142.80000000000001,118.8,130.30000000000001,2152291.1,364428.9,35422.800000000003,13796.5,414717.8,89876.5,337718.2,64427.4,119024.3,23882.2,405842.3,99878.6,88671.3,12427.2,110234.2,15920,251233.3,21455.4,224933.1,26466,421608.3,49823.9,80603.8,11138.9,105.6,136.19999999999999,99.7,87.9,102.1,160.19999999999999,102.5,184.1,82,154.30000000000001,102.7,133,125.4,152.19999999999999,118.6,127.8,108.7,116.7,111.3,155.4,109.1,114,105.9,112.2,0.22,2.7,4.2477]
["2013Q4",2409726.7999999998,99188.2,104.5,129.19999999999999,1893006.9,326459.40000000002,111.9,123.5,104.6,157.30000000000001,110.6,106.5,105.6,92.2,124.9,113.6,112,137.69999999999999,85.5,85.8,99.8,122.1,118.3,132,113.6,124.9,114.6,141.5,119.2,131,2163342.9,368011.8,35696.300000000003,13942.5,418992.3,91011.8,342190.5,65799.399999999994,119691.3,23949.9,407441.4,101588.4,88579,12419.8,109943.2,16416.7,253240.8,21652.3,226113.9,26671,422747.2,49577.9,80897.600000000006,11236.7,106.1,137.30000000000001,100.9,87.7,102.7,160.6,103.5,185.1,82.1,154.80000000000001,103,133.30000000000001,125.8,154.9,118.1,140.9,109.1,117.5,111.6,156.30000000000001,109.7,114.5,105.9,112.6,0.24,2.66,4.1852999999999998]
["2014Q1",2423916.7999999998,100617.4,104.8,129.69999999999999,1904369.7,327956.09999999998,112.2,123.4,104,159.1,110.4,106,105.8,90.7,125,112.5,111.9,138.19999999999999,85.3,83.5,101.7,130.5,118.6,132.69999999999999,113.6,125.7,115.6,140.19999999999999,120,131.9,2172117.7999999998,371902.9,36112.400000000001,14183.9,416915.8,92540.6,344204.7,67474.2,120160.3,24692.2,408563.5,103207.9,88536.9,11734.3,112885.1,16859.7,253694.2,21785.4,226516,27042.1,427071.3,49167.5,81662.5,11367.8,106.2,138.80000000000001,102.6,88.2,102.4,164.2,103.9,192.8,82.4,161.1,103.4,135,125.9,150.5,119,135.5,109,117.6,111.9,157.5,109.8,114.6,106.2,113.1,0.3,2.71,4.1843000000000004]
["2014Q2",2428123.2000000002,101863.1,105.1,130.5,1910604.4,329419.5,112.3,124.2,104.3,157.9,110.5,107.6,105.9,91.9,125.3,113.3,111.8,138.30000000000001,85,82,102,131.80000000000001,118.6,134.30000000000001,114.1,126.7,115.6,139.30000000000001,120.3,132.30000000000001,2172006.9,375617.2,35777.9,14045.1,418190.3,93677.2,343357.8,68660.5,118254.2,24889.8,408569.7,104394.8,88056.6,11518.9,112848.6,17260.900000000001,254459.7,22176.6,227531.3,27298,426746.4,49075.9,81572.3,11390.5,106.1,139.30000000000001,101.4,88,102.6,163.69999999999999,103.5,193.7,80.900000000000006,161.4,103.5,136.5,125.8,150.4,118.6,137.30000000000001,109.3,118.2,111.9,157.69999999999999,109.7,115.1,105.8,113,0.3,2.71,4.1665000000000001]
["2014Q3",null,null,null,null,null,null,null,null,null,null,null,null,null,null,null,null,null,null,null,null,null,null,null,null,null,null,null,null,null,null,null,null,null,null,null,null,null,null,null,null,null,null,null,null,null,null,null,null,null,null,null,null,null,null,null,null,null,null,null,null,null,null,null,null,null,null,null,null,null,null,null,null,null,null,null,null,null,null,0.17,2.59,4.1746999999999996]
["2014Q4",null,null,null,null,null,null,null,null,null,null,null,null,null,null,null,null,null,null,null,null,null,null,null,null,null,null,null,null,null,null,null,null,null,null,null,null,null,null,null,null,null,null,null,null,null,null,null,null,null,null,null,null,null,null,null,null,null,null,null,null,null,null,null,null,null,null,null,null,null,null,null,null,null,null,null,null,null,null,":",2.0499999999999998,4.2111999999999998]

{"sheet":"pomocniczo_do_kalibracji_alfy","index":1,"n_rows":210,"n_cols":14,"rows_kept":210,"cut":false,"hidden":false,"merged":[]}
[]
[null,"http://appsso.eurostat.ec.europa.eu/nui/show.do?query=BOOKMARK_DS-337919_QID_-3878284D_UID_-3F171EB0&layout=STK_FLOW,L,X,0;BEC,L,X,1;TIME,C,Y,0;INDIC_ET,L,Z,0;PARTNER,L,Z,1;GEO,L,Z,2;INDICATORS,C,Z,3;&zSelection=DS-337919INDICATORS,OBS_FLAG;DS-337919GEO,PL;DS-337919INDIC_ET,TRD_VAL_SWDA;DS-337919PARTNER,EA17;&rankName1=PARTNER_1_2_-1_2&rankName2=INDIC-ET_1_2_-1_2&rankName3=INDICATORS_1_2_-1_2&rankName4=GEO_1_2_1_0&rankName5=STK-FLOW_1_2_0_0&rankName6=BEC_1_2_1_0&rankName7=TIME_1_0_0_1&sortR=ASC_-1_FIRST&rStp=&cStp=&rDCh=&cDCh=&rDM=true&cDM=true&footnes=false&empty=false&wai=false&time_mode=ROLLING&time_most_recent=false&lang=EN&cfo=%23%23%23%2C%23%23%23.%23%23%23"]
[]
[null,"Member States (EU28) trade by BEC product group since 1999 [ext_st_28msbec]"]
[]
[null,"Last update","2015-02-18T13:49:04"]
[null,"Extracted on","2015-03-16T13:08:05.617"]
[null,"Source of data","Eurostat"]
[]
[null,"INDIC_ET","Seasonally and working day adjusted trade value in million ECU/EURO"]
[null,"PARTNER","Euro area (17 countries)"]
[null,"GEO","Poland"]
[null,null,null,null,null,null,"Sumy kwartalne"]
[null,"STK_FLOW","Imports","Exports",null,null,"PL_to_EA","EA_to_PL",null,null,"GDP_EUR_PL","GDP_EUR_EA","alpha","alpha_f"]
[null,"TIME/BEC","Total - All products","Total - All products"]
[null,"1999M01",1827.3,1212.3,null,{"$f":"Eurostat!A20","v":"1999Q1"},3747.1000000000004,5653.4,1,1,{"$f":"Eurostat!C20","v":36982.699999999997},{"$f":"Eurostat!B20","v":1581929.8},{"$f":"H16/K16","v":0.15286606981101974},{"$f":"G16/L16","v":2.3686891795072071E-3}]
[null,"1999M02",1847.2,1237,null,{"$f":"Eurostat!A21","v":"1999Q2"},3956.2999999999997,5933.6,1,4,{"$f":"Eurostat!C21","v":38840.1},{"$f":"Eurostat!B21","v":1597384.5},{"$f":"H17/K17","v":0.15276994652433956},{"$f":"G17/L17","v":2.4767361896900837E-3}]
[null,"1999M03",1978.9,1297.8,null,{"$f":"Eurostat!A22","v":"1999Q3"},4129.7999999999993,6291.9,1,7,{"$f":"Eurostat!C22","v":40459.599999999999},{"$f":"Eurostat!B22","v":1618763.3},0.15551068226082315,2.5512068379608057E-3]
[null,"1999M04",1950.2,1264.5999999999999,null,{"$f":"Eurostat!A23","v":"1999Q4"},4428.6000000000004,6676.4000000000005,1,10,{"$f":"Eurostat!C23","v":40508.199999999997},{"$f":"Eurostat!B23","v":1641677.5},0.16481601256041989,2.6976065640175982E-3]
[null,"1999M05",1939.8,1364.1,null,{"$f":"Eurostat!A24","v":"2000Q1"},4738.3999999999996,6873.1,1,13,{"$f":"Eurostat!C24","v":44245},{"$f":"Eurostat!B24","v":1668006.1},0.15534184653633179,2.8407569972316044E-3]
[null,"1999M06",2043.6,1327.6,null,{"$f":"Eurostat!A25","v":"2000Q2"},5092.6000000000004,7156.5999999999995,1,16,{"$f":"Eurostat!C25","v":45084.800000000003},{"$f":"Eurostat!B25","v":1687758.4},0.15873642558023987,3.0173749986964963E-3]
[null,"1999M07",2041.8,1331.5,null,{"$f":"Eurostat!A26","v":"2000Q3"},5659.7999999999993,7303.2999999999993,1,19,{"$f":"Eurostat!C26","v":47417.5},{"$f":"Eurostat!B26","v":1706020.5},0.15402119470659564,3.317545129147041E-3]
[null,"1999M08",2104.9,1409.2,null,{"$f":"Eurostat!A27","v":"2000Q4"},5950.2,7462.9,1,22,{"$f":"Eurostat!C27","v":48812.5},{"$f":"Eurostat!B27","v":1724588.2},0.15288911651728551,3.4502149556630388E-3]
[null,"1999M09",2145.1999999999998,1389.1,null,{"$f":"Eurostat!A28","v":"2001Q1"},6205.0000000000009,7653.6,1,25,{"$f":"Eurostat!C28","v":50978.5},{"$f":"Eurostat!B28","v":1752119.4},0.15013387996900654,3.5414253161057409E-3]
[null,"1999M10",2102.6999999999998,1420,null,{"$f":"Eurostat!A29","v":"2001Q2"},6151,7705.2000000000007,1,28,{"$f":"Eurostat!C29","v":55909},{"$f":"Eurostat!B29","v":1764661.7},0.13781680945822677,3.4856539358223732E-3]
[null,"1999M11",2271.9,1439.2,null,{"$f":"Eurostat!A30","v":"2001Q3"},6155,7769.2,1,31,{"$f":"Eurostat!C30","v":52139.199999999997},{"$f":"Eurostat!B30","v":1777426.8},0.14900880719305246,3.4628711573382372E-3]
[null,"1999M12",2301.8000000000002,1569.4,null,{"$f":"Eurostat!A31","v":"2001Q4"},6092.1,7710.2999999999993,1,34,{"$f":"Eurostat!C31","v":53874.3},{"$f":"Eurostat!B31","v":1794030.2},0.1431164766874001,3.39576223410286E-3]
[null,"2000M01",2219.5,1542.7,null,{"$f":"Eurostat!A32","v":"2002Q1"},6312.8,7983.8,1,37,{"$f":"Eurostat!C32","v":55334.3},{"$f":"Eurostat!B32","v":1808634.5},0.1442830215616715,3.4903680096780194E-3]
[null,"2000M02",2354.6,1579.1,null,{"$f":"Eurostat!A33","v":"2002Q2"},6343.0999999999995,8178.1,1,40,{"$f":"Eurostat!C33","v":54044.9},{"$f":"Eurostat!B33","v":1824144.9},0.15132047612263136,3.4773005148878247E-3]
[null,"2000M03",2299,1616.6,null,{"$f":"Eurostat!A34","v":"2002Q3"},6584.2,8118,1,43,{"$f":"Eurostat!C34","v":49756},{"$f":"Eurostat!B34","v":1844595.3},0.16315620226706326,3.5694550452340409E-3]
[null,"2000M04",2280.4,1662.9,null,{"$f":"Eurostat!A35","v":"2002Q4"},6823.5999999999995,8228.4,1,46,{"$f":"Eurostat!C35","v":51224},{"$f":"Eurostat!B35","v":1857140.3},0.16063563954396376,3.6742512130074389E-3]
[null,"2000M05",2498.5,1693,null,{"$f":"Eurostat!A36","v":"2003Q1"},6670.1999999999989,8036.6,1,49,{"$f":"Eurostat!C36","v":49263.4},{"$f":"Eurostat!B36","v":1864016.2},0.16313530937775306,3.5784023765458688E-3]
[null,"2000M06",2377.6999999999998,1736.7,null,{"$f":"Eurostat!A37","v":"2003Q2"},6967.1999999999989,8158.5,1,52,{"$f":"Eurostat!C37","v":48214.9},{"$f":"Eurostat!B37","v":1873745.8},0.1692111774575909,3.7183272138621997E-3]
[null,"2000M07",2386.1999999999998,1912.1,null,{"$f":"Eurostat!A38","v":"2003Q3"},7241.7,8584.2999999999993,1,55,{"$f":"Eurostat!C38","v":47854.6},{"$f":"Eurostat!B38","v":1897870.3},0.1793829642291441,3.8156980484915118E-3]
[null,"2000M08",2487.6999999999998,1855.8,null,{"$f":"Eurostat!A39","v":"2003Q4"},7744.2000000000007,8736.5,1,58,{"$f":"Eurostat!C39","v":46424.800000000003},{"$f":"Eurostat!B39","v":1915846.3},0.18818605572883457,4.042182298235511E-3]
[null,"2000M09",2429.4,1891.9,null,{"$f":"Eurostat!A40","v":"2004Q1"},7998.7,8777,1,61,{"$f":"Eurostat!C40","v":47240.6},{"$f":"Eurostat!B40","v":1934387.8},0.18579357586482814,4.1350033328373965E-3]
[null,"2000M10",2510.4,1921.4,null,{"$f":"Eurostat!A41","v":"2004Q2"},8894,11497.5,1,64,{"$f":"Eurostat!C41","v":48863},{"$f":"Eurostat!B41","v":1955064.1},0.23530073880031926,4.5492114555220975E-3]
[null,"2000M11",2501,1935.1,null,{"$f":"Eurostat!A42","v":"2004Q3"},9129.9,11462.1,1,67,{"$f":"Eurostat!C42","v":52641.7},{"$f":"Eurostat!B42","v":1971424.6},0.21773802897702774,4.6311180250058759E-3]
[null,"2000M12",2451.5,2093.6999999999998,null,{"$f":"Eurostat!A43","v":"2004Q4"},9360.2999999999993,11597.7,1,70,{"$f":"Eurostat!C43","v":55935.9},{"$f":"Eurostat!B43","v":1987286.2},0.20733911495122095,4.7100915811723546E-3]
[null,"2001M01",2647.9,2078.3000000000002,null,{"$f":"Eurostat!A44","v":"2005Q1"},9641.2000000000007,11641.6,1,73,{"$f":"Eurostat!C44","v":59888.2},{"$f":"Eurostat!B44","v":2001728.8},0.19438887794256632,4.8164366721406022E-3]
[null,"2001M02",2504.9,2104.9,null,{"$f":"Eurostat!A45","v":"2005Q2"},9899.6,12106.6,1,76,{"$f":"Eurostat!C45","v":58927.4},{"$f":"Eurostat!B45","v":2023023.1},0.20544941741872202,4.893468591633976E-3]
[null,"2001M03",2500.8000000000002,2021.8,null,{"$f":"Eurostat!A46","v":"2005Q3"},10225.5,12601.599999999999,1,79,{"$f":"Eurostat!C46","v":61539.6},{"$f":"Eurostat!B46","v":2044188.2},0.20477221171408327,5.0022302251818106E-3]
[null,"2001M04",2552.9,2017.7,null,{"$f":"Eurostat!A47","v":"2005Q4"},11326.6,13284.400000000001,1,82,{"$f":"Eurostat!C47","v":64139.4},{"$f":"Eurostat!B47","v":2071300.3},0.20711762192973432,5.468352416112719E-3]
[null,"2001M05",2575.3000000000002,2054.1999999999998,null,{"$f":"Eurostat!A48","v":"2006Q1"},11565.5,13988.100000000002,1,85,{"$f":"Eurostat!C48","v":66514},{"$f":"Eurostat!B48","v":2096417.5},0.21030309408545572,5.5167923374041666E-3]
[null,"2001M06",2577,2079.1,null,{"$f":"Eurostat!A49","v":"2006Q2"},12103.5,14380.300000000001,1,88,{"$f":"Eurostat!C49","v":66263.3},{"$f":"Eurostat!B49","v":2130582.4},0.21701756477567524,5.6808410695591968E-3]
[null,"2001M07",2619.5,2004.1,null,{"$f":"Eurostat!A50","v":"2006Q3"},12655.1,14998.5,1,91,{"$f":"Eurostat!C50","v":67678.5},{"$f":"Eurostat!B50","v":2153791.7000000002},0.22161395420997806,5.8757306939199363E-3]
[null,"2001M08",2648.7,2090.6,null,{"$f":"Eurostat!A51","v":"2006Q4"},12983,15870.9,1,94,{"$f":"Eurostat!C51","v":71480.2},{"$f":"Eurostat!B51","v":2187743.6},0.22203211518714275,5.9344248567336682E-3]
[null,"2001M09",2501,2060.3000000000002,null,{"$f":"Eurostat!A52","v":"2007Q1"},13412.300000000001,16913.5,1,97,{"$f":"Eurostat!C52","v":72773.600000000006},{"$f":"Eurostat!B52","v":2223059.7000000002},0.23241257818769442,6.0332612749896012E-3]
[null,"2001M10",2652,2080.6999999999998,null,{"$f":"Eurostat!A53","v":"2007Q2"},13701.3,17404.900000000001,1,100,{"$f":"Eurostat!C53","v":76277.100000000006},{"$f":"Eurostat!B53","v":2246733.7000000002},0.22817988623059871,6.0983195293683439E-3]
[null,"2001M11",2541.9,2033.8,null,{"$f":"Eurostat!A54","v":"2007Q3"},14421.7,17963.7,1,103,{"$f":"Eurostat!C54","v":78647.7},{"$f":"Eurostat!B54","v":2271416.7000000002},0.22840718800422646,6.3492092842321705E-3]
[null,"2001M12",2516.4,1977.6,null,{"$f":"Eurostat!A55","v":"2007Q4"},14725.5,18813.8,1,106,{"$f":"Eurostat!C55","v":83600.600000000006},{"$f":"Eurostat!B55","v":2293646.5},0.22504383939828182,6.420126205149747E-3]
[null,"2002M01",2533.5,2053.3000000000002,null,{"$f":"Eurostat!A56","v":"2008Q1"},15823.5,20916.2,1,109,{"$f":"Eurostat!C56","v":87354.1},{"$f":"Eurostat!B56","v":2315099},0.23944153737489138,6.8349128914141468E-3]
[null,"2002M02",2741.8,2088,null,{"$f":"Eurostat!A57","v":"2008Q2"},16416.900000000001,21710.6,1,112,{"$f":"Eurostat!C57","v":93196.3},{"$f":"Eurostat!B57","v":2321936},0.2329556001686762,7.0703499148986023E-3]
[null,"2002M03",2708.5,2171.5,null,{"$f":"Eurostat!A58","v":"2008Q3"},16280.2,21446.199999999997,1,115,{"$f":"Eurostat!C58","v":97103.7},{"$f":"Eurostat!B58","v":2314757.6},0.22085873143865783,7.033220238697996E-3]
[null,"2002M04",2760.5,2116.3000000000002,null,{"$f":"Eurostat!A59","v":"2008Q4"},13897,18547.5,1,118,{"$f":"Eurostat!C59","v":85896.4},{"$f":"Eurostat!B59","v":2284887.9},0.21592872343893343,6.0821364584231902E-3]
[null,"2002M05",2658.7,2016.6,null,{"$f":"Eurostat!A60","v":"2009Q1"},13155.8,14892.9,1,121,{"$f":"Eurostat!C60","v":73323.399999999994},{"$f":"Eurostat!B60","v":2222477},0.20311251251305859,5.9194313371971896E-3]
[null,"2002M06",2758.9,2210.1999999999998,null,{"$f":"Eurostat!A61","v":"2009Q2"},13199.8,15306.199999999999,1,124,{"$f":"Eurostat!C61","v":74563},{"$f":"Eurostat!B61","v":2219893.4},0.20527875756072045,5.9461413777796715E-3]
[null,"2002M07",2782,2169.1,null,{"$f":"Eurostat!A62","v":"2009Q3"},14068.699999999999,16001,1,127,{"$f":"Eurostat!C62","v":80389.3},{"$f":"Eurostat!B62","v":2230881.7999999998},0.19904390260892929,6.3063403897059903E-3]
[null,"2002M08",2642.5,2242.8000000000002,null,{"$f":"Eurostat!A63","v":"2009Q4"},15020.099999999999,16406.100000000002,1,130,{"$f":"Eurostat!C63","v":81957},{"$f":"Eurostat!B63","v":2245612.6},0.20017936234854866,6.6886425557106327E-3]
[null,"2002M09",2693.5,2172.3000000000002,null,{"$f":"Eurostat!A64","v":"2010Q1"},15644.4,17567.7,1,133,{"$f":"Eurostat!C64","v":86182.6},{"$f":"Eurostat!B64","v":2258651.7000000002},0.20384277104659176,6.9264331459339204E-3]
[null,"2002M10",2749.2,2224.1999999999998,null,{"$f":"Eurostat!A65","v":"2010Q2"},17014.400000000001,18835.800000000003,1,136,{"$f":"Eurostat!C65","v":87544.8},{"$f":"Eurostat!B65","v":2285681.1},0.21515612577788745,7.443908076240382E-3]
[null,"2002M11",2727.3,2304.6999999999998,null,{"$f":"Eurostat!A66","v":"2010Q3"},17091.3,19633.599999999999,1,139,{"$f":"Eurostat!C66","v":88951.7},{"$f":"Eurostat!B66","v":2300524.1},0.22072203229393028,7.4293070870242129E-3]
[null,"2002M12",2751.9,2294.6999999999998,null,{"$f":"Eurostat!A67","v":"2010Q4"},17461.5,20079.599999999999,1,142,{"$f":"Eurostat!C67","v":91398.2},{"$f":"Eurostat!B67","v":2314800},0.21969360446923461,7.5434162778641786E-3]
[null,"2003M01",2723.5,2184.6,null,{"$f":"Eurostat!A68","v":"2011Q1"},18102.3,20781.7,1,145,{"$f":"Eurostat!C68","v":94152.7},{"$f":"Eurostat!B68","v":2343422.2999999998},0.22072335684478514,7.7247280611778772E-3]
[null,"2003M02",2699.2,2205.6999999999998,null,{"$f":"Eurostat!A69","v":"2011Q2"},18489.7,21731.3,1,148,{"$f":"Eurostat!C69","v":95386.8},{"$f":"Eurostat!B69","v":2352750.4},0.2278229272813429,7.8587596882355223E-3]
[null,"2003M03",2613.9,2279.9,null,{"$f":"Eurostat!A70","v":"2011Q3"},18435.599999999999,21196.400000000001,1,151,{"$f":"Eurostat!C70","v":92483.6},{"$f":"Eurostat!B70","v":2360507.5},0.22919090519832705,7.8100154310037136E-3]
[null,"2003M04",2770.1,2310.1,null,{"$f":"Eurostat!A71","v":"2011Q4"},18554.400000000001,20756.900000000001,1,154,{"$f":"Eurostat!C71","v":88732.9},{"$f":"Eurostat!B71","v":2362435.2999999998},0.23392563524915791,7.8539293753356991E-3]
[null,"2003M05",2758.1,2378.1999999999998,null,{"$f":"Eurostat!A72","v":"2012Q1"},18437.3,20958.3,1,157,{"$f":"Eurostat!C72","v":93276.9},{"$f":"Eurostat!B72","v":2369361.4},0.22468907092752868,7.7815482264546052E-3]
[null,"2003M06",2630.3,2278.9,null,{"$f":"Eurostat!A73","v":"2012Q2"},18420.7,20988.6,1,160,{"$f":"Eurostat!C73","v":93552.6},{"$f":"Eurostat!B73","v":2370524.9},0.22435079302980351,7.7707262218591339E-3]
[null,"2003M07",2956.3,2442,null,{"$f":"Eurostat!A74","v":"2012Q3"},19096,20863.3,1,163,{"$f":"Eurostat!C74","v":96828.1},{"$f":"Eurostat!B74","v":2373339.5},0.21546741080326887,8.046046509570165E-3]
[null,"2003M08",2747.5,2341.5,null,{"$f":"Eurostat!A75","v":"2012Q4"},18834.599999999999,20938.2,1,166,{"$f":"Eurostat!C75","v":97664.5},{"$f":"Eurostat!B75","v":2370430},0.21438905641251427,7.9456469923178483E-3]
[null,"2003M09",2880.5,2458.1999999999998,null,{"$f":"Eurostat!A76","v":"2013Q1"},18910.900000000001,20988.400000000001,1,169,{"$f":"Eurostat!C76","v":96999.1},{"$f":"Eurostat!B76","v":2379868.2999999998},0.21637726535607033,7.9461960142920528E-3]
[null,"2003M10",2914.2,2559.5,null,{"$f":"Eurostat!A77","v":"2013Q2"},19192.2,20791.800000000003,1,172,{"$f":"Eurostat!C77","v":96875.5},{"$f":"Eurostat!B77","v":2395048.1},0.21462392452167992,8.0132837415666097E-3]
[null,"2003M11",2799.9,2568.3000000000002,null,{"$f":"Eurostat!A78","v":"2013Q3"},20079.199999999997,21620.7,1,175,{"$f":"Eurostat!C78","v":96809.8},{"$f":"Eurostat!B78","v":2400180.5},0.2233317288125789,8.3657041626660975E-3]
[null,"2003M12",3022.4,2616.4,null,{"$f":"Eurostat!A79","v":"2013Q4"},20244.5,22081.1,1,178,{"$f":"Eurostat!C79","v":99188.2},{"$f":"Eurostat!B79","v":2409726.7999999998},0.22261821466666398,8.4011598327246063E-3]
[null,"2004M01",2850.9,2534.5,null,{"$f":"Eurostat!A80","v":"2014Q1"},21057.4,22456.400000000001,1,181,{"$f":"Eurostat!C80","v":100617.4},{"$f":"Eurostat!B80","v":2423916.7999999998},0.2231860493314278,8.6873443840976734E-3]
[null,"2004M02",2849.7,2729,null,{"$f":"Eurostat!A81","v":"2014Q2"},21370.699999999997,22881.800000000003,1,184,{"$f":"Eurostat!C81","v":101863.1},{"$f":"Eurostat!B81","v":2428123.2000000002},0.22463286509049893,8.8013244138518167E-3]
[null,"2004M03",3076.4,2735.2]
[null,"2004M04",3881.4,2996]
[null,"2004M05",3765.4,2948.4]
[null,"2004M06",3850.7,2949.6]
[null,"2004M07",3717.3,2966.3]
[null,"2004M08",3833.4,3051.7]
[null,"2004M09",3911.4,3111.9]
[null,"2004M10",3738.8,3014.4]
[null,"2004M11",3882.2,3160.2]
[null,"2004M12",3976.7,3185.7]
[null,"2005M01",3852.7,3302.7]
[null,"2005M02",3906.3,3169.4]
[null,"2005M03",3882.6,3169.1]
[null,"2005M04",4010.3,3320.5]
[null,"2005M05",3919.7,3182.5]
[null,"2005M06",4176.6000000000004,3396.6]
[null,"2005M07",3924.5,3345.8]
[null,"2005M08",4255.8999999999996,3364]
[null,"2005M09",4421.2,3515.7]
[null,"2005M10",4267.1000000000004,3655.8]
[null,"2005M11",4454.1000000000004,3730.9]
[null,"2005M12",4563.2,3939.9]
[null,"2006M01",4624.8,3875.6]
[null,"2006M02",4597.6000000000004,3840.6]
[null,"2006M03",4765.7,3849.3]
[null,"2006M04",4506.3,3899]
[null,"2006M05",5022.3999999999996,4160.1000000000004]
[null,"2006M06",4851.6000000000004,4044.4]
[null,"2006M07",4868.3999999999996,4148]
[null,"2006M08",5080.3999999999996,4141.7]
[null,"2006M09",5049.7,4365.3999999999996]
[null,"2006M10",5286.2,4260.7]
[null,"2006M11",5324.2,4431]
[null,"2006M12",5260.5,4291.3]
[null,"2007M01",5679.9,4406]
[null,"2007M02",5504.3,4448.7]
[null,"2007M03",5729.3,4557.6000000000004]
[null,"2007M04",5610.4,4439.3]
[null,"2007M05",5867.8,4560.8]
[null,"2007M06",5926.7,4701.2]
[null,"2007M07",6063.2,4737]
[null,"2007M08",6092.7,4886.3999999999996]
[null,"2007M09",5807.8,4798.3]
[null,"2007M10",6338.9,4962]
[null,"2007M11",6359.5,5000.1000000000004]
[null,"2007M12",6115.4,4763.3999999999996]
[null,"2008M01",6977.9,5196.8999999999996]
[null,"2008M02",7184,5283.1]
[null,"2008M03",6754.3,5343.5]
[null,"2008M04",7495.9,5553.6]
[null,"2008M05",6994.2,5276.4]
[null,"2008M06",7220.5,5586.9]
[null,"2008M07",7324.4,5474.4]
[null,"2008M08",6865.7,5342.3]
[null,"2008M09",7256.1,5463.5]
[null,"2008M10",6873.6,4979]
[null,"2008M11",5914.2,4827.6000000000004]
[null,"2008M12",5759.7,4090.4]
[null,"2009M01",5038.2,4281.6000000000004]
[null,"2009M02",4855.7,4443.7]
[null,"2009M03",4999,4430.5]
[null,"2009M04",5166.6000000000004,4325.7]
[null,"2009M05",5022.2,4465.1000000000004]
[null,"2009M06",5117.3999999999996,4409]
[null,"2009M07",5266.3,4569.8999999999996]
[null,"2009M08",5284.9,4671.3999999999996]
[null,"2009M09",5449.8,4827.3999999999996]
[null,"2009M10",5490.8,4970.7]
[null,"2009M11",5475.6,4950.8999999999996]
[null,"2009M12",5439.7,5098.5]
[null,"2010M01",5446.7,5018.5]
[null,"2010M02",5694.5,5237.5]
[null,"2010M03",6426.5,5388.4]
[null,"2010M04",6150.8,5451.4]
[null,"2010M05",6219.6,5859.1]
[null,"2010M06",6465.4,5703.9]
[null,"2010M07",6293.6,5584.4]
[null,"2010M08",6623.1,5704.1]
[null,"2010M09",6716.9,5802.8]
[null,"2010M10",6588.1,5744.6]
[null,"2010M11",6596.1,5786.3]
[null,"2010M12",6895.4,5930.6]
[null,"2011M01",6698.5,6065.1]
[null,"2011M02",6886.7,6083.9]
[null,"2011M03",7196.5,5953.3]
[null,"2011M04",7102.1,6106.9]
[null,"2011M05",7448,6365.6]
[null,"2011M06",7181.2,6017.2]
[null,"2011M07",6929,6173.6]
[null,"2011M08",7233.8,6147.4]
[null,"2011M09",7033.6,6114.6]
[null,"2011M10",6635.4,6057.6]
[null,"2011M11",6948.4,6137]
[null,"2011M12",7173.1,6359.8]
[null,"2012M01",6839.2,6246.5]
[null,"2012M02",7124.3,6075.4]
[null,"2012M03",6994.8,6115.4]
[null,"2012M04",6967.4,6156.5]
[null,"2012M05",7084.2,6053.2]
[null,"2012M06",6937,6211]
[null,"2012M07",7004,6262.1]
[null,"2012M08",7149.4,6565]
[null,"2012M09",6709.9,6268.9]
[null,"2012M10",7182.7,6392.5]
[null,"2012M11",7091.7,6414.7]
[null,"2012M12",6663.8,6027.4]
[null,"2013M01",7068.9,6329.9]
[null,"2013M02",6822.5,6215.1]
[null,"2013M03",7097,6365.9]
[null,"2013M04",6889.6,6336.9]
[null,"2013M05",6845.8,6109.1]
[null,"2013M06",7056.4,6746.2]
[null,"2013M07",7180.6,6629.2]
[null,"2013M08",7205.4,6658.4]
[null,"2013M09",7234.7,6791.6]
[null,"2013M10",7522.1,6708.7]
[null,"2013M11",7355.6,6735]
[null,"2013M12",7203.4,6800.8]
[null,"2014M01",7560.2,6958.5]
[null,"2014M02",7524.2,7040.8]
[null,"2014M03",7372,7058.1]
[null,"2014M04",7733.9,7153]
[null,"2014M05",7614.3,7237.8]
[null,"2014M06",7533.6,6979.9]
[null,"2014M07",7788.2,7187.1]
[null,"2014M08",7354.9,7081.8]
[null,"2014M09",7712,7285.3]
[null,"2014M10",7564.2,7257.9]
[null,"2014M11",7531,7466.6]
[null,"2014M12",":",":"]
[]
[null,"Special value:"]
[null,":","not available"]

{"sheet":"pomocniczo_do_innych_kalibracji","index":2,"n_rows":61,"n_cols":32,"rows_kept":61,"cut":false,"hidden":false,"merged":[]}
[null,null,null,null,null,"udziały branż w wartości dodanej",null,null,null,null,null,null,null,null,null,null,null,null,null,null,null,null,null,null,null,null,null,null,"poziomy cen (ln)"]
[null,null,null,null,null,"GVA, 2005=100 (NC), SWDA, price index, TOTAL",null,"-- AGRICULTURE, FORESTRY AND FISHING",null,"-- INDUSTRY EXCEPT CONSTRUCTION",null,"-- CONSTRUCTION",null,"-- WHOLESALE AND RETAIL TRADE, TRANSPORT, ACCOMODATION AND FOOD SERVICE ACTIVITIES",null,"-- INFORMATION AND COMMUNICATION",null,"-- FINANCIAL AND INSURANCE ACTIVITIES",null,"-- REAL ESTATE ACTIVITIES",null,"-- Professional, scientific and technical activities; administrative and support service activities",null,"-- Public administration, defence, education, human health and social work activities",null,"-- Arts, entertainment and recreation; other service activities; activities of household and extra-territorial organizations and bodies",null,null,"H","N","F","NF"]
[null,"kappa","kappa_f","w",null,"Euro area (17 countries)","Poland","Euro area (17 countries)","Poland","Euro area (17 countries)","Poland","Euro area (17 countries)","Poland","Euro area (17 countries)","Poland","Euro area (17 countries)","Poland","Euro area (17 countries)","Poland","Euro area (17 countries)","Poland","Euro area (17 countries)","Poland","Euro area (17 countries)","Poland","Euro area (17 countries)","Poland"]
[{"$f":"dane_do_matlaba!A2","v":"2000Q1"},{"$f":"1-(Eurostat!AI24+Eurostat!AK24)/Eurostat!AG24","v":0.71533350010748131},{"$f":"1-(Eurostat!AH24+Eurostat!AJ24)/Eurostat!AF24","v":0.75797320761815112},{"$f":"Eurostat!C24/SUM(Eurostat!B24:C24)","v":2.5840252051816465E-2},null,{"$f":"Eurostat!AG24/Eurostat!$AG24","v":1},{"$f":"Eurostat!AG24/Eurostat!$AG24","v":1},{"$f":"Eurostat!AI24/Eurostat!$AG24","v":4.8492935773934716E-2},{"$f":"Eurostat!AI24/Eurostat!$AG24","v":4.8492935773934716E-2},{"$f":"Eurostat!AK24/Eurostat!$AG24","v":0.23617356411858395},{"$f":"Eurostat!AK24/Eurostat!$AG24","v":0.23617356411858395},{"$f":"Eurostat!AO24/Eurostat!$AG24","v":7.69314897666461E-2},{"$f":"Eurostat!AO24/Eurostat!$AG24","v":7.69314897666461E-2},{"$f":"Eurostat!AQ24/Eurostat!$AG24","v":0.26067679295827589},{"$f":"Eurostat!AQ24/Eurostat!$AG24","v":0.26067679295827589},{"$f":"Eurostat!AS24/Eurostat!$AG24","v":3.3761708236589659E-2},{"$f":"Eurostat!AS24/Eurostat!$AG24","v":3.3761708236589659E-2},{"$f":"Eurostat!AU24/Eurostat!$AG24","v":5.0433256608844651E-2},{"$f":"Eurostat!AU24/Eurostat!$AG24","v":5.0433256608844651E-2},{"$f":"Eurostat!AW24/Eurostat!$AG24","v":6.7777977515660212E-2},{"$f":"Eurostat!AW24/Eurostat!$AG24","v":6.7777977515660212E-2},{"$f":"Eurostat!AY24/Eurostat!$AG24","v":6.2777267258924407E-2},{"$f":"Eurostat!AY24/Eurostat!$AG24","v":6.2777267258924407E-2},{"$f":"Eurostat!BA24/Eurostat!$AG24","v":0.1331423392211312},{"$f":"Eurostat!BA24/Eurostat!$AG24","v":0.1331423392211312},{"$f":"Eurostat!BC24/Eurostat!$AG24","v":3.5833395140335421E-2},{"$f":"Eurostat!BC24/Eurostat!$AG24","v":3.5833395140335421E-2},null,{"$f":"LN((Eurostat!K24^pomocniczo_do_innych_kalibracji!I4*Eurostat!M24^pomocniczo_do_innych_kalibracji!K4)^(1/(pomocniczo_do_innych_kalibracji!I4+pomocniczo_do_innych_kalibracji!K4)))","v":4.4914825509523464},{"$f":"LN((Eurostat!Q24^pomocniczo_do_innych_kalibracji!M4*Eurostat!S24^pomocniczo_do_innych_kalibracji!O4*Eurostat!U24^pomocniczo_do_innych_kalibracji!Q4*Eurostat!W24^pomocniczo_do_innych_kalibracji!S4*Eurostat!Y24^pomocniczo_do_innych_kalibracji!U4*Eurostat!AA24^pomocniczo_do_innych_kalibracji!W4*Eurostat!AC24^pomocniczo_do_innych_kalibracji!Y4*Eurostat!AE24^pomocniczo_do_innych_kalibracji!AA4)^(1/(pomocniczo_do_innych_kalibracji!M4+pomocniczo_do_innych_kalibracji!O4+pomocniczo_do_innych_kalibracji!Q4+pomocniczo_do_innych_kalibracji!S4+pomocniczo_do_innych_kalibracji!U4+pomocniczo_do_innych_kalibracji!W4+pomocniczo_do_innych_kalibracji!Y4+pomocniczo_do_innych_kalibracji!AA4)))","v":4.4478973167561202},{"$f":"LN((Eurostat!J24^pomocniczo_do_innych_kalibracji!H4*Eurostat!L24^pomocniczo_do_innych_kalibracji!J4)^(1/(pomocniczo_do_innych_kalibracji!H4+pomocniczo_do_innych_kalibracji!J4)))","v":4.5500207627484226},{"$f":"LN((Eurostat!P24^pomocniczo_do_innych_kalibracji!L4*Eurostat!R24^pomocniczo_do_innych_kalibracji!N4*Eurostat!T24^pomocniczo_do_innych_kalibracji!P4*Eurostat!V24^pomocniczo_do_innych_kalibracji!R4*Eurostat!X24^pomocniczo_do_innych_kalibracji!T4*Eurostat!Z24^pomocniczo_do_innych_kalibracji!V4*Eurostat!AB24^pomocniczo_do_innych_kalibracji!X4*Eurostat!AD24^pomocniczo_do_innych_kalibracji!Z4)^(1/(pomocniczo_do_innych_kalibracji!L4+pomocniczo_do_innych_kalibracji!N4+pomocniczo_do_innych_kalibracji!P4+pomocniczo_do_innych_kalibracji!R4+pomocniczo_do_innych_kalibracji!T4+pomocniczo_do_innych_kalibracji!V4+pomocniczo_do_innych_kalibracji!X4+pomocniczo_do_innych_kalibracji!Z4)))","v":4.4701700482983151}]
[{"$f":"dane_do_matlaba!A3","v":"2000Q2"},{"$f":"1-(Eurostat!AI25+Eurostat!AK25)/Eurostat!AG25","v":0.71552635428736522},{"$f":"1-(Eurostat!AH25+Eurostat!AJ25)/Eurostat!AF25","v":0.75629533759005962},{"$f":"Eurostat!C25/SUM(Eurostat!B25:C25)","v":2.6017818577006854E-2},null,{"$f":"Eurostat!AG25/Eurostat!$AG25","v":1},{"$f":"Eurostat!AG25/Eurostat!$AG25","v":1},{"$f":"Eurostat!AI25/Eurostat!$AG25","v":4.5862844222292816E-2},{"$f":"Eurostat!AI25/Eurostat!$AG25","v":4.5862844222292816E-2},{"$f":"Eurostat!AK25/Eurostat!$AG25","v":0.238610801490342},{"$f":"Eurostat!AK25/Eurostat!$AG25","v":0.238610801490342},{"$f":"Eurostat!AO25/Eurostat!$AG25","v":7.8943196473812205E-2},{"$f":"Eurostat!AO25/Eurostat!$AG25","v":7.8943196473812205E-2},{"$f":"Eurostat!AQ25/Eurostat!$AG25","v":0.25918410693638261},{"$f":"Eurostat!AQ25/Eurostat!$AG25","v":0.25918410693638261},{"$f":"Eurostat!AS25/Eurostat!$AG25","v":3.4480837891950819E-2},{"$f":"Eurostat!AS25/Eurostat!$AG25","v":3.4480837891950819E-2},{"$f":"Eurostat!AU25/Eurostat!$AG25","v":4.980905529041408E-2},{"$f":"Eurostat!AU25/Eurostat!$AG25","v":4.980905529041408E-2},{"$f":"Eurostat!AW25/Eurostat!$AG25","v":6.6287409279074311E-2},{"$f":"Eurostat!AW25/Eurostat!$AG25","v":6.6287409279074311E-2},{"$f":"Eurostat!AY25/Eurostat!$AG25","v":6.2892088541542338E-2},{"$f":"Eurostat!AY25/Eurostat!$AG25","v":6.2892088541542338E-2},{"$f":"Eurostat!BA25/Eurostat!$AG25","v":0.1333999298532979},{"$f":"Eurostat!BA25/Eurostat!$AG25","v":0.1333999298532979},{"$f":"Eurostat!BC25/Eurostat!$AG25","v":3.3674089607821173E-2},{"$f":"Eurostat!BC25/Eurostat!$AG25","v":3.3674089607821173E-2},null,{"$f":"LN((Eurostat!K25^pomocniczo_do_innych_kalibracji!I5*Eurostat!M25^pomocniczo_do_innych_kalibracji!K5)^(1/(pomocniczo_do_innych_kalibracji!I5+pomocniczo_do_innych_kalibracji!K5)))","v":4.5000733769331331},{"$f":"LN((Eurostat!Q25^pomocniczo_do_innych_kalibracji!M5*Eurostat!S25^pomocniczo_do_innych_kalibracji!O5*Eurostat!U25^pomocniczo_do_innych_kalibracji!Q5*Eurostat!W25^pomocniczo_do_innych_kalibracji!S5*Eurostat!Y25^pomocniczo_do_innych_kalibracji!U5*Eurostat!AA25^pomocniczo_do_innych_kalibracji!W5*Eurostat!AC25^pomocniczo_do_innych_kalibracji!Y5*Eurostat!AE25^pomocniczo_do_innych_kalibracji!AA5)^(1/(pomocniczo_do_innych_kalibracji!M5+pomocniczo_do_innych_kalibracji!O5+pomocniczo_do_innych_kalibracji!Q5+pomocniczo_do_innych_kalibracji!S5+pomocniczo_do_innych_kalibracji!U5+pomocniczo_do_innych_kalibracji!W5+pomocniczo_do_innych_kalibracji!Y5+pomocniczo_do_innych_kalibracji!AA5)))","v":4.4501322354730943},{"$f":"LN((Eurostat!J25^pomocniczo_do_innych_kalibracji!H5*Eurostat!L25^pomocniczo_do_innych_kalibracji!J5)^(1/(pomocniczo_do_innych_kalibracji!H5+pomocniczo_do_innych_kalibracji!J5)))","v":4.5759677848021401},{"$f":"LN((Eurostat!P25^pomocniczo_do_innych_kalibracji!L5*Eurostat!R25^pomocniczo_do_innych_kalibracji!N5*Eurostat!T25^pomocniczo_do_innych_kalibracji!P5*Eurostat!V25^pomocniczo_do_innych_kalibracji!R5*Eurostat!X25^pomocniczo_do_innych_kalibracji!T5*Eurostat!Z25^pomocniczo_do_innych_kalibracji!V5*Eurostat!AB25^pomocniczo_do_innych_kalibracji!X5*Eurostat!AD25^pomocniczo_do_innych_kalibracji!Z5)^(1/(pomocniczo_do_innych_kalibracji!L5+pomocniczo_do_innych_kalibracji!N5+pomocniczo_do_innych_kalibracji!P5+pomocniczo_do_innych_kalibracji!R5+pomocniczo_do_innych_kalibracji!T5+pomocniczo_do_innych_kalibracji!V5+pomocniczo_do_innych_kalibracji!X5+pomocniczo_do_innych_kalibracji!Z5)))","v":4.4743153441616865}]
[{"$f":"dane_do_matlaba!A4","v":"2000Q3"},{"$f":"1-(Eurostat!AI26+Eurostat!AK26)/Eurostat!AG26","v":0.71823985892336006},{"$f":"1-(Eurostat!AH26+Eurostat!AJ26)/Eurostat!AF26","v":0.75566583185964786},{"$f":"Eurostat!C26/SUM(Eurostat!B26:C26)","v":2.7042587191563088E-2},null,{"$f":"Eurostat!AG26/Eurostat!$AG26","v":1},{"$f":"Eurostat!AG26/Eurostat!$AG26","v":1},{"$f":"Eurostat!AI26/Eurostat!$AG26","v":5.0309261375974496E-2},{"$f":"Eurostat!AI26/Eurostat!$AG26","v":5.0309261375974496E-2},{"$f":"Eurostat!AK26/Eurostat!$AG26","v":0.23145087970066552},{"$f":"Eurostat!AK26/Eurostat!$AG26","v":0.23145087970066552},{"$f":"Eurostat!AO26/Eurostat!$AG26","v":7.8824067025721659E-2},{"$f":"Eurostat!AO26/Eurostat!$AG26","v":7.8824067025721659E-2},{"$f":"Eurostat!AQ26/Eurostat!$AG26","v":0.2572984252964351},{"$f":"Eurostat!AQ26/Eurostat!$AG26","v":0.2572984252964351},{"$f":"Eurostat!AS26/Eurostat!$AG26","v":3.4741793000097838E-2},{"$f":"Eurostat!AS26/Eurostat!$AG26","v":3.4741793000097838E-2},{"$f":"Eurostat!AU26/Eurostat!$AG26","v":4.7778615625812822E-2},{"$f":"Eurostat!AU26/Eurostat!$AG26","v":4.7778615625812822E-2},{"$f":"Eurostat!AW26/Eurostat!$AG26","v":6.5710286997420431E-2},{"$f":"Eurostat!AW26/Eurostat!$AG26","v":6.5710286997420431E-2},{"$f":"Eurostat!AY26/Eurostat!$AG26","v":6.3859133352264452E-2},{"$f":"Eurostat!AY26/Eurostat!$AG26","v":6.3859133352264452E-2},{"$f":"Eurostat!BA26/Eurostat!$AG26","v":0.13371975096823149},{"$f":"Eurostat!BA26/Eurostat!$AG26","v":0.13371975096823149},{"$f":"Eurostat!BC26/Eurostat!$AG26","v":3.5469010626087247E-2},{"$f":"Eurostat!BC26/Eurostat!$AG26","v":3.5469010626087247E-2},null,{"$f":"LN((Eurostat!K26^pomocniczo_do_innych_kalibracji!I6*Eurostat!M26^pomocniczo_do_innych_kalibracji!K6)^(1/(pomocniczo_do_innych_kalibracji!I6+pomocniczo_do_innych_kalibracji!K6)))","v":4.5229555546662983},{"$f":"LN((Eurostat!Q26^pomocniczo_do_innych_kalibracji!M6*Eurostat!S26^pomocniczo_do_innych_kalibracji!O6*Eurostat!U26^pomocniczo_do_innych_kalibracji!Q6*Eurostat!W26^pomocniczo_do_innych_kalibracji!S6*Eurostat!Y26^pomocniczo_do_innych_kalibracji!U6*Eurostat!AA26^pomocniczo_do_innych_kalibracji!W6*Eurostat!AC26^pomocniczo_do_innych_kalibracji!Y6*Eurostat!AE26^pomocniczo_do_innych_kalibracji!AA6)^(1/(pomocniczo_do_innych_kalibracji!M6+pomocniczo_do_innych_kalibracji!O6+pomocniczo_do_innych_kalibracji!Q6+pomocniczo_do_innych_kalibracji!S6+pomocniczo_do_innych_kalibracji!U6+pomocniczo_do_innych_kalibracji!W6+pomocniczo_do_innych_kalibracji!Y6+pomocniczo_do_innych_kalibracji!AA6)))","v":4.4804455784182036},{"$f":"LN((Eurostat!J26^pomocniczo_do_innych_kalibracji!H6*Eurostat!L26^pomocniczo_do_innych_kalibracji!J6)^(1/(pomocniczo_do_innych_kalibracji!H6+pomocniczo_do_innych_kalibracji!J6)))","v":4.5895401432466123},{"$f":"LN((Eurostat!P26^pomocniczo_do_innych_kalibracji!L6*Eurostat!R26^pomocniczo_do_innych_kalibracji!N6*Eurostat!T26^pomocniczo_do_innych_kalibracji!P6*Eurostat!V26^pomocniczo_do_innych_kalibracji!R6*Eurostat!X26^pomocniczo_do_innych_kalibracji!T6*Eurostat!Z26^pomocniczo_do_innych_kalibracji!V6*Eurostat!AB26^pomocniczo_do_innych_kalibracji!X6*Eurostat!AD26^pomocniczo_do_innych_kalibracji!Z6)^(1/(pomocniczo_do_innych_kalibracji!L6+pomocniczo_do_innych_kalibracji!N6+pomocniczo_do_innych_kalibracji!P6+pomocniczo_do_innych_kalibracji!R6+pomocniczo_do_innych_kalibracji!T6+pomocniczo_do_innych_kalibracji!V6+pomocniczo_do_innych_kalibracji!X6+pomocniczo_do_innych_kalibracji!Z6)))","v":4.480327689938064}]
[{"$f":"dane_do_matlaba!A5","v":"2000Q4"},{"$f":"1-(Eurostat!AI27+Eurostat!AK27)/Eurostat!AG27","v":0.71617606728220129},{"$f":"1-(Eurostat!AH27+Eurostat!AJ27)/Eurostat!AF27","v":0.75568666498699899},{"$f":"Eurostat!C27/SUM(Eurostat!B27:C27)","v":2.7524800232682892E-2},null,{"$f":"Eurostat!AG27/Eurostat!$AG27","v":1},{"$f":"Eurostat!AG27/Eurostat!$AG27","v":1},{"$f":"Eurostat!AI27/Eurostat!$AG27","v":5.4669718555814172E-2},{"$f":"Eurostat!AI27/Eurostat!$AG27","v":5.4669718555814172E-2},{"$f":"Eurostat!AK27/Eurostat!$AG27","v":0.22915421416198456},{"$f":"Eurostat!AK27/Eurostat!$AG27","v":0.22915421416198456},{"$f":"Eurostat!AO27/Eurostat!$AG27","v":7.8571495542882328E-2},{"$f":"Eurostat!AO27/Eurostat!$AG27","v":7.8571495542882328E-2},{"$f":"Eurostat!AQ27/Eurostat!$AG27","v":0.25550488606983718},{"$f":"Eurostat!AQ27/Eurostat!$AG27","v":0.25550488606983718},{"$f":"Eurostat!AS27/Eurostat!$AG27","v":3.6097613572702705E-2},{"$f":"Eurostat!AS27/Eurostat!$AG27","v":3.6097613572702705E-2},{"$f":"Eurostat!AU27/Eurostat!$AG27","v":5.1074021203831976E-2},{"$f":"Eurostat!AU27/Eurostat!$AG27","v":5.1074021203831976E-2},{"$f":"Eurostat!AW27/Eurostat!$AG27","v":6.4637582303730942E-2},{"$f":"Eurostat!AW27/Eurostat!$AG27","v":6.4637582303730942E-2},{"$f":"Eurostat!AY27/Eurostat!$AG27","v":6.6495203002196329E-2},{"$f":"Eurostat!AY27/Eurostat!$AG27","v":6.6495203002196329E-2},{"$f":"Eurostat!BA27/Eurostat!$AG27","v":0.1331826140766629},{"$f":"Eurostat!BA27/Eurostat!$AG27","v":0.1331826140766629},{"$f":"Eurostat!BC27/Eurostat!$AG27","v":3.498069715274213E-2},{"$f":"Eurostat!BC27/Eurostat!$AG27","v":3.498069715274213E-2},null,{"$f":"LN((Eurostat!K27^pomocniczo_do_innych_kalibracji!I7*Eurostat!M27^pomocniczo_do_innych_kalibracji!K7)^(1/(pomocniczo_do_innych_kalibracji!I7+pomocniczo_do_innych_kalibracji!K7)))","v":4.5406369752239826},{"$f":"LN((Eurostat!Q27^pomocniczo_do_innych_kalibracji!M7*Eurostat!S27^pomocniczo_do_innych_kalibracji!O7*Eurostat!U27^pomocniczo_do_innych_kalibracji!Q7*Eurostat!W27^pomocniczo_do_innych_kalibracji!S7*Eurostat!Y27^pomocniczo_do_innych_kalibracji!U7*Eurostat!AA27^pomocniczo_do_innych_kalibracji!W7*Eurostat!AC27^pomocniczo_do_innych_kalibracji!Y7*Eurostat!AE27^pomocniczo_do_innych_kalibracji!AA7)^(1/(pomocniczo_do_innych_kalibracji!M7+pomocniczo_do_innych_kalibracji!O7+pomocniczo_do_innych_kalibracji!Q7+pomocniczo_do_innych_kalibracji!S7+pomocniczo_do_innych_kalibracji!U7+pomocniczo_do_innych_kalibracji!W7+pomocniczo_do_innych_kalibracji!Y7+pomocniczo_do_innych_kalibracji!AA7)))","v":4.4934300876112641},{"$f":"LN((Eurostat!J27^pomocniczo_do_innych_kalibracji!H7*Eurostat!L27^pomocniczo_do_innych_kalibracji!J7)^(1/(pomocniczo_do_innych_kalibracji!H7+pomocniczo_do_innych_kalibracji!J7)))","v":4.6046143192352504},{"$f":"LN((Eurostat!P27^pomocniczo_do_innych_kalibracji!L7*Eurostat!R27^pomocniczo_do_innych_kalibracji!N7*Eurostat!T27^pomocniczo_do_innych_kalibracji!P7*Eurostat!V27^pomocniczo_do_innych_kalibracji!R7*Eurostat!X27^pomocniczo_do_innych_kalibracji!T7*Eurostat!Z27^pomocniczo_do_innych_kalibracji!V7*Eurostat!AB27^pomocniczo_do_innych_kalibracji!X7*Eurostat!AD27^pomocniczo_do_innych_kalibracji!Z7)^(1/(pomocniczo_do_innych_kalibracji!L7+pomocniczo_do_innych_kalibracji!N7+pomocniczo_do_innych_kalibracji!P7+pomocniczo_do_innych_kalibracji!R7+pomocniczo_do_innych_kalibracji!T7+pomocniczo_do_innych_kalibracji!V7+pomocniczo_do_innych_kalibracji!X7+pomocniczo_do_innych_kalibracji!Z7)))","v":4.4856369715473745}]
[{"$f":"dane_do_matlaba!A6","v":"2001Q1"},{"$f":"1-(Eurostat!AI28+Eurostat!AK28)/Eurostat!AG28","v":0.72053129973751939},{"$f":"1-(Eurostat!AH28+Eurostat!AJ28)/Eurostat!AF28","v":0.75681812402253112},{"$f":"Eurostat!C28/SUM(Eurostat!B28:C28)","v":2.8272729949937826E-2},null,{"$f":"Eurostat!AG28/Eurostat!$AG28","v":1},{"$f":"Eurostat!AG28/Eurostat!$AG28","v":1},{"$f":"Eurostat!AI28/Eurostat!$AG28","v":5.1562171681582364E-2},{"$f":"Eurostat!AI28/Eurostat!$AG28","v":5.1562171681582364E-2},{"$f":"Eurostat!AK28/Eurostat!$AG28","v":0.22790652858089824},{"$f":"Eurostat!AK28/Eurostat!$AG28","v":0.22790652858089824},{"$f":"Eurostat!AO28/Eurostat!$AG28","v":7.6920397911764263E-2},{"$f":"Eurostat!AO28/Eurostat!$AG28","v":7.6920397911764263E-2},{"$f":"Eurostat!AQ28/Eurostat!$AG28","v":0.25620532692823406},{"$f":"Eurostat!AQ28/Eurostat!$AG28","v":0.25620532692823406},{"$f":"Eurostat!AS28/Eurostat!$AG28","v":3.7286524099805318E-2},{"$f":"Eurostat!AS28/Eurostat!$AG28","v":3.7286524099805318E-2},{"$f":"Eurostat!AU28/Eurostat!$AG28","v":4.6953959672485508E-2},{"$f":"Eurostat!AU28/Eurostat!$AG28","v":4.6953959672485508E-2},{"$f":"Eurostat!AW28/Eurostat!$AG28","v":6.4624673640609379E-2},{"$f":"Eurostat!AW28/Eurostat!$AG28","v":6.4624673640609379E-2},{"$f":"Eurostat!AY28/Eurostat!$AG28","v":6.5506961366245758E-2},{"$f":"Eurostat!AY28/Eurostat!$AG28","v":6.5506961366245758E-2},{"$f":"Eurostat!BA28/Eurostat!$AG28","v":0.13701115745701462},{"$f":"Eurostat!BA28/Eurostat!$AG28","v":0.13701115745701462},{"$f":"Eurostat!BC28/Eurostat!$AG28","v":3.555445398579285E-2},{"$f":"Eurostat!BC28/Eurostat!$AG28","v":3.555445398579285E-2},null,{"$f":"LN((Eurostat!K28^pomocniczo_do_innych_kalibracji!I8*Eurostat!M28^pomocniczo_do_innych_kalibracji!K8)^(1/(pomocniczo_do_innych_kalibracji!I8+pomocniczo_do_innych_kalibracji!K8)))","v":4.5331705647608294},{"$f":"LN((Eurostat!Q28^pomocniczo_do_innych_kalibracji!M8*Eurostat!S28^pomocniczo_do_innych_kalibracji!O8*Eurostat!U28^pomocniczo_do_innych_kalibracji!Q8*Eurostat!W28^pomocniczo_do_innych_kalibracji!S8*Eurostat!Y28^pomocniczo_do_innych_kalibracji!U8*Eurostat!AA28^pomocniczo_do_innych_kalibracji!W8*Eurostat!AC28^pomocniczo_do_innych_kalibracji!Y8*Eurostat!AE28^pomocniczo_do_innych_kalibracji!AA8)^(1/(pomocniczo_do_innych_kalibracji!M8+pomocniczo_do_innych_kalibracji!O8+pomocniczo_do_innych_kalibracji!Q8+pomocniczo_do_innych_kalibracji!S8+pomocniczo_do_innych_kalibracji!U8+pomocniczo_do_innych_kalibracji!W8+pomocniczo_do_innych_kalibracji!Y8+pomocniczo_do_innych_kalibracji!AA8)))","v":4.4974019779219043},{"$f":"LN((Eurostat!J28^pomocniczo_do_innych_kalibracji!H8*Eurostat!L28^pomocniczo_do_innych_kalibracji!J8)^(1/(pomocniczo_do_innych_kalibracji!H8+pomocniczo_do_innych_kalibracji!J8)))","v":4.6015483320402977},{"$f":"LN((Eurostat!P28^pomocniczo_do_innych_kalibracji!L8*Eurostat!R28^pomocniczo_do_innych_kalibracji!N8*Eurostat!T28^pomocniczo_do_innych_kalibracji!P8*Eurostat!V28^pomocniczo_do_innych_kalibracji!R8*Eurostat!X28^pomocniczo_do_innych_kalibracji!T8*Eurostat!Z28^pomocniczo_do_innych_kalibracji!V8*Eurostat!AB28^pomocniczo_do_innych_kalibracji!X8*Eurostat!AD28^pomocniczo_do_innych_kalibracji!Z8)^(1/(pomocniczo_do_innych_kalibracji!L8+pomocniczo_do_innych_kalibracji!N8+pomocniczo_do_innych_kalibracji!P8+pomocniczo_do_innych_kalibracji!R8+pomocniczo_do_innych_kalibracji!T8+pomocniczo_do_innych_kalibracji!V8+pomocniczo_do_innych_kalibracji!X8+pomocniczo_do_innych_kalibracji!Z8)))","v":4.4932697138080098}]
[{"$f":"dane_do_matlaba!A7","v":"2001Q2"},{"$f":"1-(Eurostat!AI29+Eurostat!AK29)/Eurostat!AG29","v":0.72213811555526908},{"$f":"1-(Eurostat!AH29+Eurostat!AJ29)/Eurostat!AF29","v":0.75964544193437922},{"$f":"Eurostat!C29/SUM(Eurostat!B29:C29)","v":3.0709601115738051E-2},null,{"$f":"Eurostat!AG29/Eurostat!$AG29","v":1},{"$f":"Eurostat!AG29/Eurostat!$AG29","v":1},{"$f":"Eurostat!AI29/Eurostat!$AG29","v":5.4679567030391223E-2},{"$f":"Eurostat!AI29/Eurostat!$AG29","v":5.4679567030391223E-2},{"$f":"Eurostat!AK29/Eurostat!$AG29","v":0.22318231741433975},{"$f":"Eurostat!AK29/Eurostat!$AG29","v":0.22318231741433975},{"$f":"Eurostat!AO29/Eurostat!$AG29","v":7.4480834808877669E-2},{"$f":"Eurostat!AO29/Eurostat!$AG29","v":7.4480834808877669E-2},{"$f":"Eurostat!AQ29/Eurostat!$AG29","v":0.25824021478092485},{"$f":"Eurostat!AQ29/Eurostat!$AG29","v":0.25824021478092485},{"$f":"Eurostat!AS29/Eurostat!$AG29","v":3.8808734915485268E-2},{"$f":"Eurostat!AS29/Eurostat!$AG29","v":3.8808734915485268E-2},{"$f":"Eurostat!AU29/Eurostat!$AG29","v":4.4548966965459597E-2},{"$f":"Eurostat!AU29/Eurostat!$AG29","v":4.4548966965459597E-2},{"$f":"Eurostat!AW29/Eurostat!$AG29","v":6.4837221939521489E-2},{"$f":"Eurostat!AW29/Eurostat!$AG29","v":6.4837221939521489E-2},{"$f":"Eurostat!AY29/Eurostat!$AG29","v":6.7529466754777182E-2},{"$f":"Eurostat!AY29/Eurostat!$AG29","v":6.7529466754777182E-2},{"$f":"Eurostat!BA29/Eurostat!$AG29","v":0.13996334356428575},{"$f":"Eurostat!BA29/Eurostat!$AG29","v":0.13996334356428575},{"$f":"Eurostat!BC29/Eurostat!$AG29","v":3.4606599539952515E-2},{"$f":"Eurostat!BC29/Eurostat!$AG29","v":3.4606599539952515E-2},null,{"$f":"LN((Eurostat!K29^pomocniczo_do_innych_kalibracji!I9*Eurostat!M29^pomocniczo_do_innych_kalibracji!K9)^(1/(pomocniczo_do_innych_kalibracji!I9+pomocniczo_do_innych_kalibracji!K9)))","v":4.5401747978596161},{"$f":"LN((Eurostat!Q29^pomocniczo_do_innych_kalibracji!M9*Eurostat!S29^pomocniczo_do_innych_kalibracji!O9*Eurostat!U29^pomocniczo_do_innych_kalibracji!Q9*Eurostat!W29^pomocniczo_do_innych_kalibracji!S9*Eurostat!Y29^pomocniczo_do_innych_kalibracji!U9*Eurostat!AA29^pomocniczo_do_innych_kalibracji!W9*Eurostat!AC29^pomocniczo_do_innych_kalibracji!Y9*Eurostat!AE29^pomocniczo_do_innych_kalibracji!AA9)^(1/(pomocniczo_do_innych_kalibracji!M9+pomocniczo_do_innych_kalibracji!O9+pomocniczo_do_innych_kalibracji!Q9+pomocniczo_do_innych_kalibracji!S9+pomocniczo_do_innych_kalibracji!U9+pomocniczo_do_innych_kalibracji!W9+pomocniczo_do_innych_kalibracji!Y9+pomocniczo_do_innych_kalibracji!AA9)))","v":4.5150036834719902},{"$f":"LN((Eurostat!J29^pomocniczo_do_innych_kalibracji!H9*Eurostat!L29^pomocniczo_do_innych_kalibracji!J9)^(1/(pomocniczo_do_innych_kalibracji!H9+pomocniczo_do_innych_kalibracji!J9)))","v":4.6071445226540595},{"$f":"LN((Eurostat!P29^pomocniczo_do_innych_kalibracji!L9*Eurostat!R29^pomocniczo_do_innych_kalibracji!N9*Eurostat!T29^pomocniczo_do_innych_kalibracji!P9*Eurostat!V29^pomocniczo_do_innych_kalibracji!R9*Eurostat!X29^pomocniczo_do_innych_kalibracji!T9*Eurostat!Z29^pomocniczo_do_innych_kalibracji!V9*Eurostat!AB29^pomocniczo_do_innych_kalibracji!X9*Eurostat!AD29^pomocniczo_do_innych_kalibracji!Z9)^(1/(pomocniczo_do_innych_kalibracji!L9+pomocniczo_do_innych_kalibracji!N9+pomocniczo_do_innych_kalibracji!P9+pomocniczo_do_innych_kalibracji!R9+pomocniczo_do_innych_kalibracji!T9+pomocniczo_do_innych_kalibracji!V9+pomocniczo_do_innych_kalibracji!X9+pomocniczo_do_innych_kalibracji!Z9)))","v":4.5024440738434519}]
[{"$f":"dane_do_matlaba!A8","v":"2001Q3"},{"$f":"1-(Eurostat!AI30+Eurostat!AK30)/Eurostat!AG30","v":0.72836784996865944},{"$f":"1-(Eurostat!AH30+Eurostat!AJ30)/Eurostat!AF30","v":0.7613460735576647},{"$f":"Eurostat!C30/SUM(Eurostat!B30:C30)","v":2.8498124691866814E-2},null,{"$f":"Eurostat!AG30/Eurostat!$AG30","v":1},{"$f":"Eurostat!AG30/Eurostat!$AG30","v":1},{"$f":"Eurostat!AI30/Eurostat!$AG30","v":5.0757960330983835E-2},{"$f":"Eurostat!AI30/Eurostat!$AG30","v":5.0757960330983835E-2},{"$f":"Eurostat!AK30/Eurostat!$AG30","v":0.22087418970035669},{"$f":"Eurostat!AK30/Eurostat!$AG30","v":0.22087418970035669},{"$f":"Eurostat!AO30/Eurostat!$AG30","v":7.2078137121549812E-2},{"$f":"Eurostat!AO30/Eurostat!$AG30","v":7.2078137121549812E-2},{"$f":"Eurostat!AQ30/Eurostat!$AG30","v":0.26325041166716895},{"$f":"Eurostat!AQ30/Eurostat!$AG30","v":0.26325041166716895},{"$f":"Eurostat!AS30/Eurostat!$AG30","v":3.895683482091189E-2},{"$f":"Eurostat!AS30/Eurostat!$AG30","v":3.895683482091189E-2},{"$f":"Eurostat!AU30/Eurostat!$AG30","v":4.519228896113197E-2},{"$f":"Eurostat!AU30/Eurostat!$AG30","v":4.519228896113197E-2},{"$f":"Eurostat!AW30/Eurostat!$AG30","v":6.4635469724558275E-2},{"$f":"Eurostat!AW30/Eurostat!$AG30","v":6.4635469724558275E-2},{"$f":"Eurostat!AY30/Eurostat!$AG30","v":6.5683401877683567E-2},{"$f":"Eurostat!AY30/Eurostat!$AG30","v":6.5683401877683567E-2},{"$f":"Eurostat!BA30/Eurostat!$AG30","v":0.14384974406162229},{"$f":"Eurostat!BA30/Eurostat!$AG30","v":0.14384974406162229},{"$f":"Eurostat!BC30/Eurostat!$AG30","v":3.4651661393583603E-2},{"$f":"Eurostat!BC30/Eurostat!$AG30","v":3.4651661393583603E-2},null,{"$f":"LN((Eurostat!K30^pomocniczo_do_innych_kalibracji!I10*Eurostat!M30^pomocniczo_do_innych_kalibracji!K10)^(1/(pomocniczo_do_innych_kalibracji!I10+pomocniczo_do_innych_kalibracji!K10)))","v":4.5126716596042664},{"$f":"LN((Eurostat!Q30^pomocniczo_do_innych_kalibracji!M10*Eurostat!S30^pomocniczo_do_innych_kalibracji!O10*Eurostat!U30^pomocniczo_do_innych_kalibracji!Q10*Eurostat!W30^pomocniczo_do_innych_kalibracji!S10*Eurostat!Y30^pomocniczo_do_innych_kalibracji!U10*Eurostat!AA30^pomocniczo_do_innych_kalibracji!W10*Eurostat!AC30^pomocniczo_do_innych_kalibracji!Y10*Eurostat!AE30^pomocniczo_do_innych_kalibracji!AA10)^(1/(pomocniczo_do_innych_kalibracji!M10+pomocniczo_do_innych_kalibracji!O10+pomocniczo_do_innych_kalibracji!Q10+pomocniczo_do_innych_kalibracji!S10+pomocniczo_do_innych_kalibracji!U10+pomocniczo_do_innych_kalibracji!W10+pomocniczo_do_innych_kalibracji!Y10+pomocniczo_do_innych_kalibracji!AA10)))","v":4.5203425056627955},{"$f":"LN((Eurostat!J30^pomocniczo_do_innych_kalibracji!H10*Eurostat!L30^pomocniczo_do_innych_kalibracji!J10)^(1/(pomocniczo_do_innych_kalibracji!H10+pomocniczo_do_innych_kalibracji!J10)))","v":4.6080815658334542},{"$f":"LN((Eurostat!P30^pomocniczo_do_innych_kalibracji!L10*Eurostat!R30^pomocniczo_do_innych_kalibracji!N10*Eurostat!T30^pomocniczo_do_innych_kalibracji!P10*Eurostat!V30^pomocniczo_do_innych_kalibracji!R10*Eurostat!X30^pomocniczo_do_innych_kalibracji!T10*Eurostat!Z30^pomocniczo_do_innych_kalibracji!V10*Eurostat!AB30^pomocniczo_do_innych_kalibracji!X10*Eurostat!AD30^pomocniczo_do_innych_kalibracji!Z10)^(1/(pomocniczo_do_innych_kalibracji!L10+pomocniczo_do_innych_kalibracji!N10+pomocniczo_do_innych_kalibracji!P10+pomocniczo_do_innych_kalibracji!R10+pomocniczo_do_innych_kalibracji!T10+pomocniczo_do_innych_kalibracji!V10+pomocniczo_do_innych_kalibracji!X10+pomocniczo_do_innych_kalibracji!Z10)))","v":4.5101455585944601}]
[{"$f":"dane_do_matlaba!A9","v":"2001Q4"},{"$f":"1-(Eurostat!AI31+Eurostat!AK31)/Eurostat!AG31","v":0.73675437267209554},{"$f":"1-(Eurostat!AH31+Eurostat!AJ31)/Eurostat!AF31","v":0.76493459167205846},{"$f":"Eurostat!C31/SUM(Eurostat!B31:C31)","v":2.9154266359544014E-2},null,{"$f":"Eurostat!AG31/Eurostat!$AG31","v":1},{"$f":"Eurostat!AG31/Eurostat!$AG31","v":1},{"$f":"Eurostat!AI31/Eurostat!$AG31","v":4.6727289507296051E-2},{"$f":"Eurostat!AI31/Eurostat!$AG31","v":4.6727289507296051E-2},{"$f":"Eurostat!AK31/Eurostat!$AG31","v":0.2165183378206085},{"$f":"Eurostat!AK31/Eurostat!$AG31","v":0.2165183378206085},{"$f":"Eurostat!AO31/Eurostat!$AG31","v":7.0664614255748479E-2},{"$f":"Eurostat!AO31/Eurostat!$AG31","v":7.0664614255748479E-2},{"$f":"Eurostat!AQ31/Eurostat!$AG31","v":0.26455819804094266},{"$f":"Eurostat!AQ31/Eurostat!$AG31","v":0.26455819804094266},{"$f":"Eurostat!AS31/Eurostat!$AG31","v":3.915152329983923E-2},{"$f":"Eurostat!AS31/Eurostat!$AG31","v":3.915152329983923E-2},{"$f":"Eurostat!AU31/Eurostat!$AG31","v":4.6425352667925308E-2},{"$f":"Eurostat!AU31/Eurostat!$AG31","v":4.6425352667925308E-2},{"$f":"Eurostat!AW31/Eurostat!$AG31","v":6.458599901785074E-2},{"$f":"Eurostat!AW31/Eurostat!$AG31","v":6.458599901785074E-2},{"$f":"Eurostat!AY31/Eurostat!$AG31","v":6.4161578366282432E-2},{"$f":"Eurostat!AY31/Eurostat!$AG31","v":6.4161578366282432E-2},{"$f":"Eurostat!BA31/Eurostat!$AG31","v":0.14830283011666157},{"$f":"Eurostat!BA31/Eurostat!$AG31","v":0.14830283011666157},{"$f":"Eurostat!BC31/Eurostat!$AG31","v":3.5541953838984494E-2},{"$f":"Eurostat!BC31/Eurostat!$AG31","v":3.5541953838984494E-2},null,{"$f":"LN((Eurostat!K31^pomocniczo_do_innych_kalibracji!I11*Eurostat!M31^pomocniczo_do_innych_kalibracji!K11)^(1/(pomocniczo_do_innych_kalibracji!I11+pomocniczo_do_innych_kalibracji!K11)))","v":4.4976295983032424},{"$f":"LN((Eurostat!Q31^pomocniczo_do_innych_kalibracji!M11*Eurostat!S31^pomocniczo_do_innych_kalibracji!O11*Eurostat!U31^pomocniczo_do_innych_kalibracji!Q11*Eurostat!W31^pomocniczo_do_innych_kalibracji!S11*Eurostat!Y31^pomocniczo_do_innych_kalibracji!U11*Eurostat!AA31^pomocniczo_do_innych_kalibracji!W11*Eurostat!AC31^pomocniczo_do_innych_kalibracji!Y11*Eurostat!AE31^pomocniczo_do_innych_kalibracji!AA11)^(1/(pomocniczo_do_innych_kalibracji!M11+pomocniczo_do_innych_kalibracji!O11+pomocniczo_do_innych_kalibracji!Q11+pomocniczo_do_innych_kalibracji!S11+pomocniczo_do_innych_kalibracji!U11+pomocniczo_do_innych_kalibracji!W11+pomocniczo_do_innych_kalibracji!Y11+pomocniczo_do_innych_kalibracji!AA11)))","v":4.5266350583682282},{"$f":"LN((Eurostat!J31^pomocniczo_do_innych_kalibracji!H11*Eurostat!L31^pomocniczo_do_innych_kalibracji!J11)^(1/(pomocniczo_do_innych_kalibracji!H11+pomocniczo_do_innych_kalibracji!J11)))","v":4.6056721033424166},{"$f":"LN((Eurostat!P31^pomocniczo_do_innych_kalibracji!L11*Eurostat!R31^pomocniczo_do_innych_kalibracji!N11*Eurostat!T31^pomocniczo_do_innych_kalibracji!P11*Eurostat!V31^pomocniczo_do_innych_kalibracji!R11*Eurostat!X31^pomocniczo_do_innych_kalibracji!T11*Eurostat!Z31^pomocniczo_do_innych_kalibracji!V11*Eurostat!AB31^pomocniczo_do_innych_kalibracji!X11*Eurostat!AD31^pomocniczo_do_innych_kalibracji!Z11)^(1/(pomocniczo_do_innych_kalibracji!L11+pomocniczo_do_innych_kalibracji!N11+pomocniczo_do_innych_kalibracji!P11+pomocniczo_do_innych_kalibracji!R11+pomocniczo_do_innych_kalibracji!T11+pomocniczo_do_innych_kalibracji!V11+pomocniczo_do_innych_kalibracji!X11+pomocniczo_do_innych_kalibracji!Z11)))","v":4.5213648531378094}]
[{"$f":"dane_do_matlaba!A10","v":"2002Q1"},{"$f":"1-(Eurostat!AI32+Eurostat!AK32)/Eurostat!AG32","v":0.7355851523124658},{"$f":"1-(Eurostat!AH32+Eurostat!AJ32)/Eurostat!AF32","v":0.76635537403837795},{"$f":"Eurostat!C32/SUM(Eurostat!B32:C32)","v":2.9686280156620649E-2},null,{"$f":"Eurostat!AG32/Eurostat!$AG32","v":1},{"$f":"Eurostat!AG32/Eurostat!$AG32","v":1},{"$f":"Eurostat!AI32/Eurostat!$AG32","v":4.5685540395275601E-2},{"$f":"Eurostat!AI32/Eurostat!$AG32","v":4.5685540395275601E-2},{"$f":"Eurostat!AK32/Eurostat!$AG32","v":0.21872930729225865},{"$f":"Eurostat!AK32/Eurostat!$AG32","v":0.21872930729225865},{"$f":"Eurostat!AO32/Eurostat!$AG32","v":7.1150965513614564E-2},{"$f":"Eurostat!AO32/Eurostat!$AG32","v":7.1150965513614564E-2},{"$f":"Eurostat!AQ32/Eurostat!$AG32","v":0.26549263558724451},{"$f":"Eurostat!AQ32/Eurostat!$AG32","v":0.26549263558724451},{"$f":"Eurostat!AS32/Eurostat!$AG32","v":4.3043093986384583E-2},{"$f":"Eurostat!AS32/Eurostat!$AG32","v":4.3043093986384583E-2},{"$f":"Eurostat!AU32/Eurostat!$AG32","v":3.8112751542746501E-2},{"$f":"Eurostat!AU32/Eurostat!$AG32","v":3.8112751542746501E-2},{"$f":"Eurostat!AW32/Eurostat!$AG32","v":6.9180298760996295E-2},{"$f":"Eurostat!AW32/Eurostat!$AG32","v":6.9180298760996295E-2},{"$f":"Eurostat!AY32/Eurostat!$AG32","v":6.4027160707449571E-2},{"$f":"Eurostat!AY32/Eurostat!$AG32","v":6.4027160707449571E-2},{"$f":"Eurostat!BA32/Eurostat!$AG32","v":0.14906439980615649},{"$f":"Eurostat!BA32/Eurostat!$AG32","v":0.14906439980615649},{"$f":"Eurostat!BC32/Eurostat!$AG32","v":3.6028990571900496E-2},{"$f":"Eurostat!BC32/Eurostat!$AG32","v":3.6028990571900496E-2},null,{"$f":"LN((Eurostat!K32^pomocniczo_do_innych_kalibracji!I12*Eurostat!M32^pomocniczo_do_innych_kalibracji!K12)^(1/(pomocniczo_do_innych_kalibracji!I12+pomocniczo_do_innych_kalibracji!K12)))","v":4.5077052258419981},{"$f":"LN((Eurostat!Q32^pomocniczo_do_innych_kalibracji!M12*Eurostat!S32^pomocniczo_do_innych_kalibracji!O12*Eurostat!U32^pomocniczo_do_innych_kalibracji!Q12*Eurostat!W32^pomocniczo_do_innych_kalibracji!S12*Eurostat!Y32^pomocniczo_do_innych_kalibracji!U12*Eurostat!AA32^pomocniczo_do_innych_kalibracji!W12*Eurostat!AC32^pomocniczo_do_innych_kalibracji!Y12*Eurostat!AE32^pomocniczo_do_innych_kalibracji!AA12)^(1/(pomocniczo_do_innych_kalibracji!M12+pomocniczo_do_innych_kalibracji!O12+pomocniczo_do_innych_kalibracji!Q12+pomocniczo_do_innych_kalibracji!S12+pomocniczo_do_innych_kalibracji!U12+pomocniczo_do_innych_kalibracji!W12+pomocniczo_do_innych_kalibracji!Y12+pomocniczo_do_innych_kalibracji!AA12)))","v":4.527046804463251},{"$f":"LN((Eurostat!J32^pomocniczo_do_innych_kalibracji!H12*Eurostat!L32^pomocniczo_do_innych_kalibracji!J12)^(1/(pomocniczo_do_innych_kalibracji!H12+pomocniczo_do_innych_kalibracji!J12)))","v":4.606612254615472},{"$f":"LN((Eurostat!P32^pomocniczo_do_innych_kalibracji!L12*Eurostat!R32^pomocniczo_do_innych_kalibracji!N12*Eurostat!T32^pomocniczo_do_innych_kalibracji!P12*Eurostat!V32^pomocniczo_do_innych_kalibracji!R12*Eurostat!X32^pomocniczo_do_innych_kalibracji!T12*Eurostat!Z32^pomocniczo_do_innych_kalibracji!V12*Eurostat!AB32^pomocniczo_do_innych_kalibracji!X12*Eurostat!AD32^pomocniczo_do_innych_kalibracji!Z12)^(1/(pomocniczo_do_innych_kalibracji!L12+pomocniczo_do_innych_kalibracji!N12+pomocniczo_do_innych_kalibracji!P12+pomocniczo_do_innych_kalibracji!R12+pomocniczo_do_innych_kalibracji!T12+pomocniczo_do_innych_kalibracji!V12+pomocniczo_do_innych_kalibracji!X12+pomocniczo_do_innych_kalibracji!Z12)))","v":4.5293297723323169}]
[{"$f":"dane_do_matlaba!A11","v":"2002Q2"},{"$f":"1-(Eurostat!AI33+Eurostat!AK33)/Eurostat!AG33","v":0.73966683377304254},{"$f":"1-(Eurostat!AH33+Eurostat!AJ33)/Eurostat!AF33","v":0.76650999233803241},{"$f":"Eurostat!C33/SUM(Eurostat!B33:C33)","v":2.8774993879745279E-2},null,{"$f":"Eurostat!AG33/Eurostat!$AG33","v":1},{"$f":"Eurostat!AG33/Eurostat!$AG33","v":1},{"$f":"Eurostat!AI33/Eurostat!$AG33","v":4.2993038359634299E-2},{"$f":"Eurostat!AI33/Eurostat!$AG33","v":4.2993038359634299E-2},{"$f":"Eurostat!AK33/Eurostat!$AG33","v":0.21734012786732315},{"$f":"Eurostat!AK33/Eurostat!$AG33","v":0.21734012786732315},{"$f":"Eurostat!AO33/Eurostat!$AG33","v":6.7622380101175314E-2},{"$f":"Eurostat!AO33/Eurostat!$AG33","v":6.7622380101175314E-2},{"$f":"Eurostat!AQ33/Eurostat!$AG33","v":0.26357176656195791},{"$f":"Eurostat!AQ33/Eurostat!$AG33","v":0.26357176656195791},{"$f":"Eurostat!AS33/Eurostat!$AG33","v":4.3291804304367666E-2},{"$f":"Eurostat!AS33/Eurostat!$AG33","v":4.3291804304367666E-2},{"$f":"Eurostat!AU33/Eurostat!$AG33","v":4.3869643523277581E-2},{"$f":"Eurostat!AU33/Eurostat!$AG33","v":4.3869643523277581E-2},{"$f":"Eurostat!AW33/Eurostat!$AG33","v":6.9275439132487224E-2},{"$f":"Eurostat!AW33/Eurostat!$AG33","v":6.9275439132487224E-2},{"$f":"Eurostat!AY33/Eurostat!$AG33","v":6.2699775109702247E-2},{"$f":"Eurostat!AY33/Eurostat!$AG33","v":6.2699775109702247E-2},{"$f":"Eurostat!BA33/Eurostat!$AG33","v":0.15001313782450004},{"$f":"Eurostat!BA33/Eurostat!$AG33","v":0.15001313782450004},{"$f":"Eurostat!BC33/Eurostat!$AG33","v":3.6094414539717588E-2},{"$f":"Eurostat!BC33/Eurostat!$AG33","v":3.6094414539717588E-2},null,{"$f":"LN((Eurostat!K33^pomocniczo_do_innych_kalibracji!I13*Eurostat!M33^pomocniczo_do_innych_kalibracji!K13)^(1/(pomocniczo_do_innych_kalibracji!I13+pomocniczo_do_innych_kalibracji!K13)))","v":4.495015604214502},{"$f":"LN((Eurostat!Q33^pomocniczo_do_innych_kalibracji!M13*Eurostat!S33^pomocniczo_do_innych_kalibracji!O13*Eurostat!U33^pomocniczo_do_innych_kalibracji!Q13*Eurostat!W33^pomocniczo_do_innych_kalibracji!S13*Eurostat!Y33^pomocniczo_do_innych_kalibracji!U13*Eurostat!AA33^pomocniczo_do_innych_kalibracji!W13*Eurostat!AC33^pomocniczo_do_innych_kalibracji!Y13*Eurostat!AE33^pomocniczo_do_innych_kalibracji!AA13)^(1/(pomocniczo_do_innych_kalibracji!M13+pomocniczo_do_innych_kalibracji!O13+pomocniczo_do_innych_kalibracji!Q13+pomocniczo_do_innych_kalibracji!S13+pomocniczo_do_innych_kalibracji!U13+pomocniczo_do_innych_kalibracji!W13+pomocniczo_do_innych_kalibracji!Y13+pomocniczo_do_innych_kalibracji!AA13)))","v":4.5356848746417242},{"$f":"LN((Eurostat!J33^pomocniczo_do_innych_kalibracji!H13*Eurostat!L33^pomocniczo_do_innych_kalibracji!J13)^(1/(pomocniczo_do_innych_kalibracji!H13+pomocniczo_do_innych_kalibracji!J13)))","v":4.603262401279836},{"$f":"LN((Eurostat!P33^pomocniczo_do_innych_kalibracji!L13*Eurostat!R33^pomocniczo_do_innych_kalibracji!N13*Eurostat!T33^pomocniczo_do_innych_kalibracji!P13*Eurostat!V33^pomocniczo_do_innych_kalibracji!R13*Eurostat!X33^pomocniczo_do_innych_kalibracji!T13*Eurostat!Z33^pomocniczo_do_innych_kalibracji!V13*Eurostat!AB33^pomocniczo_do_innych_kalibracji!X13*Eurostat!AD33^pomocniczo_do_innych_kalibracji!Z13)^(1/(pomocniczo_do_innych_kalibracji!L13+pomocniczo_do_innych_kalibracji!N13+pomocniczo_do_innych_kalibracji!P13+pomocniczo_do_innych_kalibracji!R13+pomocniczo_do_innych_kalibracji!T13+pomocniczo_do_innych_kalibracji!V13+pomocniczo_do_innych_kalibracji!X13+pomocniczo_do_innych_kalibracji!Z13)))","v":4.5332536476791621}]
[{"$f":"dane_do_matlaba!A12","v":"2002Q3"},{"$f":"1-(Eurostat!AI34+Eurostat!AK34)/Eurostat!AG34","v":0.73211073550787187},{"$f":"1-(Eurostat!AH34+Eurostat!AJ34)/Eurostat!AF34","v":0.7669587905301789},{"$f":"Eurostat!C34/SUM(Eurostat!B34:C34)","v":2.6265455620612714E-2},null,{"$f":"Eurostat!AG34/Eurostat!$AG34","v":1},{"$f":"Eurostat!AG34/Eurostat!$AG34","v":1},{"$f":"Eurostat!AI34/Eurostat!$AG34","v":4.7773761855170606E-2},{"$f":"Eurostat!AI34/Eurostat!$AG34","v":4.7773761855170606E-2},{"$f":"Eurostat!AK34/Eurostat!$AG34","v":0.22011550263695751},{"$f":"Eurostat!AK34/Eurostat!$AG34","v":0.22011550263695751},{"$f":"Eurostat!AO34/Eurostat!$AG34","v":6.6631767123516539E-2},{"$f":"Eurostat!AO34/Eurostat!$AG34","v":6.6631767123516539E-2},{"$f":"Eurostat!AQ34/Eurostat!$AG34","v":0.26114065815340576},{"$f":"Eurostat!AQ34/Eurostat!$AG34","v":0.26114065815340576},{"$f":"Eurostat!AS34/Eurostat!$AG34","v":4.3855916864832957E-2},{"$f":"Eurostat!AS34/Eurostat!$AG34","v":4.3855916864832957E-2},{"$f":"Eurostat!AU34/Eurostat!$AG34","v":4.3448817406704053E-2},{"$f":"Eurostat!AU34/Eurostat!$AG34","v":4.3448817406704053E-2},{"$f":"Eurostat!AW34/Eurostat!$AG34","v":6.9563885655730864E-2},{"$f":"Eurostat!AW34/Eurostat!$AG34","v":6.9563885655730864E-2},{"$f":"Eurostat!AY34/Eurostat!$AG34","v":6.3898464605737254E-2},{"$f":"Eurostat!AY34/Eurostat!$AG34","v":6.3898464605737254E-2},{"$f":"Eurostat!BA34/Eurostat!$AG34","v":0.14932697716121918},{"$f":"Eurostat!BA34/Eurostat!$AG34","v":0.14932697716121918},{"$f":"Eurostat!BC34/Eurostat!$AG34","v":3.5881556890896234E-2},{"$f":"Eurostat!BC34/Eurostat!$AG34","v":3.5881556890896234E-2},null,{"$f":"LN((Eurostat!K34^pomocniczo_do_innych_kalibracji!I14*Eurostat!M34^pomocniczo_do_innych_kalibracji!K14)^(1/(pomocniczo_do_innych_kalibracji!I14+pomocniczo_do_innych_kalibracji!K14)))","v":4.525983821150807},{"$f":"LN((Eurostat!Q34^pomocniczo_do_innych_kalibracji!M14*Eurostat!S34^pomocniczo_do_innych_kalibracji!O14*Eurostat!U34^pomocniczo_do_innych_kalibracji!Q14*Eurostat!W34^pomocniczo_do_innych_kalibracji!S14*Eurostat!Y34^pomocniczo_do_innych_kalibracji!U14*Eurostat!AA34^pomocniczo_do_innych_kalibracji!W14*Eurostat!AC34^pomocniczo_do_innych_kalibracji!Y14*Eurostat!AE34^pomocniczo_do_innych_kalibracji!AA14)^(1/(pomocniczo_do_innych_kalibracji!M14+pomocniczo_do_innych_kalibracji!O14+pomocniczo_do_innych_kalibracji!Q14+pomocniczo_do_innych_kalibracji!S14+pomocniczo_do_innych_kalibracji!U14+pomocniczo_do_innych_kalibracji!W14+pomocniczo_do_innych_kalibracji!Y14+pomocniczo_do_innych_kalibracji!AA14)))","v":4.5343400641121292},{"$f":"LN((Eurostat!J34^pomocniczo_do_innych_kalibracji!H14*Eurostat!L34^pomocniczo_do_innych_kalibracji!J14)^(1/(pomocniczo_do_innych_kalibracji!H14+pomocniczo_do_innych_kalibracji!J14)))","v":4.6093110269200395},{"$f":"LN((Eurostat!P34^pomocniczo_do_innych_kalibracji!L14*Eurostat!R34^pomocniczo_do_innych_kalibracji!N14*Eurostat!T34^pomocniczo_do_innych_kalibracji!P14*Eurostat!V34^pomocniczo_do_innych_kalibracji!R14*Eurostat!X34^pomocniczo_do_innych_kalibracji!T14*Eurostat!Z34^pomocniczo_do_innych_kalibracji!V14*Eurostat!AB34^pomocniczo_do_innych_kalibracji!X14*Eurostat!AD34^pomocniczo_do_innych_kalibracji!Z14)^(1/(pomocniczo_do_innych_kalibracji!L14+pomocniczo_do_innych_kalibracji!N14+pomocniczo_do_innych_kalibracji!P14+pomocniczo_do_innych_kalibracji!R14+pomocniczo_do_innych_kalibracji!T14+pomocniczo_do_innych_kalibracji!V14+pomocniczo_do_innych_kalibracji!X14+pomocniczo_do_innych_kalibracji!Z14)))","v":4.5418643256391427}]
[{"$f":"dane_do_matlaba!A13","v":"2002Q4"},{"$f":"1-(Eurostat!AI35+Eurostat!AK35)/Eurostat!AG35","v":0.72962075592427267},{"$f":"1-(Eurostat!AH35+Eurostat!AJ35)/Eurostat!AF35","v":0.76934820835339945},{"$f":"Eurostat!C35/SUM(Eurostat!B35:C35)","v":2.6841835177906021E-2},null,{"$f":"Eurostat!AG35/Eurostat!$AG35","v":1},{"$f":"Eurostat!AG35/Eurostat!$AG35","v":1},{"$f":"Eurostat!AI35/Eurostat!$AG35","v":4.6134345033976926E-2},{"$f":"Eurostat!AI35/Eurostat!$AG35","v":4.6134345033976926E-2},{"$f":"Eurostat!AK35/Eurostat!$AG35","v":0.22424489904175035},{"$f":"Eurostat!AK35/Eurostat!$AG35","v":0.22424489904175035},{"$f":"Eurostat!AO35/Eurostat!$AG35","v":6.5189931471500609E-2},{"$f":"Eurostat!AO35/Eurostat!$AG35","v":6.5189931471500609E-2},{"$f":"Eurostat!AQ35/Eurostat!$AG35","v":0.25940153324367127},{"$f":"Eurostat!AQ35/Eurostat!$AG35","v":0.25940153324367127},{"$f":"Eurostat!AS35/Eurostat!$AG35","v":4.4680559500220478E-2},{"$f":"Eurostat!AS35/Eurostat!$AG35","v":4.4680559500220478E-2},{"$f":"Eurostat!AU35/Eurostat!$AG35","v":4.2800750155545658E-2},{"$f":"Eurostat!AU35/Eurostat!$AG35","v":4.2800750155545658E-2},{"$f":"Eurostat!AW35/Eurostat!$AG35","v":6.9754630177073396E-2},{"$f":"Eurostat!AW35/Eurostat!$AG35","v":6.9754630177073396E-2},{"$f":"Eurostat!AY35/Eurostat!$AG35","v":6.3833949069433599E-2},{"$f":"Eurostat!AY35/Eurostat!$AG35","v":6.3833949069433599E-2},{"$f":"Eurostat!BA35/Eurostat!$AG35","v":0.15020074507199307},{"$f":"Eurostat!BA35/Eurostat!$AG35","v":0.15020074507199307},{"$f":"Eurostat!BC35/Eurostat!$AG35","v":3.5982711500653679E-2},{"$f":"Eurostat!BC35/Eurostat!$AG35","v":3.5982711500653679E-2},null,{"$f":"LN((Eurostat!K35^pomocniczo_do_innych_kalibracji!I15*Eurostat!M35^pomocniczo_do_innych_kalibracji!K15)^(1/(pomocniczo_do_innych_kalibracji!I15+pomocniczo_do_innych_kalibracji!K15)))","v":4.5262501048213117},{"$f":"LN((Eurostat!Q35^pomocniczo_do_innych_kalibracji!M15*Eurostat!S35^pomocniczo_do_innych_kalibracji!O15*Eurostat!U35^pomocniczo_do_innych_kalibracji!Q15*Eurostat!W35^pomocniczo_do_innych_kalibracji!S15*Eurostat!Y35^pomocniczo_do_innych_kalibracji!U15*Eurostat!AA35^pomocniczo_do_innych_kalibracji!W15*Eurostat!AC35^pomocniczo_do_innych_kalibracji!Y15*Eurostat!AE35^pomocniczo_do_innych_kalibracji!AA15)^(1/(pomocniczo_do_innych_kalibracji!M15+pomocniczo_do_innych_kalibracji!O15+pomocniczo_do_innych_kalibracji!Q15+pomocniczo_do_innych_kalibracji!S15+pomocniczo_do_innych_kalibracji!U15+pomocniczo_do_innych_kalibracji!W15+pomocniczo_do_innych_kalibracji!Y15+pomocniczo_do_innych_kalibracji!AA15)))","v":4.5345383611323173},{"$f":"LN((Eurostat!J35^pomocniczo_do_innych_kalibracji!H15*Eurostat!L35^pomocniczo_do_innych_kalibracji!J15)^(1/(pomocniczo_do_innych_kalibracji!H15+pomocniczo_do_innych_kalibracji!J15)))","v":4.6107009010169371},{"$f":"LN((Eurostat!P35^pomocniczo_do_innych_kalibracji!L15*Eurostat!R35^pomocniczo_do_innych_kalibracji!N15*Eurostat!T35^pomocniczo_do_innych_kalibracji!P15*Eurostat!V35^pomocniczo_do_innych_kalibracji!R15*Eurostat!X35^pomocniczo_do_innych_kalibracji!T15*Eurostat!Z35^pomocniczo_do_innych_kalibracji!V15*Eurostat!AB35^pomocniczo_do_innych_kalibracji!X15*Eurostat!AD35^pomocniczo_do_innych_kalibracji!Z15)^(1/(pomocniczo_do_innych_kalibracji!L15+pomocniczo_do_innych_kalibracji!N15+pomocniczo_do_innych_kalibracji!P15+pomocniczo_do_innych_kalibracji!R15+pomocniczo_do_innych_kalibracji!T15+pomocniczo_do_innych_kalibracji!V15+pomocniczo_do_innych_kalibracji!X15+pomocniczo_do_innych_kalibracji!Z15)))","v":4.550343845964834}]
[{"$f":"dane_do_matlaba!A14","v":"2003Q1"},{"$f":"1-(Eurostat!AI36+Eurostat!AK36)/Eurostat!AG36","v":0.72968795407315623},{"$f":"1-(Eurostat!AH36+Eurostat!AJ36)/Eurostat!AF36","v":0.7695785804672457},{"$f":"Eurostat!C36/SUM(Eurostat!B36:C36)","v":2.5748144703994127E-2},null,{"$f":"Eurostat!AG36/Eurostat!$AG36","v":1},{"$f":"Eurostat!AG36/Eurostat!$AG36","v":1},{"$f":"Eurostat!AI36/Eurostat!$AG36","v":4.3035580144426107E-2},{"$f":"Eurostat!AI36/Eurostat!$AG36","v":4.3035580144426107E-2},{"$f":"Eurostat!AK36/Eurostat!$AG36","v":0.22727646578241775},{"$f":"Eurostat!AK36/Eurostat!$AG36","v":0.22727646578241775},{"$f":"Eurostat!AO36/Eurostat!$AG36","v":6.3083612516929219E-2},{"$f":"Eurostat!AO36/Eurostat!$AG36","v":6.3083612516929219E-2},{"$f":"Eurostat!AQ36/Eurostat!$AG36","v":0.25600541734977544},{"$f":"Eurostat!AQ36/Eurostat!$AG36","v":0.25600541734977544},{"$f":"Eurostat!AS36/Eurostat!$AG36","v":4.421390855206523E-2},{"$f":"Eurostat!AS36/Eurostat!$AG36","v":4.421390855206523E-2},{"$f":"Eurostat!AU36/Eurostat!$AG36","v":4.4084506269979222E-2},{"$f":"Eurostat!AU36/Eurostat!$AG36","v":4.4084506269979222E-2},{"$f":"Eurostat!AW36/Eurostat!$AG36","v":7.0470508890923753E-2},{"$f":"Eurostat!AW36/Eurostat!$AG36","v":7.0470508890923753E-2},{"$f":"Eurostat!AY36/Eurostat!$AG36","v":6.3406021592635031E-2},{"$f":"Eurostat!AY36/Eurostat!$AG36","v":6.3406021592635031E-2},{"$f":"Eurostat!BA36/Eurostat!$AG36","v":0.15109196883378936},{"$f":"Eurostat!BA36/Eurostat!$AG36","v":0.15109196883378936},{"$f":"Eurostat!BC36/Eurostat!$AG36","v":3.5648135455676973E-2},{"$f":"Eurostat!BC36/Eurostat!$AG36","v":3.5648135455676973E-2},null,{"$f":"LN((Eurostat!K36^pomocniczo_do_innych_kalibracji!I16*Eurostat!M36^pomocniczo_do_innych_kalibracji!K16)^(1/(pomocniczo_do_innych_kalibracji!I16+pomocniczo_do_innych_kalibracji!K16)))","v":4.5217835664969117},{"$f":"LN((Eurostat!Q36^pomocniczo_do_innych_kalibracji!M16*Eurostat!S36^pomocniczo_do_innych_kalibracji!O16*Eurostat!U36^pomocniczo_do_innych_kalibracji!Q16*Eurostat!W36^pomocniczo_do_innych_kalibracji!S16*Eurostat!Y36^pomocniczo_do_innych_kalibracji!U16*Eurostat!AA36^pomocniczo_do_innych_kalibracji!W16*Eurostat!AC36^pomocniczo_do_innych_kalibracji!Y16*Eurostat!AE36^pomocniczo_do_innych_kalibracji!AA16)^(1/(pomocniczo_do_innych_kalibracji!M16+pomocniczo_do_innych_kalibracji!O16+pomocniczo_do_innych_kalibracji!Q16+pomocniczo_do_innych_kalibracji!S16+pomocniczo_do_innych_kalibracji!U16+pomocniczo_do_innych_kalibracji!W16+pomocniczo_do_innych_kalibracji!Y16+pomocniczo_do_innych_kalibracji!AA16)))","v":4.5418955194376274},{"$f":"LN((Eurostat!J36^pomocniczo_do_innych_kalibracji!H16*Eurostat!L36^pomocniczo_do_innych_kalibracji!J16)^(1/(pomocniczo_do_innych_kalibracji!H16+pomocniczo_do_innych_kalibracji!J16)))","v":4.6126284334053516},{"$f":"LN((Eurostat!P36^pomocniczo_do_innych_kalibracji!L16*Eurostat!R36^pomocniczo_do_innych_kalibracji!N16*Eurostat!T36^pomocniczo_do_innych_kalibracji!P16*Eurostat!V36^pomocniczo_do_innych_kalibracji!R16*Eurostat!X36^pomocniczo_do_innych_kalibracji!T16*Eurostat!Z36^pomocniczo_do_innych_kalibracji!V16*Eurostat!AB36^pomocniczo_do_innych_kalibracji!X16*Eurostat!AD36^pomocniczo_do_innych_kalibracji!Z16)^(1/(pomocniczo_do_innych_kalibracji!L16+pomocniczo_do_innych_kalibracji!N16+pomocniczo_do_innych_kalibracji!P16+pomocniczo_do_innych_kalibracji!R16+pomocniczo_do_innych_kalibracji!T16+pomocniczo_do_innych_kalibracji!V16+pomocniczo_do_innych_kalibracji!X16+pomocniczo_do_innych_kalibracji!Z16)))","v":4.5548540038293028}]
[{"$f":"dane_do_matlaba!A15","v":"2003Q2"},{"$f":"1-(Eurostat!AI37+Eurostat!AK37)/Eurostat!AG37","v":0.72179486764243861},{"$f":"1-(Eurostat!AH37+Eurostat!AJ37)/Eurostat!AF37","v":0.77299627973738139},{"$f":"Eurostat!C37/SUM(Eurostat!B37:C37)","v":2.5086308996848897E-2},null,{"$f":"Eurostat!AG37/Eurostat!$AG37","v":1},{"$f":"Eurostat!AG37/Eurostat!$AG37","v":1},{"$f":"Eurostat!AI37/Eurostat!$AG37","v":4.6034455395518009E-2},{"$f":"Eurostat!AI37/Eurostat!$AG37","v":4.6034455395518009E-2},{"$f":"Eurostat!AK37/Eurostat!$AG37","v":0.23217067696204333},{"$f":"Eurostat!AK37/Eurostat!$AG37","v":0.23217067696204333},{"$f":"Eurostat!AO37/Eurostat!$AG37","v":6.25307020527055E-2},{"$f":"Eurostat!AO37/Eurostat!$AG37","v":6.25307020527055E-2},{"$f":"Eurostat!AQ37/Eurostat!$AG37","v":0.25515767494636921},{"$f":"Eurostat!AQ37/Eurostat!$AG37","v":0.25515767494636921},{"$f":"Eurostat!AS37/Eurostat!$AG37","v":4.3886526292833072E-2},{"$f":"Eurostat!AS37/Eurostat!$AG37","v":4.3886526292833072E-2},{"$f":"Eurostat!AU37/Eurostat!$AG37","v":4.074749444259107E-2},{"$f":"Eurostat!AU37/Eurostat!$AG37","v":4.074749444259107E-2},{"$f":"Eurostat!AW37/Eurostat!$AG37","v":6.9994202372816575E-2},{"$f":"Eurostat!AW37/Eurostat!$AG37","v":6.9994202372816575E-2},{"$f":"Eurostat!AY37/Eurostat!$AG37","v":6.3170924197913925E-2},{"$f":"Eurostat!AY37/Eurostat!$AG37","v":6.3170924197913925E-2},{"$f":"Eurostat!BA37/Eurostat!$AG37","v":0.14984760985531842},{"$f":"Eurostat!BA37/Eurostat!$AG37","v":0.14984760985531842},{"$f":"Eurostat!BC37/Eurostat!$AG37","v":3.5408171307467491E-2},{"$f":"Eurostat!BC37/Eurostat!$AG37","v":3.5408171307467491E-2},null,{"$f":"LN((Eurostat!K37^pomocniczo_do_innych_kalibracji!I17*Eurostat!M37^pomocniczo_do_innych_kalibracji!K17)^(1/(pomocniczo_do_innych_kalibracji!I17+pomocniczo_do_innych_kalibracji!K17)))","v":4.5424065112638807},{"$f":"LN((Eurostat!Q37^pomocniczo_do_innych_kalibracji!M17*Eurostat!S37^pomocniczo_do_innych_kalibracji!O17*Eurostat!U37^pomocniczo_do_innych_kalibracji!Q17*Eurostat!W37^pomocniczo_do_innych_kalibracji!S17*Eurostat!Y37^pomocniczo_do_innych_kalibracji!U17*Eurostat!AA37^pomocniczo_do_innych_kalibracji!W17*Eurostat!AC37^pomocniczo_do_innych_kalibracji!Y17*Eurostat!AE37^pomocniczo_do_innych_kalibracji!AA17)^(1/(pomocniczo_do_innych_kalibracji!M17+pomocniczo_do_innych_kalibracji!O17+pomocniczo_do_innych_kalibracji!Q17+pomocniczo_do_innych_kalibracji!S17+pomocniczo_do_innych_kalibracji!U17+pomocniczo_do_innych_kalibracji!W17+pomocniczo_do_innych_kalibracji!Y17+pomocniczo_do_innych_kalibracji!AA17)))","v":4.533352172449022},{"$f":"LN((Eurostat!J37^pomocniczo_do_innych_kalibracji!H17*Eurostat!L37^pomocniczo_do_innych_kalibracji!J17)^(1/(pomocniczo_do_innych_kalibracji!H17+pomocniczo_do_innych_kalibracji!J17)))","v":4.613592501004538},{"$f":"LN((Eurostat!P37^pomocniczo_do_innych_kalibracji!L17*Eurostat!R37^pomocniczo_do_innych_kalibracji!N17*Eurostat!T37^pomocniczo_do_innych_kalibracji!P17*Eurostat!V37^pomocniczo_do_innych_kalibracji!R17*Eurostat!X37^pomocniczo_do_innych_kalibracji!T17*Eurostat!Z37^pomocniczo_do_innych_kalibracji!V17*Eurostat!AB37^pomocniczo_do_innych_kalibracji!X17*Eurostat!AD37^pomocniczo_do_innych_kalibracji!Z17)^(1/(pomocniczo_do_innych_kalibracji!L17+pomocniczo_do_innych_kalibracji!N17+pomocniczo_do_innych_kalibracji!P17+pomocniczo_do_innych_kalibracji!R17+pomocniczo_do_innych_kalibracji!T17+pomocniczo_do_innych_kalibracji!V17+pomocniczo_do_innych_kalibracji!X17+pomocniczo_do_innych_kalibracji!Z17)))","v":4.5623980539096891}]
[{"$f":"dane_do_matlaba!A16","v":"2003Q3"},{"$f":"1-(Eurostat!AI38+Eurostat!AK38)/Eurostat!AG38","v":0.71808154821900771},{"$f":"1-(Eurostat!AH38+Eurostat!AJ38)/Eurostat!AF38","v":0.77481746001132346},{"$f":"Eurostat!C38/SUM(Eurostat!B38:C38)","v":2.4594741014004599E-2},null,{"$f":"Eurostat!AG38/Eurostat!$AG38","v":1},{"$f":"Eurostat!AG38/Eurostat!$AG38","v":1},{"$f":"Eurostat!AI38/Eurostat!$AG38","v":4.3520206895412167E-2},{"$f":"Eurostat!AI38/Eurostat!$AG38","v":4.3520206895412167E-2},{"$f":"Eurostat!AK38/Eurostat!$AG38","v":0.23839824488558017},{"$f":"Eurostat!AK38/Eurostat!$AG38","v":0.23839824488558017},{"$f":"Eurostat!AO38/Eurostat!$AG38","v":6.1753611315285777E-2},{"$f":"Eurostat!AO38/Eurostat!$AG38","v":6.1753611315285777E-2},{"$f":"Eurostat!AQ38/Eurostat!$AG38","v":0.25219802389723028},{"$f":"Eurostat!AQ38/Eurostat!$AG38","v":0.25219802389723028},{"$f":"Eurostat!AS38/Eurostat!$AG38","v":4.2838479689699518E-2},{"$f":"Eurostat!AS38/Eurostat!$AG38","v":4.2838479689699518E-2},{"$f":"Eurostat!AU38/Eurostat!$AG38","v":4.0340234644214622E-2},{"$f":"Eurostat!AU38/Eurostat!$AG38","v":4.0340234644214622E-2},{"$f":"Eurostat!AW38/Eurostat!$AG38","v":6.9604401004841374E-2},{"$f":"Eurostat!AW38/Eurostat!$AG38","v":6.9604401004841374E-2},{"$f":"Eurostat!AY38/Eurostat!$AG38","v":6.2223198233372433E-2},{"$f":"Eurostat!AY38/Eurostat!$AG38","v":6.2223198233372433E-2},{"$f":"Eurostat!BA38/Eurostat!$AG38","v":0.15043198265353386},{"$f":"Eurostat!BA38/Eurostat!$AG38","v":0.15043198265353386},{"$f":"Eurostat!BC38/Eurostat!$AG38","v":3.5586266741359944E-2},{"$f":"Eurostat!BC38/Eurostat!$AG38","v":3.5586266741359944E-2},null,{"$f":"LN((Eurostat!K38^pomocniczo_do_innych_kalibracji!I18*Eurostat!M38^pomocniczo_do_innych_kalibracji!K18)^(1/(pomocniczo_do_innych_kalibracji!I18+pomocniczo_do_innych_kalibracji!K18)))","v":4.5349246637162137},{"$f":"LN((Eurostat!Q38^pomocniczo_do_innych_kalibracji!M18*Eurostat!S38^pomocniczo_do_innych_kalibracji!O18*Eurostat!U38^pomocniczo_do_innych_kalibracji!Q18*Eurostat!W38^pomocniczo_do_innych_kalibracji!S18*Eurostat!Y38^pomocniczo_do_innych_kalibracji!U18*Eurostat!AA38^pomocniczo_do_innych_kalibracji!W18*Eurostat!AC38^pomocniczo_do_innych_kalibracji!Y18*Eurostat!AE38^pomocniczo_do_innych_kalibracji!AA18)^(1/(pomocniczo_do_innych_kalibracji!M18+pomocniczo_do_innych_kalibracji!O18+pomocniczo_do_innych_kalibracji!Q18+pomocniczo_do_innych_kalibracji!S18+pomocniczo_do_innych_kalibracji!U18+pomocniczo_do_innych_kalibracji!W18+pomocniczo_do_innych_kalibracji!Y18+pomocniczo_do_innych_kalibracji!AA18)))","v":4.5257199843110962},{"$f":"LN((Eurostat!J38^pomocniczo_do_innych_kalibracji!H18*Eurostat!L38^pomocniczo_do_innych_kalibracji!J18)^(1/(pomocniczo_do_innych_kalibracji!H18+pomocniczo_do_innych_kalibracji!J18)))","v":4.6144197774515758},{"$f":"LN((Eurostat!P38^pomocniczo_do_innych_kalibracji!L18*Eurostat!R38^pomocniczo_do_innych_kalibracji!N18*Eurostat!T38^pomocniczo_do_innych_kalibracji!P18*Eurostat!V38^pomocniczo_do_innych_kalibracji!R18*Eurostat!X38^pomocniczo_do_innych_kalibracji!T18*Eurostat!Z38^pomocniczo_do_innych_kalibracji!V18*Eurostat!AB38^pomocniczo_do_innych_kalibracji!X18*Eurostat!AD38^pomocniczo_do_innych_kalibracji!Z18)^(1/(pomocniczo_do_innych_kalibracji!L18+pomocniczo_do_innych_kalibracji!N18+pomocniczo_do_innych_kalibracji!P18+pomocniczo_do_innych_kalibracji!R18+pomocniczo_do_innych_kalibracji!T18+pomocniczo_do_innych_kalibracji!V18+pomocniczo_do_innych_kalibracji!X18+pomocniczo_do_innych_kalibracji!Z18)))","v":4.5711488279192229}]
[{"$f":"dane_do_matlaba!A17","v":"2003Q4"},{"$f":"1-(Eurostat!AI39+Eurostat!AK39)/Eurostat!AG39","v":0.7121543908478809},{"$f":"1-(Eurostat!AH39+Eurostat!AJ39)/Eurostat!AF39","v":0.77382048019568783},{"$f":"Eurostat!C39/SUM(Eurostat!B39:C39)","v":2.3658708524015873E-2},null,{"$f":"Eurostat!AG39/Eurostat!$AG39","v":1},{"$f":"Eurostat!AG39/Eurostat!$AG39","v":1},{"$f":"Eurostat!AI39/Eurostat!$AG39","v":4.2648283505373738E-2},{"$f":"Eurostat!AI39/Eurostat!$AG39","v":4.2648283505373738E-2},{"$f":"Eurostat!AK39/Eurostat!$AG39","v":0.24519732564674543},{"$f":"Eurostat!AK39/Eurostat!$AG39","v":0.24519732564674543},{"$f":"Eurostat!AO39/Eurostat!$AG39","v":6.0341918823796727E-2},{"$f":"Eurostat!AO39/Eurostat!$AG39","v":6.0341918823796727E-2},{"$f":"Eurostat!AQ39/Eurostat!$AG39","v":0.25359600389786824},{"$f":"Eurostat!AQ39/Eurostat!$AG39","v":0.25359600389786824},{"$f":"Eurostat!AS39/Eurostat!$AG39","v":4.3093274393030852E-2},{"$f":"Eurostat!AS39/Eurostat!$AG39","v":4.3093274393030852E-2},{"$f":"Eurostat!AU39/Eurostat!$AG39","v":4.3340433246906451E-2},{"$f":"Eurostat!AU39/Eurostat!$AG39","v":4.3340433246906451E-2},{"$f":"Eurostat!AW39/Eurostat!$AG39","v":6.9216548413486789E-2},{"$f":"Eurostat!AW39/Eurostat!$AG39","v":6.9216548413486789E-2},{"$f":"Eurostat!AY39/Eurostat!$AG39","v":6.3174537705368794E-2},{"$f":"Eurostat!AY39/Eurostat!$AG39","v":6.3174537705368794E-2},{"$f":"Eurostat!BA39/Eurostat!$AG39","v":0.14709677554775072},{"$f":"Eurostat!BA39/Eurostat!$AG39","v":0.14709677554775072},{"$f":"Eurostat!BC39/Eurostat!$AG39","v":3.5540498631180743E-2},{"$f":"Eurostat!BC39/Eurostat!$AG39","v":3.5540498631180743E-2},null,{"$f":"LN((Eurostat!K39^pomocniczo_do_innych_kalibracji!I19*Eurostat!M39^pomocniczo_do_innych_kalibracji!K19)^(1/(pomocniczo_do_innych_kalibracji!I19+pomocniczo_do_innych_kalibracji!K19)))","v":4.5434910372866426},{"$f":"LN((Eurostat!Q39^pomocniczo_do_innych_kalibracji!M19*Eurostat!S39^pomocniczo_do_innych_kalibracji!O19*Eurostat!U39^pomocniczo_do_innych_kalibracji!Q19*Eurostat!W39^pomocniczo_do_innych_kalibracji!S19*Eurostat!Y39^pomocniczo_do_innych_kalibracji!U19*Eurostat!AA39^pomocniczo_do_innych_kalibracji!W19*Eurostat!AC39^pomocniczo_do_innych_kalibracji!Y19*Eurostat!AE39^pomocniczo_do_innych_kalibracji!AA19)^(1/(pomocniczo_do_innych_kalibracji!M19+pomocniczo_do_innych_kalibracji!O19+pomocniczo_do_innych_kalibracji!Q19+pomocniczo_do_innych_kalibracji!S19+pomocniczo_do_innych_kalibracji!U19+pomocniczo_do_innych_kalibracji!W19+pomocniczo_do_innych_kalibracji!Y19+pomocniczo_do_innych_kalibracji!AA19)))","v":4.5426535542051329},{"$f":"LN((Eurostat!J39^pomocniczo_do_innych_kalibracji!H19*Eurostat!L39^pomocniczo_do_innych_kalibracji!J19)^(1/(pomocniczo_do_innych_kalibracji!H19+pomocniczo_do_innych_kalibracji!J19)))","v":4.6129356090781091},{"$f":"LN((Eurostat!P39^pomocniczo_do_innych_kalibracji!L19*Eurostat!R39^pomocniczo_do_innych_kalibracji!N19*Eurostat!T39^pomocniczo_do_innych_kalibracji!P19*Eurostat!V39^pomocniczo_do_innych_kalibracji!R19*Eurostat!X39^pomocniczo_do_innych_kalibracji!T19*Eurostat!Z39^pomocniczo_do_innych_kalibracji!V19*Eurostat!AB39^pomocniczo_do_innych_kalibracji!X19*Eurostat!AD39^pomocniczo_do_innych_kalibracji!Z19)^(1/(pomocniczo_do_innych_kalibracji!L19+pomocniczo_do_innych_kalibracji!N19+pomocniczo_do_innych_kalibracji!P19+pomocniczo_do_innych_kalibracji!R19+pomocniczo_do_innych_kalibracji!T19+pomocniczo_do_innych_kalibracji!V19+pomocniczo_do_innych_kalibracji!X19+pomocniczo_do_innych_kalibracji!Z19)))","v":4.5746832035241987}]
[{"$f":"dane_do_matlaba!A18","v":"2004Q1"},{"$f":"1-(Eurostat!AI40+Eurostat!AK40)/Eurostat!AG40","v":0.69941156535937643},{"$f":"1-(Eurostat!AH40+Eurostat!AJ40)/Eurostat!AF40","v":0.773628687451552},{"$f":"Eurostat!C40/SUM(Eurostat!B40:C40)","v":2.3839282884722483E-2},null,{"$f":"Eurostat!AG40/Eurostat!$AG40","v":1},{"$f":"Eurostat!AG40/Eurostat!$AG40","v":1},{"$f":"Eurostat!AI40/Eurostat!$AG40","v":4.6347700175606146E-2},{"$f":"Eurostat!AI40/Eurostat!$AG40","v":4.6347700175606146E-2},{"$f":"Eurostat!AK40/Eurostat!$AG40","v":0.25424073446501744},{"$f":"Eurostat!AK40/Eurostat!$AG40","v":0.25424073446501744},{"$f":"Eurostat!AO40/Eurostat!$AG40","v":5.769534900438502E-2},{"$f":"Eurostat!AO40/Eurostat!$AG40","v":5.769534900438502E-2},{"$f":"Eurostat!AQ40/Eurostat!$AG40","v":0.25518192180905142},{"$f":"Eurostat!AQ40/Eurostat!$AG40","v":0.25518192180905142},{"$f":"Eurostat!AS40/Eurostat!$AG40","v":4.8129948550479064E-2},{"$f":"Eurostat!AS40/Eurostat!$AG40","v":4.8129948550479064E-2},{"$f":"Eurostat!AU40/Eurostat!$AG40","v":4.0365794797539462E-2},{"$f":"Eurostat!AU40/Eurostat!$AG40","v":4.0365794797539462E-2},{"$f":"Eurostat!AW40/Eurostat!$AG40","v":6.7387576121671441E-2},{"$f":"Eurostat!AW40/Eurostat!$AG40","v":6.7387576121671441E-2},{"$f":"Eurostat!AY40/Eurostat!$AG40","v":6.1154071289934997E-2},{"$f":"Eurostat!AY40/Eurostat!$AG40","v":6.1154071289934997E-2},{"$f":"Eurostat!BA40/Eurostat!$AG40","v":0.14430204257678919},{"$f":"Eurostat!BA40/Eurostat!$AG40","v":0.14430204257678919},{"$f":"Eurostat!BC40/Eurostat!$AG40","v":3.3240395575957364E-2},{"$f":"Eurostat!BC40/Eurostat!$AG40","v":3.3240395575957364E-2},null,{"$f":"LN((Eurostat!K40^pomocniczo_do_innych_kalibracji!I20*Eurostat!M40^pomocniczo_do_innych_kalibracji!K20)^(1/(pomocniczo_do_innych_kalibracji!I20+pomocniczo_do_innych_kalibracji!K20)))","v":4.5785214369444764},{"$f":"LN((Eurostat!Q40^pomocniczo_do_innych_kalibracji!M20*Eurostat!S40^pomocniczo_do_innych_kalibracji!O20*Eurostat!U40^pomocniczo_do_innych_kalibracji!Q20*Eurostat!W40^pomocniczo_do_innych_kalibracji!S20*Eurostat!Y40^pomocniczo_do_innych_kalibracji!U20*Eurostat!AA40^pomocniczo_do_innych_kalibracji!W20*Eurostat!AC40^pomocniczo_do_innych_kalibracji!Y20*Eurostat!AE40^pomocniczo_do_innych_kalibracji!AA20)^(1/(pomocniczo_do_innych_kalibracji!M20+pomocniczo_do_innych_kalibracji!O20+pomocniczo_do_innych_kalibracji!Q20+pomocniczo_do_innych_kalibracji!S20+pomocniczo_do_innych_kalibracji!U20+pomocniczo_do_innych_kalibracji!W20+pomocniczo_do_innych_kalibracji!Y20+pomocniczo_do_innych_kalibracji!AA20)))","v":4.5426271858454559},{"$f":"LN((Eurostat!J40^pomocniczo_do_innych_kalibracji!H20*Eurostat!L40^pomocniczo_do_innych_kalibracji!J20)^(1/(pomocniczo_do_innych_kalibracji!H20+pomocniczo_do_innych_kalibracji!J20)))","v":4.6030682993635423},{"$f":"LN((Eurostat!P40^pomocniczo_do_innych_kalibracji!L20*Eurostat!R40^pomocniczo_do_innych_kalibracji!N20*Eurostat!T40^pomocniczo_do_innych_kalibracji!P20*Eurostat!V40^pomocniczo_do_innych_kalibracji!R20*Eurostat!X40^pomocniczo_do_innych_kalibracji!T20*Eurostat!Z40^pomocniczo_do_innych_kalibracji!V20*Eurostat!AB40^pomocniczo_do_innych_kalibracji!X20*Eurostat!AD40^pomocniczo_do_innych_kalibracji!Z20)^(1/(pomocniczo_do_innych_kalibracji!L20+pomocniczo_do_innych_kalibracji!N20+pomocniczo_do_innych_kalibracji!P20+pomocniczo_do_innych_kalibracji!R20+pomocniczo_do_innych_kalibracji!T20+pomocniczo_do_innych_kalibracji!V20+pomocniczo_do_innych_kalibracji!X20+pomocniczo_do_innych_kalibracji!Z20)))","v":4.5806396172993358}]
[{"$f":"dane_do_matlaba!A19","v":"2004Q2"},{"$f":"1-(Eurostat!AI41+Eurostat!AK41)/Eurostat!AG41","v":0.70137507880090455},{"$f":"1-(Eurostat!AH41+Eurostat!AJ41)/Eurostat!AF41","v":0.77426555792660945},{"$f":"Eurostat!C41/SUM(Eurostat!B41:C41)","v":2.4383621539925279E-2},null,{"$f":"Eurostat!AG41/Eurostat!$AG41","v":1},{"$f":"Eurostat!AG41/Eurostat!$AG41","v":1},{"$f":"Eurostat!AI41/Eurostat!$AG41","v":5.0639499185583303E-2},{"$f":"Eurostat!AI41/Eurostat!$AG41","v":5.0639499185583303E-2},{"$f":"Eurostat!AK41/Eurostat!$AG41","v":0.24798542201351206},{"$f":"Eurostat!AK41/Eurostat!$AG41","v":0.24798542201351206},{"$f":"Eurostat!AO41/Eurostat!$AG41","v":5.7009168639000456E-2},{"$f":"Eurostat!AO41/Eurostat!$AG41","v":5.7009168639000456E-2},{"$f":"Eurostat!AQ41/Eurostat!$AG41","v":0.24677139369197251},{"$f":"Eurostat!AQ41/Eurostat!$AG41","v":0.24677139369197251},{"$f":"Eurostat!AS41/Eurostat!$AG41","v":4.5773739269933438E-2},{"$f":"Eurostat!AS41/Eurostat!$AG41","v":4.5773739269933438E-2},{"$f":"Eurostat!AU41/Eurostat!$AG41","v":4.1361370940396852E-2},{"$f":"Eurostat!AU41/Eurostat!$AG41","v":4.1361370940396852E-2},{"$f":"Eurostat!AW41/Eurostat!$AG41","v":6.4085936034164515E-2},{"$f":"Eurostat!AW41/Eurostat!$AG41","v":6.4085936034164515E-2},{"$f":"Eurostat!AY41/Eurostat!$AG41","v":6.0221978591235174E-2},{"$f":"Eurostat!AY41/Eurostat!$AG41","v":6.0221978591235174E-2},{"$f":"Eurostat!BA41/Eurostat!$AG41","v":0.1375339259900939},{"$f":"Eurostat!BA41/Eurostat!$AG41","v":0.1375339259900939},{"$f":"Eurostat!BC41/Eurostat!$AG41","v":3.230318584762281E-2},{"$f":"Eurostat!BC41/Eurostat!$AG41","v":3.230318584762281E-2},null,{"$f":"LN((Eurostat!K41^pomocniczo_do_innych_kalibracji!I21*Eurostat!M41^pomocniczo_do_innych_kalibracji!K21)^(1/(pomocniczo_do_innych_kalibracji!I21+pomocniczo_do_innych_kalibracji!K21)))","v":4.6137665010939699},{"$f":"LN((Eurostat!Q41^pomocniczo_do_innych_kalibracji!M21*Eurostat!S41^pomocniczo_do_innych_kalibracji!O21*Eurostat!U41^pomocniczo_do_innych_kalibracji!Q21*Eurostat!W41^pomocniczo_do_innych_kalibracji!S21*Eurostat!Y41^pomocniczo_do_innych_kalibracji!U21*Eurostat!AA41^pomocniczo_do_innych_kalibracji!W21*Eurostat!AC41^pomocniczo_do_innych_kalibracji!Y21*Eurostat!AE41^pomocniczo_do_innych_kalibracji!AA21)^(1/(pomocniczo_do_innych_kalibracji!M21+pomocniczo_do_innych_kalibracji!O21+pomocniczo_do_innych_kalibracji!Q21+pomocniczo_do_innych_kalibracji!S21+pomocniczo_do_innych_kalibracji!U21+pomocniczo_do_innych_kalibracji!W21+pomocniczo_do_innych_kalibracji!Y21+pomocniczo_do_innych_kalibracji!AA21)))","v":4.5664632660219642},{"$f":"LN((Eurostat!J41^pomocniczo_do_innych_kalibracji!H21*Eurostat!L41^pomocniczo_do_innych_kalibracji!J21)^(1/(pomocniczo_do_innych_kalibracji!H21+pomocniczo_do_innych_kalibracji!J21)))","v":4.6032867439931175},{"$f":"LN((Eurostat!P41^pomocniczo_do_innych_kalibracji!L21*Eurostat!R41^pomocniczo_do_innych_kalibracji!N21*Eurostat!T41^pomocniczo_do_innych_kalibracji!P21*Eurostat!V41^pomocniczo_do_innych_kalibracji!R21*Eurostat!X41^pomocniczo_do_innych_kalibracji!T21*Eurostat!Z41^pomocniczo_do_innych_kalibracji!V21*Eurostat!AB41^pomocniczo_do_innych_kalibracji!X21*Eurostat!AD41^pomocniczo_do_innych_kalibracji!Z21)^(1/(pomocniczo_do_innych_kalibracji!L21+pomocniczo_do_innych_kalibracji!N21+pomocniczo_do_innych_kalibracji!P21+pomocniczo_do_innych_kalibracji!R21+pomocniczo_do_innych_kalibracji!T21+pomocniczo_do_innych_kalibracji!V21+pomocniczo_do_innych_kalibracji!X21+pomocniczo_do_innych_kalibracji!Z21)))","v":4.5868787655621279}]
[{"$f":"dane_do_matlaba!A20","v":"2004Q3"},{"$f":"1-(Eurostat!AI42+Eurostat!AK42)/Eurostat!AG42","v":0.697913276313891},{"$f":"1-(Eurostat!AH42+Eurostat!AJ42)/Eurostat!AF42","v":0.7750828273093423},{"$f":"Eurostat!C42/SUM(Eurostat!B42:C42)","v":2.6007893120892332E-2},null,{"$f":"Eurostat!AG42/Eurostat!$AG42","v":1},{"$f":"Eurostat!AG42/Eurostat!$AG42","v":1},{"$f":"Eurostat!AI42/Eurostat!$AG42","v":5.1485747456246775E-2},{"$f":"Eurostat!AI42/Eurostat!$AG42","v":5.1485747456246775E-2},{"$f":"Eurostat!AK42/Eurostat!$AG42","v":0.25060097622986222},{"$f":"Eurostat!AK42/Eurostat!$AG42","v":0.25060097622986222},{"$f":"Eurostat!AO42/Eurostat!$AG42","v":5.81361516142593E-2},{"$f":"Eurostat!AO42/Eurostat!$AG42","v":5.81361516142593E-2},{"$f":"Eurostat!AQ42/Eurostat!$AG42","v":0.2472460548876444},{"$f":"Eurostat!AQ42/Eurostat!$AG42","v":0.2472460548876444},{"$f":"Eurostat!AS42/Eurostat!$AG42","v":4.5503068034583635E-2},{"$f":"Eurostat!AS42/Eurostat!$AG42","v":4.5503068034583635E-2},{"$f":"Eurostat!AU42/Eurostat!$AG42","v":4.190943390076355E-2},{"$f":"Eurostat!AU42/Eurostat!$AG42","v":4.190943390076355E-2},{"$f":"Eurostat!AW42/Eurostat!$AG42","v":6.4366172000715177E-2},{"$f":"Eurostat!AW42/Eurostat!$AG42","v":6.4366172000715177E-2},{"$f":"Eurostat!AY42/Eurostat!$AG42","v":6.1655008247095543E-2},{"$f":"Eurostat!AY42/Eurostat!$AG42","v":6.1655008247095543E-2},{"$f":"Eurostat!BA42/Eurostat!$AG42","v":0.13776460330296056},{"$f":"Eurostat!BA42/Eurostat!$AG42","v":0.13776460330296056},{"$f":"Eurostat!BC42/Eurostat!$AG42","v":3.2828760960775846E-2},{"$f":"Eurostat!BC42/Eurostat!$AG42","v":3.2828760960775846E-2},null,{"$f":"LN((Eurostat!K42^pomocniczo_do_innych_kalibracji!I22*Eurostat!M42^pomocniczo_do_innych_kalibracji!K22)^(1/(pomocniczo_do_innych_kalibracji!I22+pomocniczo_do_innych_kalibracji!K22)))","v":4.6326772974330162},{"$f":"LN((Eurostat!Q42^pomocniczo_do_innych_kalibracji!M22*Eurostat!S42^pomocniczo_do_innych_kalibracji!O22*Eurostat!U42^pomocniczo_do_innych_kalibracji!Q22*Eurostat!W42^pomocniczo_do_innych_kalibracji!S22*Eurostat!Y42^pomocniczo_do_innych_kalibracji!U22*Eurostat!AA42^pomocniczo_do_innych_kalibracji!W22*Eurostat!AC42^pomocniczo_do_innych_kalibracji!Y22*Eurostat!AE42^pomocniczo_do_innych_kalibracji!AA22)^(1/(pomocniczo_do_innych_kalibracji!M22+pomocniczo_do_innych_kalibracji!O22+pomocniczo_do_innych_kalibracji!Q22+pomocniczo_do_innych_kalibracji!S22+pomocniczo_do_innych_kalibracji!U22+pomocniczo_do_innych_kalibracji!W22+pomocniczo_do_innych_kalibracji!Y22+pomocniczo_do_innych_kalibracji!AA22)))","v":4.5746006026682098},{"$f":"LN((Eurostat!J42^pomocniczo_do_innych_kalibracji!H22*Eurostat!L42^pomocniczo_do_innych_kalibracji!J22)^(1/(pomocniczo_do_innych_kalibracji!H22+pomocniczo_do_innych_kalibracji!J22)))","v":4.6043827871602181},{"$f":"LN((Eurostat!P42^pomocniczo_do_innych_kalibracji!L22*Eurostat!R42^pomocniczo_do_innych_kalibracji!N22*Eurostat!T42^pomocniczo_do_innych_kalibracji!P22*Eurostat!V42^pomocniczo_do_innych_kalibracji!R22*Eurostat!X42^pomocniczo_do_innych_kalibracji!T22*Eurostat!Z42^pomocniczo_do_innych_kalibracji!V22*Eurostat!AB42^pomocniczo_do_innych_kalibracji!X22*Eurostat!AD42^pomocniczo_do_innych_kalibracji!Z22)^(1/(pomocniczo_do_innych_kalibracji!L22+pomocniczo_do_innych_kalibracji!N22+pomocniczo_do_innych_kalibracji!P22+pomocniczo_do_innych_kalibracji!R22+pomocniczo_do_innych_kalibracji!T22+pomocniczo_do_innych_kalibracji!V22+pomocniczo_do_innych_kalibracji!X22+pomocniczo_do_innych_kalibracji!Z22)))","v":4.5887834908671499}]
[{"$f":"dane_do_matlaba!A21","v":"2004Q4"},{"$f":"1-(Eurostat!AI43+Eurostat!AK43)/Eurostat!AG43","v":0.69995184304624969},{"$f":"1-(Eurostat!AH43+Eurostat!AJ43)/Eurostat!AF43","v":0.77606403328110174},{"$f":"Eurostat!C43/SUM(Eurostat!B43:C43)","v":2.7376319001248081E-2},null,{"$f":"Eurostat!AG43/Eurostat!$AG43","v":1},{"$f":"Eurostat!AG43/Eurostat!$AG43","v":1},{"$f":"Eurostat!AI43/Eurostat!$AG43","v":5.1483385850956125E-2},{"$f":"Eurostat!AI43/Eurostat!$AG43","v":5.1483385850956125E-2},{"$f":"Eurostat!AK43/Eurostat!$AG43","v":0.24856477110279426},{"$f":"Eurostat!AK43/Eurostat!$AG43","v":0.24856477110279426},{"$f":"Eurostat!AO43/Eurostat!$AG43","v":6.0045464714603695E-2},{"$f":"Eurostat!AO43/Eurostat!$AG43","v":6.0045464714603695E-2},{"$f":"Eurostat!AQ43/Eurostat!$AG43","v":0.24874772960818442},{"$f":"Eurostat!AQ43/Eurostat!$AG43","v":0.24874772960818442},{"$f":"Eurostat!AS43/Eurostat!$AG43","v":4.4362697699462696E-2},{"$f":"Eurostat!AS43/Eurostat!$AG43","v":4.4362697699462696E-2},{"$f":"Eurostat!AU43/Eurostat!$AG43","v":4.5299293571615461E-2},{"$f":"Eurostat!AU43/Eurostat!$AG43","v":4.5299293571615461E-2},{"$f":"Eurostat!AW43/Eurostat!$AG43","v":6.4111788594764921E-2},{"$f":"Eurostat!AW43/Eurostat!$AG43","v":6.4111788594764921E-2},{"$f":"Eurostat!AY43/Eurostat!$AG43","v":6.0685345497704019E-2},{"$f":"Eurostat!AY43/Eurostat!$AG43","v":6.0685345497704019E-2},{"$f":"Eurostat!BA43/Eurostat!$AG43","v":0.15300924082647951},{"$f":"Eurostat!BA43/Eurostat!$AG43","v":0.15300924082647951},{"$f":"Eurostat!BC43/Eurostat!$AG43","v":3.3902779831716093E-2},{"$f":"Eurostat!BC43/Eurostat!$AG43","v":3.3902779831716093E-2},null,{"$f":"LN((Eurostat!K43^pomocniczo_do_innych_kalibracji!I23*Eurostat!M43^pomocniczo_do_innych_kalibracji!K23)^(1/(pomocniczo_do_innych_kalibracji!I23+pomocniczo_do_innych_kalibracji!K23)))","v":4.6367700602853548},{"$f":"LN((Eurostat!Q43^pomocniczo_do_innych_kalibracji!M23*Eurostat!S43^pomocniczo_do_innych_kalibracji!O23*Eurostat!U43^pomocniczo_do_innych_kalibracji!Q23*Eurostat!W43^pomocniczo_do_innych_kalibracji!S23*Eurostat!Y43^pomocniczo_do_innych_kalibracji!U23*Eurostat!AA43^pomocniczo_do_innych_kalibracji!W23*Eurostat!AC43^pomocniczo_do_innych_kalibracji!Y23*Eurostat!AE43^pomocniczo_do_innych_kalibracji!AA23)^(1/(pomocniczo_do_innych_kalibracji!M23+pomocniczo_do_innych_kalibracji!O23+pomocniczo_do_innych_kalibracji!Q23+pomocniczo_do_innych_kalibracji!S23+pomocniczo_do_innych_kalibracji!U23+pomocniczo_do_innych_kalibracji!W23+pomocniczo_do_innych_kalibracji!Y23+pomocniczo_do_innych_kalibracji!AA23)))","v":4.5975042756666253},{"$f":"LN((Eurostat!J43^pomocniczo_do_innych_kalibracji!H23*Eurostat!L43^pomocniczo_do_innych_kalibracji!J23)^(1/(pomocniczo_do_innych_kalibracji!H23+pomocniczo_do_innych_kalibracji!J23)))","v":4.6087024797353697},{"$f":"LN((Eurostat!P43^pomocniczo_do_innych_kalibracji!L23*Eurostat!R43^pomocniczo_do_innych_kalibracji!N23*Eurostat!T43^pomocniczo_do_innych_kalibracji!P23*Eurostat!V43^pomocniczo_do_innych_kalibracji!R23*Eurostat!X43^pomocniczo_do_innych_kalibracji!T23*Eurostat!Z43^pomocniczo_do_innych_kalibracji!V23*Eurostat!AB43^pomocniczo_do_innych_kalibracji!X23*Eurostat!AD43^pomocniczo_do_innych_kalibracji!Z23)^(1/(pomocniczo_do_innych_kalibracji!L23+pomocniczo_do_innych_kalibracji!N23+pomocniczo_do_innych_kalibracji!P23+pomocniczo_do_innych_kalibracji!R23+pomocniczo_do_innych_kalibracji!T23+pomocniczo_do_innych_kalibracji!V23+pomocniczo_do_innych_kalibracji!X23+pomocniczo_do_innych_kalibracji!Z23)))","v":4.5925114264729139}]
[{"$f":"dane_do_matlaba!A22","v":"2005Q1"},{"$f":"1-(Eurostat!AI44+Eurostat!AK44)/Eurostat!AG44","v":0.69753996714701216},{"$f":"1-(Eurostat!AH44+Eurostat!AJ44)/Eurostat!AF44","v":0.77832155236441913},{"$f":"Eurostat!C44/SUM(Eurostat!B44:C44)","v":2.9049139583152448E-2},null,{"$f":"Eurostat!AG44/Eurostat!$AG44","v":1},{"$f":"Eurostat!AG44/Eurostat!$AG44","v":1},{"$f":"Eurostat!AI44/Eurostat!$AG44","v":4.8621671242093489E-2},{"$f":"Eurostat!AI44/Eurostat!$AG44","v":4.8621671242093489E-2},{"$f":"Eurostat!AK44/Eurostat!$AG44","v":0.25383836161089435},{"$f":"Eurostat!AK44/Eurostat!$AG44","v":0.25383836161089435},{"$f":"Eurostat!AO44/Eurostat!$AG44","v":6.2860311929782253E-2},{"$f":"Eurostat!AO44/Eurostat!$AG44","v":6.2860311929782253E-2},{"$f":"Eurostat!AQ44/Eurostat!$AG44","v":0.25271511035685518},{"$f":"Eurostat!AQ44/Eurostat!$AG44","v":0.25271511035685518},{"$f":"Eurostat!AS44/Eurostat!$AG44","v":4.4223912677302676E-2},{"$f":"Eurostat!AS44/Eurostat!$AG44","v":4.4223912677302676E-2},{"$f":"Eurostat!AU44/Eurostat!$AG44","v":4.3971486121465973E-2},{"$f":"Eurostat!AU44/Eurostat!$AG44","v":4.3971486121465973E-2},{"$f":"Eurostat!AW44/Eurostat!$AG44","v":6.4418037144239257E-2},{"$f":"Eurostat!AW44/Eurostat!$AG44","v":6.4418037144239257E-2},{"$f":"Eurostat!AY44/Eurostat!$AG44","v":6.3621814346367711E-2},{"$f":"Eurostat!AY44/Eurostat!$AG44","v":6.3621814346367711E-2},{"$f":"Eurostat!BA44/Eurostat!$AG44","v":0.1404387811644747},{"$f":"Eurostat!BA44/Eurostat!$AG44","v":0.1404387811644747},{"$f":"Eurostat!BC44/Eurostat!$AG44","v":3.5568684655890526E-2},{"$f":"Eurostat!BC44/Eurostat!$AG44","v":3.5568684655890526E-2},null,{"$f":"LN((Eurostat!K44^pomocniczo_do_innych_kalibracji!I24*Eurostat!M44^pomocniczo_do_innych_kalibracji!K24)^(1/(pomocniczo_do_innych_kalibracji!I24+pomocniczo_do_innych_kalibracji!K24)))","v":4.651229521207771},{"$f":"LN((Eurostat!Q44^pomocniczo_do_innych_kalibracji!M24*Eurostat!S44^pomocniczo_do_innych_kalibracji!O24*Eurostat!U44^pomocniczo_do_innych_kalibracji!Q24*Eurostat!W44^pomocniczo_do_innych_kalibracji!S24*Eurostat!Y44^pomocniczo_do_innych_kalibracji!U24*Eurostat!AA44^pomocniczo_do_innych_kalibracji!W24*Eurostat!AC44^pomocniczo_do_innych_kalibracji!Y24*Eurostat!AE44^pomocniczo_do_innych_kalibracji!AA24)^(1/(pomocniczo_do_innych_kalibracji!M24+pomocniczo_do_innych_kalibracji!O24+pomocniczo_do_innych_kalibracji!Q24+pomocniczo_do_innych_kalibracji!S24+pomocniczo_do_innych_kalibracji!U24+pomocniczo_do_innych_kalibracji!W24+pomocniczo_do_innych_kalibracji!Y24+pomocniczo_do_innych_kalibracji!AA24)))","v":4.6072784753757263},{"$f":"LN((Eurostat!J44^pomocniczo_do_innych_kalibracji!H24*Eurostat!L44^pomocniczo_do_innych_kalibracji!J24)^(1/(pomocniczo_do_innych_kalibracji!H24+pomocniczo_do_innych_kalibracji!J24)))","v":4.6063041282456894},{"$f":"LN((Eurostat!P44^pomocniczo_do_innych_kalibracji!L24*Eurostat!R44^pomocniczo_do_innych_kalibracji!N24*Eurostat!T44^pomocniczo_do_innych_kalibracji!P24*Eurostat!V44^pomocniczo_do_innych_kalibracji!R24*Eurostat!X44^pomocniczo_do_innych_kalibracji!T24*Eurostat!Z44^pomocniczo_do_innych_kalibracji!V24*Eurostat!AB44^pomocniczo_do_innych_kalibracji!X24*Eurostat!AD44^pomocniczo_do_innych_kalibracji!Z24)^(1/(pomocniczo_do_innych_kalibracji!L24+pomocniczo_do_innych_kalibracji!N24+pomocniczo_do_innych_kalibracji!P24+pomocniczo_do_innych_kalibracji!R24+pomocniczo_do_innych_kalibracji!T24+pomocniczo_do_innych_kalibracji!V24+pomocniczo_do_innych_kalibracji!X24+pomocniczo_do_innych_kalibracji!Z24)))","v":4.6002358849268354}]
[{"$f":"dane_do_matlaba!A23","v":"2005Q2"},{"$f":"1-(Eurostat!AI45+Eurostat!AK45)/Eurostat!AG45","v":0.72067836324789503},{"$f":"1-(Eurostat!AH45+Eurostat!AJ45)/Eurostat!AF45","v":0.77888707758588893},{"$f":"Eurostat!C45/SUM(Eurostat!B45:C45)","v":2.830393902256562E-2},null,{"$f":"Eurostat!AG45/Eurostat!$AG45","v":1},{"$f":"Eurostat!AG45/Eurostat!$AG45","v":1},{"$f":"Eurostat!AI45/Eurostat!$AG45","v":4.4517762624044305E-2},{"$f":"Eurostat!AI45/Eurostat!$AG45","v":4.4517762624044305E-2},{"$f":"Eurostat!AK45/Eurostat!$AG45","v":0.23480387412806064},{"$f":"Eurostat!AK45/Eurostat!$AG45","v":0.23480387412806064},{"$f":"Eurostat!AO45/Eurostat!$AG45","v":6.2359949972827504E-2},{"$f":"Eurostat!AO45/Eurostat!$AG45","v":6.2359949972827504E-2},{"$f":"Eurostat!AQ45/Eurostat!$AG45","v":0.25337190214923283},{"$f":"Eurostat!AQ45/Eurostat!$AG45","v":0.25337190214923283},{"$f":"Eurostat!AS45/Eurostat!$AG45","v":4.2542638486678025E-2},{"$f":"Eurostat!AS45/Eurostat!$AG45","v":4.2542638486678025E-2},{"$f":"Eurostat!AU45/Eurostat!$AG45","v":4.4320482851548833E-2},{"$f":"Eurostat!AU45/Eurostat!$AG45","v":4.4320482851548833E-2},{"$f":"Eurostat!AW45/Eurostat!$AG45","v":6.4400213657715866E-2},{"$f":"Eurostat!AW45/Eurostat!$AG45","v":6.4400213657715866E-2},{"$f":"Eurostat!AY45/Eurostat!$AG45","v":6.2555368615393778E-2},{"$f":"Eurostat!AY45/Eurostat!$AG45","v":6.2555368615393778E-2},{"$f":"Eurostat!BA45/Eurostat!$AG45","v":0.14095779329546554},{"$f":"Eurostat!BA45/Eurostat!$AG45","v":0.14095779329546554},{"$f":"Eurostat!BC45/Eurostat!$AG45","v":3.4413688238403295E-2},{"$f":"Eurostat!BC45/Eurostat!$AG45","v":3.4413688238403295E-2},null,{"$f":"LN((Eurostat!K45^pomocniczo_do_innych_kalibracji!I25*Eurostat!M45^pomocniczo_do_innych_kalibracji!K25)^(1/(pomocniczo_do_innych_kalibracji!I25+pomocniczo_do_innych_kalibracji!K25)))","v":4.5588335000840967},{"$f":"LN((Eurostat!Q45^pomocniczo_do_innych_kalibracji!M25*Eurostat!S45^pomocniczo_do_innych_kalibracji!O25*Eurostat!U45^pomocniczo_do_innych_kalibracji!Q25*Eurostat!W45^pomocniczo_do_innych_kalibracji!S25*Eurostat!Y45^pomocniczo_do_innych_kalibracji!U25*Eurostat!AA45^pomocniczo_do_innych_kalibracji!W25*Eurostat!AC45^pomocniczo_do_innych_kalibracji!Y25*Eurostat!AE45^pomocniczo_do_innych_kalibracji!AA25)^(1/(pomocniczo_do_innych_kalibracji!M25+pomocniczo_do_innych_kalibracji!O25+pomocniczo_do_innych_kalibracji!Q25+pomocniczo_do_innych_kalibracji!S25+pomocniczo_do_innych_kalibracji!U25+pomocniczo_do_innych_kalibracji!W25+pomocniczo_do_innych_kalibracji!Y25+pomocniczo_do_innych_kalibracji!AA25)))","v":4.5883108800361345},{"$f":"LN((Eurostat!J45^pomocniczo_do_innych_kalibracji!H25*Eurostat!L45^pomocniczo_do_innych_kalibracji!J25)^(1/(pomocniczo_do_innych_kalibracji!H25+pomocniczo_do_innych_kalibracji!J25)))","v":4.6041696856545071},{"$f":"LN((Eurostat!P45^pomocniczo_do_innych_kalibracji!L25*Eurostat!R45^pomocniczo_do_innych_kalibracji!N25*Eurostat!T45^pomocniczo_do_innych_kalibracji!P25*Eurostat!V45^pomocniczo_do_innych_kalibracji!R25*Eurostat!X45^pomocniczo_do_innych_kalibracji!T25*Eurostat!Z45^pomocniczo_do_innych_kalibracji!V25*Eurostat!AB45^pomocniczo_do_innych_kalibracji!X25*Eurostat!AD45^pomocniczo_do_innych_kalibracji!Z25)^(1/(pomocniczo_do_innych_kalibracji!L25+pomocniczo_do_innych_kalibracji!N25+pomocniczo_do_innych_kalibracji!P25+pomocniczo_do_innych_kalibracji!R25+pomocniczo_do_innych_kalibracji!T25+pomocniczo_do_innych_kalibracji!V25+pomocniczo_do_innych_kalibracji!X25+pomocniczo_do_innych_kalibracji!Z25)))","v":4.6030631664959323}]
[{"$f":"dane_do_matlaba!A24","v":"2005Q3"},{"$f":"1-(Eurostat!AI46+Eurostat!AK46)/Eurostat!AG46","v":0.71240937410132088},{"$f":"1-(Eurostat!AH46+Eurostat!AJ46)/Eurostat!AF46","v":0.77927710187344412},{"$f":"Eurostat!C46/SUM(Eurostat!B46:C46)","v":2.9224859927289751E-2},null,{"$f":"Eurostat!AG46/Eurostat!$AG46","v":1},{"$f":"Eurostat!AG46/Eurostat!$AG46","v":1},{"$f":"Eurostat!AI46/Eurostat!$AG46","v":4.6696857689660906E-2},{"$f":"Eurostat!AI46/Eurostat!$AG46","v":4.6696857689660906E-2},{"$f":"Eurostat!AK46/Eurostat!$AG46","v":0.24089376820901817},{"$f":"Eurostat!AK46/Eurostat!$AG46","v":0.24089376820901817},{"$f":"Eurostat!AO46/Eurostat!$AG46","v":6.2702877518713201E-2},{"$f":"Eurostat!AO46/Eurostat!$AG46","v":6.2702877518713201E-2},{"$f":"Eurostat!AQ46/Eurostat!$AG46","v":0.25737112080727448},{"$f":"Eurostat!AQ46/Eurostat!$AG46","v":0.25737112080727448},{"$f":"Eurostat!AS46/Eurostat!$AG46","v":4.2737846183812433E-2},{"$f":"Eurostat!AS46/Eurostat!$AG46","v":4.2737846183812433E-2},{"$f":"Eurostat!AU46/Eurostat!$AG46","v":4.4159654098711601E-2},{"$f":"Eurostat!AU46/Eurostat!$AG46","v":4.4159654098711601E-2},{"$f":"Eurostat!AW46/Eurostat!$AG46","v":6.4384699417403296E-2},{"$f":"Eurostat!AW46/Eurostat!$AG46","v":6.4384699417403296E-2},{"$f":"Eurostat!AY46/Eurostat!$AG46","v":6.2258648680681691E-2},{"$f":"Eurostat!AY46/Eurostat!$AG46","v":6.2258648680681691E-2},{"$f":"Eurostat!BA46/Eurostat!$AG46","v":0.14014478093132782},{"$f":"Eurostat!BA46/Eurostat!$AG46","v":0.14014478093132782},{"$f":"Eurostat!BC46/Eurostat!$AG46","v":3.4628717487915781E-2},{"$f":"Eurostat!BC46/Eurostat!$AG46","v":3.4628717487915781E-2},null,{"$f":"LN((Eurostat!K46^pomocniczo_do_innych_kalibracji!I26*Eurostat!M46^pomocniczo_do_innych_kalibracji!K26)^(1/(pomocniczo_do_innych_kalibracji!I26+pomocniczo_do_innych_kalibracji!K26)))","v":4.5882882323736238},{"$f":"LN((Eurostat!Q46^pomocniczo_do_innych_kalibracji!M26*Eurostat!S46^pomocniczo_do_innych_kalibracji!O26*Eurostat!U46^pomocniczo_do_innych_kalibracji!Q26*Eurostat!W46^pomocniczo_do_innych_kalibracji!S26*Eurostat!Y46^pomocniczo_do_innych_kalibracji!U26*Eurostat!AA46^pomocniczo_do_innych_kalibracji!W26*Eurostat!AC46^pomocniczo_do_innych_kalibracji!Y26*Eurostat!AE46^pomocniczo_do_innych_kalibracji!AA26)^(1/(pomocniczo_do_innych_kalibracji!M26+pomocniczo_do_innych_kalibracji!O26+pomocniczo_do_innych_kalibracji!Q26+pomocniczo_do_innych_kalibracji!S26+pomocniczo_do_innych_kalibracji!U26+pomocniczo_do_innych_kalibracji!W26+pomocniczo_do_innych_kalibracji!Y26+pomocniczo_do_innych_kalibracji!AA26)))","v":4.603167007200363},{"$f":"LN((Eurostat!J46^pomocniczo_do_innych_kalibracji!H26*Eurostat!L46^pomocniczo_do_innych_kalibracji!J26)^(1/(pomocniczo_do_innych_kalibracji!H26+pomocniczo_do_innych_kalibracji!J26)))","v":4.6038659808266278},{"$f":"LN((Eurostat!P46^pomocniczo_do_innych_kalibracji!L26*Eurostat!R46^pomocniczo_do_innych_kalibracji!N26*Eurostat!T46^pomocniczo_do_innych_kalibracji!P26*Eurostat!V46^pomocniczo_do_innych_kalibracji!R26*Eurostat!X46^pomocniczo_do_innych_kalibracji!T26*Eurostat!Z46^pomocniczo_do_innych_kalibracji!V26*Eurostat!AB46^pomocniczo_do_innych_kalibracji!X26*Eurostat!AD46^pomocniczo_do_innych_kalibracji!Z26)^(1/(pomocniczo_do_innych_kalibracji!L26+pomocniczo_do_innych_kalibracji!N26+pomocniczo_do_innych_kalibracji!P26+pomocniczo_do_innych_kalibracji!R26+pomocniczo_do_innych_kalibracji!T26+pomocniczo_do_innych_kalibracji!V26+pomocniczo_do_innych_kalibracji!X26+pomocniczo_do_innych_kalibracji!Z26)))","v":4.6058628732888627}]
[{"$f":"dane_do_matlaba!A25","v":"2005Q4"},{"$f":"1-(Eurostat!AI47+Eurostat!AK47)/Eurostat!AG47","v":0.70624204744589991},{"$f":"1-(Eurostat!AH47+Eurostat!AJ47)/Eurostat!AF47","v":0.78012716208671251},{"$f":"Eurostat!C47/SUM(Eurostat!B47:C47)","v":3.0035687732133103E-2},null,{"$f":"Eurostat!AG47/Eurostat!$AG47","v":1},{"$f":"Eurostat!AG47/Eurostat!$AG47","v":1},{"$f":"Eurostat!AI47/Eurostat!$AG47","v":4.5752373879850206E-2},{"$f":"Eurostat!AI47/Eurostat!$AG47","v":4.5752373879850206E-2},{"$f":"Eurostat!AK47/Eurostat!$AG47","v":0.2480055786742498},{"$f":"Eurostat!AK47/Eurostat!$AG47","v":0.2480055786742498},{"$f":"Eurostat!AO47/Eurostat!$AG47","v":6.3489116604253742E-2},{"$f":"Eurostat!AO47/Eurostat!$AG47","v":6.3489116604253742E-2},{"$f":"Eurostat!AQ47/Eurostat!$AG47","v":0.25680783912407568},{"$f":"Eurostat!AQ47/Eurostat!$AG47","v":0.25680783912407568},{"$f":"Eurostat!AS47/Eurostat!$AG47","v":4.2670065793942245E-2},{"$f":"Eurostat!AS47/Eurostat!$AG47","v":4.2670065793942245E-2},{"$f":"Eurostat!AU47/Eurostat!$AG47","v":4.3078051629905675E-2},{"$f":"Eurostat!AU47/Eurostat!$AG47","v":4.3078051629905675E-2},{"$f":"Eurostat!AW47/Eurostat!$AG47","v":6.450160975543491E-2},{"$f":"Eurostat!AW47/Eurostat!$AG47","v":6.450160975543491E-2},{"$f":"Eurostat!AY47/Eurostat!$AG47","v":6.3861782911687592E-2},{"$f":"Eurostat!AY47/Eurostat!$AG47","v":6.3861782911687592E-2},{"$f":"Eurostat!BA47/Eurostat!$AG47","v":0.13998940414144112},{"$f":"Eurostat!BA47/Eurostat!$AG47","v":0.13998940414144112},{"$f":"Eurostat!BC47/Eurostat!$AG47","v":3.5345791768738595E-2},{"$f":"Eurostat!BC47/Eurostat!$AG47","v":3.5345791768738595E-2},null,{"$f":"LN((Eurostat!K47^pomocniczo_do_innych_kalibracji!I27*Eurostat!M47^pomocniczo_do_innych_kalibracji!K27)^(1/(pomocniczo_do_innych_kalibracji!I27+pomocniczo_do_innych_kalibracji!K27)))","v":4.6019523770412256},{"$f":"LN((Eurostat!Q47^pomocniczo_do_innych_kalibracji!M27*Eurostat!S47^pomocniczo_do_innych_kalibracji!O27*Eurostat!U47^pomocniczo_do_innych_kalibracji!Q27*Eurostat!W47^pomocniczo_do_innych_kalibracji!S27*Eurostat!Y47^pomocniczo_do_innych_kalibracji!U27*Eurostat!AA47^pomocniczo_do_innych_kalibracji!W27*Eurostat!AC47^pomocniczo_do_innych_kalibracji!Y27*Eurostat!AE47^pomocniczo_do_innych_kalibracji!AA27)^(1/(pomocniczo_do_innych_kalibracji!M27+pomocniczo_do_innych_kalibracji!O27+pomocniczo_do_innych_kalibracji!Q27+pomocniczo_do_innych_kalibracji!S27+pomocniczo_do_innych_kalibracji!U27+pomocniczo_do_innych_kalibracji!W27+pomocniczo_do_innych_kalibracji!Y27+pomocniczo_do_innych_kalibracji!AA27)))","v":4.6130336910863807},{"$f":"LN((Eurostat!J47^pomocniczo_do_innych_kalibracji!H27*Eurostat!L47^pomocniczo_do_innych_kalibracji!J27)^(1/(pomocniczo_do_innych_kalibracji!H27+pomocniczo_do_innych_kalibracji!J27)))","v":4.6063445687835793},{"$f":"LN((Eurostat!P47^pomocniczo_do_innych_kalibracji!L27*Eurostat!R47^pomocniczo_do_innych_kalibracji!N27*Eurostat!T47^pomocniczo_do_innych_kalibracji!P27*Eurostat!V47^pomocniczo_do_innych_kalibracji!R27*Eurostat!X47^pomocniczo_do_innych_kalibracji!T27*Eurostat!Z47^pomocniczo_do_innych_kalibracji!V27*Eurostat!AB47^pomocniczo_do_innych_kalibracji!X27*Eurostat!AD47^pomocniczo_do_innych_kalibracji!Z27)^(1/(pomocniczo_do_innych_kalibracji!L27+pomocniczo_do_innych_kalibracji!N27+pomocniczo_do_innych_kalibracji!P27+pomocniczo_do_innych_kalibracji!R27+pomocniczo_do_innych_kalibracji!T27+pomocniczo_do_innych_kalibracji!V27+pomocniczo_do_innych_kalibracji!X27+pomocniczo_do_innych_kalibracji!Z27)))","v":4.6114705412777548}]
[{"$f":"dane_do_matlaba!A26","v":"2006Q1"},{"$f":"1-(Eurostat!AI48+Eurostat!AK48)/Eurostat!AG48","v":0.70734141411446072},{"$f":"1-(Eurostat!AH48+Eurostat!AJ48)/Eurostat!AF48","v":0.77868727441834418},{"$f":"Eurostat!C48/SUM(Eurostat!B48:C48)","v":3.0751782939034362E-2},null,{"$f":"Eurostat!AG48/Eurostat!$AG48","v":1},{"$f":"Eurostat!AG48/Eurostat!$AG48","v":1},{"$f":"Eurostat!AI48/Eurostat!$AG48","v":4.6880093571620762E-2},{"$f":"Eurostat!AI48/Eurostat!$AG48","v":4.6880093571620762E-2},{"$f":"Eurostat!AK48/Eurostat!$AG48","v":0.24577849231391857},{"$f":"Eurostat!AK48/Eurostat!$AG48","v":0.24577849231391857},{"$f":"Eurostat!AO48/Eurostat!$AG48","v":6.3228443282211388E-2},{"$f":"Eurostat!AO48/Eurostat!$AG48","v":6.3228443282211388E-2},{"$f":"Eurostat!AQ48/Eurostat!$AG48","v":0.25592683268513639},{"$f":"Eurostat!AQ48/Eurostat!$AG48","v":0.25592683268513639},{"$f":"Eurostat!AS48/Eurostat!$AG48","v":4.1230662495080152E-2},{"$f":"Eurostat!AS48/Eurostat!$AG48","v":4.1230662495080152E-2},{"$f":"Eurostat!AU48/Eurostat!$AG48","v":4.5611717799732714E-2},{"$f":"Eurostat!AU48/Eurostat!$AG48","v":4.5611717799732714E-2},{"$f":"Eurostat!AW48/Eurostat!$AG48","v":6.4471914059981011E-2},{"$f":"Eurostat!AW48/Eurostat!$AG48","v":6.4471914059981011E-2},{"$f":"Eurostat!AY48/Eurostat!$AG48","v":6.3611802298819908E-2},{"$f":"Eurostat!AY48/Eurostat!$AG48","v":6.3611802298819908E-2},{"$f":"Eurostat!BA48/Eurostat!$AG48","v":0.13981797117691663},{"$f":"Eurostat!BA48/Eurostat!$AG48","v":0.13981797117691663},{"$f":"Eurostat!BC48/Eurostat!$AG48","v":3.2915507583793073E-2},{"$f":"Eurostat!BC48/Eurostat!$AG48","v":3.2915507583793073E-2},null,{"$f":"LN((Eurostat!K48^pomocniczo_do_innych_kalibracji!I28*Eurostat!M48^pomocniczo_do_innych_kalibracji!K28)^(1/(pomocniczo_do_innych_kalibracji!I28+pomocniczo_do_innych_kalibracji!K28)))","v":4.5859489440123404},{"$f":"LN((Eurostat!Q48^pomocniczo_do_innych_kalibracji!M28*Eurostat!S48^pomocniczo_do_innych_kalibracji!O28*Eurostat!U48^pomocniczo_do_innych_kalibracji!Q28*Eurostat!W48^pomocniczo_do_innych_kalibracji!S28*Eurostat!Y48^pomocniczo_do_innych_kalibracji!U28*Eurostat!AA48^pomocniczo_do_innych_kalibracji!W28*Eurostat!AC48^pomocniczo_do_innych_kalibracji!Y28*Eurostat!AE48^pomocniczo_do_innych_kalibracji!AA28)^(1/(pomocniczo_do_innych_kalibracji!M28+pomocniczo_do_innych_kalibracji!O28+pomocniczo_do_innych_kalibracji!Q28+pomocniczo_do_innych_kalibracji!S28+pomocniczo_do_innych_kalibracji!U28+pomocniczo_do_innych_kalibracji!W28+pomocniczo_do_innych_kalibracji!Y28+pomocniczo_do_innych_kalibracji!AA28)))","v":4.6089658699309473},{"$f":"LN((Eurostat!J48^pomocniczo_do_innych_kalibracji!H28*Eurostat!L48^pomocniczo_do_innych_kalibracji!J28)^(1/(pomocniczo_do_innych_kalibracji!H28+pomocniczo_do_innych_kalibracji!J28)))","v":4.6077488554141546},{"$f":"LN((Eurostat!P48^pomocniczo_do_innych_kalibracji!L28*Eurostat!R48^pomocniczo_do_innych_kalibracji!N28*Eurostat!T48^pomocniczo_do_innych_kalibracji!P28*Eurostat!V48^pomocniczo_do_innych_kalibracji!R28*Eurostat!X48^pomocniczo_do_innych_kalibracji!T28*Eurostat!Z48^pomocniczo_do_innych_kalibracji!V28*Eurostat!AB48^pomocniczo_do_innych_kalibracji!X28*Eurostat!AD48^pomocniczo_do_innych_kalibracji!Z28)^(1/(pomocniczo_do_innych_kalibracji!L28+pomocniczo_do_innych_kalibracji!N28+pomocniczo_do_innych_kalibracji!P28+pomocniczo_do_innych_kalibracji!R28+pomocniczo_do_innych_kalibracji!T28+pomocniczo_do_innych_kalibracji!V28+pomocniczo_do_innych_kalibracji!X28+pomocniczo_do_innych_kalibracji!Z28)))","v":4.6124714765217307}]
[{"$f":"dane_do_matlaba!A27","v":"2006Q2"},{"$f":"1-(Eurostat!AI49+Eurostat!AK49)/Eurostat!AG49","v":0.70821806665202036},{"$f":"1-(Eurostat!AH49+Eurostat!AJ49)/Eurostat!AF49","v":0.77900814322288037},{"$f":"Eurostat!C49/SUM(Eurostat!B49:C49)","v":3.0162928602586885E-2},null,{"$f":"Eurostat!AG49/Eurostat!$AG49","v":1},{"$f":"Eurostat!AG49/Eurostat!$AG49","v":1},{"$f":"Eurostat!AI49/Eurostat!$AG49","v":4.3915681126571848E-2},{"$f":"Eurostat!AI49/Eurostat!$AG49","v":4.3915681126571848E-2},{"$f":"Eurostat!AK49/Eurostat!$AG49","v":0.24786625222140773},{"$f":"Eurostat!AK49/Eurostat!$AG49","v":0.24786625222140773},{"$f":"Eurostat!AO49/Eurostat!$AG49","v":6.6391868288194628E-2},{"$f":"Eurostat!AO49/Eurostat!$AG49","v":6.6391868288194628E-2},{"$f":"Eurostat!AQ49/Eurostat!$AG49","v":0.25764240392751414},{"$f":"Eurostat!AQ49/Eurostat!$AG49","v":0.25764240392751414},{"$f":"Eurostat!AS49/Eurostat!$AG49","v":4.1949748874885527E-2},{"$f":"Eurostat!AS49/Eurostat!$AG49","v":4.1949748874885527E-2},{"$f":"Eurostat!AU49/Eurostat!$AG49","v":4.5617545912718521E-2},{"$f":"Eurostat!AU49/Eurostat!$AG49","v":4.5617545912718521E-2},{"$f":"Eurostat!AW49/Eurostat!$AG49","v":6.4050499096210606E-2},{"$f":"Eurostat!AW49/Eurostat!$AG49","v":6.4050499096210606E-2},{"$f":"Eurostat!AY49/Eurostat!$AG49","v":6.4475530255736505E-2},{"$f":"Eurostat!AY49/Eurostat!$AG49","v":6.4475530255736505E-2},{"$f":"Eurostat!BA49/Eurostat!$AG49","v":0.13820777802671563},{"$f":"Eurostat!BA49/Eurostat!$AG49","v":0.13820777802671563},{"$f":"Eurostat!BC49/Eurostat!$AG49","v":3.3484798719251037E-2},{"$f":"Eurostat!BC49/Eurostat!$AG49","v":3.3484798719251037E-2},null,{"$f":"LN((Eurostat!K49^pomocniczo_do_innych_kalibracji!I29*Eurostat!M49^pomocniczo_do_innych_kalibracji!K29)^(1/(pomocniczo_do_innych_kalibracji!I29+pomocniczo_do_innych_kalibracji!K29)))","v":4.602975229971519},{"$f":"LN((Eurostat!Q49^pomocniczo_do_innych_kalibracji!M29*Eurostat!S49^pomocniczo_do_innych_kalibracji!O29*Eurostat!U49^pomocniczo_do_innych_kalibracji!Q29*Eurostat!W49^pomocniczo_do_innych_kalibracji!S29*Eurostat!Y49^pomocniczo_do_innych_kalibracji!U29*Eurostat!AA49^pomocniczo_do_innych_kalibracji!W29*Eurostat!AC49^pomocniczo_do_innych_kalibracji!Y29*Eurostat!AE49^pomocniczo_do_innych_kalibracji!AA29)^(1/(pomocniczo_do_innych_kalibracji!M29+pomocniczo_do_innych_kalibracji!O29+pomocniczo_do_innych_kalibracji!Q29+pomocniczo_do_innych_kalibracji!S29+pomocniczo_do_innych_kalibracji!U29+pomocniczo_do_innych_kalibracji!W29+pomocniczo_do_innych_kalibracji!Y29+pomocniczo_do_innych_kalibracji!AA29)))","v":4.6254113636561334},{"$f":"LN((Eurostat!J49^pomocniczo_do_innych_kalibracji!H29*Eurostat!L49^pomocniczo_do_innych_kalibracji!J29)^(1/(pomocniczo_do_innych_kalibracji!H29+pomocniczo_do_innych_kalibracji!J29)))","v":4.6097407289510093},{"$f":"LN((Eurostat!P49^pomocniczo_do_innych_kalibracji!L29*Eurostat!R49^pomocniczo_do_innych_kalibracji!N29*Eurostat!T49^pomocniczo_do_innych_kalibracji!P29*Eurostat!V49^pomocniczo_do_innych_kalibracji!R29*Eurostat!X49^pomocniczo_do_innych_kalibracji!T29*Eurostat!Z49^pomocniczo_do_innych_kalibracji!V29*Eurostat!AB49^pomocniczo_do_innych_kalibracji!X29*Eurostat!AD49^pomocniczo_do_innych_kalibracji!Z29)^(1/(pomocniczo_do_innych_kalibracji!L29+pomocniczo_do_innych_kalibracji!N29+pomocniczo_do_innych_kalibracji!P29+pomocniczo_do_innych_kalibracji!R29+pomocniczo_do_innych_kalibracji!T29+pomocniczo_do_innych_kalibracji!V29+pomocniczo_do_innych_kalibracji!X29+pomocniczo_do_innych_kalibracji!Z29)))","v":4.6181734601200199}]
[{"$f":"dane_do_matlaba!A28","v":"2006Q3"},{"$f":"1-(Eurostat!AI50+Eurostat!AK50)/Eurostat!AG50","v":0.71181851560495724},{"$f":"1-(Eurostat!AH50+Eurostat!AJ50)/Eurostat!AF50","v":0.77848612498642189},{"$f":"Eurostat!C50/SUM(Eurostat!B50:C50)","v":3.0465634875498214E-2},null,{"$f":"Eurostat!AG50/Eurostat!$AG50","v":1},{"$f":"Eurostat!AG50/Eurostat!$AG50","v":1},{"$f":"Eurostat!AI50/Eurostat!$AG50","v":4.2118089429251306E-2},{"$f":"Eurostat!AI50/Eurostat!$AG50","v":4.2118089429251306E-2},{"$f":"Eurostat!AK50/Eurostat!$AG50","v":0.24606339496579149},{"$f":"Eurostat!AK50/Eurostat!$AG50","v":0.24606339496579149},{"$f":"Eurostat!AO50/Eurostat!$AG50","v":6.8710993988782526E-2},{"$f":"Eurostat!AO50/Eurostat!$AG50","v":6.8710993988782526E-2},{"$f":"Eurostat!AQ50/Eurostat!$AG50","v":0.25689243583858162},{"$f":"Eurostat!AQ50/Eurostat!$AG50","v":0.25689243583858162},{"$f":"Eurostat!AS50/Eurostat!$AG50","v":4.1212726643831216E-2},{"$f":"Eurostat!AS50/Eurostat!$AG50","v":4.1212726643831216E-2},{"$f":"Eurostat!AU50/Eurostat!$AG50","v":4.6772113634942242E-2},{"$f":"Eurostat!AU50/Eurostat!$AG50","v":4.6772113634942242E-2},{"$f":"Eurostat!AW50/Eurostat!$AG50","v":6.3443467369287188E-2},{"$f":"Eurostat!AW50/Eurostat!$AG50","v":6.3443467369287188E-2},{"$f":"Eurostat!AY50/Eurostat!$AG50","v":6.3787232938187291E-2},{"$f":"Eurostat!AY50/Eurostat!$AG50","v":6.3787232938187291E-2},{"$f":"Eurostat!BA50/Eurostat!$AG50","v":0.13833415800197324},{"$f":"Eurostat!BA50/Eurostat!$AG50","v":0.13833415800197324},{"$f":"Eurostat!BC50/Eurostat!$AG50","v":3.3527353826242674E-2},{"$f":"Eurostat!BC50/Eurostat!$AG50","v":3.3527353826242674E-2},null,{"$f":"LN((Eurostat!K50^pomocniczo_do_innych_kalibracji!I30*Eurostat!M50^pomocniczo_do_innych_kalibracji!K30)^(1/(pomocniczo_do_innych_kalibracji!I30+pomocniczo_do_innych_kalibracji!K30)))","v":4.5957447815785217},{"$f":"LN((Eurostat!Q50^pomocniczo_do_innych_kalibracji!M30*Eurostat!S50^pomocniczo_do_innych_kalibracji!O30*Eurostat!U50^pomocniczo_do_innych_kalibracji!Q30*Eurostat!W50^pomocniczo_do_innych_kalibracji!S30*Eurostat!Y50^pomocniczo_do_innych_kalibracji!U30*Eurostat!AA50^pomocniczo_do_innych_kalibracji!W30*Eurostat!AC50^pomocniczo_do_innych_kalibracji!Y30*Eurostat!AE50^pomocniczo_do_innych_kalibracji!AA30)^(1/(pomocniczo_do_innych_kalibracji!M30+pomocniczo_do_innych_kalibracji!O30+pomocniczo_do_innych_kalibracji!Q30+pomocniczo_do_innych_kalibracji!S30+pomocniczo_do_innych_kalibracji!U30+pomocniczo_do_innych_kalibracji!W30+pomocniczo_do_innych_kalibracji!Y30+pomocniczo_do_innych_kalibracji!AA30)))","v":4.6286258454990525},{"$f":"LN((Eurostat!J50^pomocniczo_do_innych_kalibracji!H30*Eurostat!L50^pomocniczo_do_innych_kalibracji!J30)^(1/(pomocniczo_do_innych_kalibracji!H30+pomocniczo_do_innych_kalibracji!J30)))","v":4.617590213654112},{"$f":"LN((Eurostat!P50^pomocniczo_do_innych_kalibracji!L30*Eurostat!R50^pomocniczo_do_innych_kalibracji!N30*Eurostat!T50^pomocniczo_do_innych_kalibracji!P30*Eurostat!V50^pomocniczo_do_innych_kalibracji!R30*Eurostat!X50^pomocniczo_do_innych_kalibracji!T30*Eurostat!Z50^pomocniczo_do_innych_kalibracji!V30*Eurostat!AB50^pomocniczo_do_innych_kalibracji!X30*Eurostat!AD50^pomocniczo_do_innych_kalibracji!Z30)^(1/(pomocniczo_do_innych_kalibracji!L30+pomocniczo_do_innych_kalibracji!N30+pomocniczo_do_innych_kalibracji!P30+pomocniczo_do_innych_kalibracji!R30+pomocniczo_do_innych_kalibracji!T30+pomocniczo_do_innych_kalibracji!V30+pomocniczo_do_innych_kalibracji!X30+pomocniczo_do_innych_kalibracji!Z30)))","v":4.6214670621695184}]
[{"$f":"dane_do_matlaba!A29","v":"2006Q4"},{"$f":"1-(Eurostat!AI51+Eurostat!AK51)/Eurostat!AG51","v":0.71439937708756929},{"$f":"1-(Eurostat!AH51+Eurostat!AJ51)/Eurostat!AF51","v":0.77874130807576813},{"$f":"Eurostat!C51/SUM(Eurostat!B51:C51)","v":3.1639273630173333E-2},null,{"$f":"Eurostat!AG51/Eurostat!$AG51","v":1},{"$f":"Eurostat!AG51/Eurostat!$AG51","v":1},{"$f":"Eurostat!AI51/Eurostat!$AG51","v":3.9296885106157149E-2},{"$f":"Eurostat!AI51/Eurostat!$AG51","v":3.9296885106157149E-2},{"$f":"Eurostat!AK51/Eurostat!$AG51","v":0.24630373780627357},{"$f":"Eurostat!AK51/Eurostat!$AG51","v":0.24630373780627357},{"$f":"Eurostat!AO51/Eurostat!$AG51","v":7.1089300699532648E-2},{"$f":"Eurostat!AO51/Eurostat!$AG51","v":7.1089300699532648E-2},{"$f":"Eurostat!AQ51/Eurostat!$AG51","v":0.25529417520490105},{"$f":"Eurostat!AQ51/Eurostat!$AG51","v":0.25529417520490105},{"$f":"Eurostat!AS51/Eurostat!$AG51","v":4.0529525319499674E-2},{"$f":"Eurostat!AS51/Eurostat!$AG51","v":4.0529525319499674E-2},{"$f":"Eurostat!AU51/Eurostat!$AG51","v":4.4268907117056458E-2},{"$f":"Eurostat!AU51/Eurostat!$AG51","v":4.4268907117056458E-2},{"$f":"Eurostat!AW51/Eurostat!$AG51","v":6.2569447438861378E-2},{"$f":"Eurostat!AW51/Eurostat!$AG51","v":6.2569447438861378E-2},{"$f":"Eurostat!AY51/Eurostat!$AG51","v":6.2682636398916039E-2},{"$f":"Eurostat!AY51/Eurostat!$AG51","v":6.2682636398916039E-2},{"$f":"Eurostat!BA51/Eurostat!$AG51","v":0.13853955560272915},{"$f":"Eurostat!BA51/Eurostat!$AG51","v":0.13853955560272915},{"$f":"Eurostat!BC51/Eurostat!$AG51","v":3.4883344887175899E-2},{"$f":"Eurostat!BC51/Eurostat!$AG51","v":3.4883344887175899E-2},null,{"$f":"LN((Eurostat!K51^pomocniczo_do_innych_kalibracji!I31*Eurostat!M51^pomocniczo_do_innych_kalibracji!K31)^(1/(pomocniczo_do_innych_kalibracji!I31+pomocniczo_do_innych_kalibracji!K31)))","v":4.5948842336322766},{"$f":"LN((Eurostat!Q51^pomocniczo_do_innych_kalibracji!M31*Eurostat!S51^pomocniczo_do_innych_kalibracji!O31*Eurostat!U51^pomocniczo_do_innych_kalibracji!Q31*Eurostat!W51^pomocniczo_do_innych_kalibracji!S31*Eurostat!Y51^pomocniczo_do_innych_kalibracji!U31*Eurostat!AA51^pomocniczo_do_innych_kalibracji!W31*Eurostat!AC51^pomocniczo_do_innych_kalibracji!Y31*Eurostat!AE51^pomocniczo_do_innych_kalibracji!AA31)^(1/(pomocniczo_do_innych_kalibracji!M31+pomocniczo_do_innych_kalibracji!O31+pomocniczo_do_innych_kalibracji!Q31+pomocniczo_do_innych_kalibracji!S31+pomocniczo_do_innych_kalibracji!U31+pomocniczo_do_innych_kalibracji!W31+pomocniczo_do_innych_kalibracji!Y31+pomocniczo_do_innych_kalibracji!AA31)))","v":4.6411723433353131},{"$f":"LN((Eurostat!J51^pomocniczo_do_innych_kalibracji!H31*Eurostat!L51^pomocniczo_do_innych_kalibracji!J31)^(1/(pomocniczo_do_innych_kalibracji!H31+pomocniczo_do_innych_kalibracji!J31)))","v":4.6204177786792444},{"$f":"LN((Eurostat!P51^pomocniczo_do_innych_kalibracji!L31*Eurostat!R51^pomocniczo_do_innych_kalibracji!N31*Eurostat!T51^pomocniczo_do_innych_kalibracji!P31*Eurostat!V51^pomocniczo_do_innych_kalibracji!R31*Eurostat!X51^pomocniczo_do_innych_kalibracji!T31*Eurostat!Z51^pomocniczo_do_innych_kalibracji!V31*Eurostat!AB51^pomocniczo_do_innych_kalibracji!X31*Eurostat!AD51^pomocniczo_do_innych_kalibracji!Z31)^(1/(pomocniczo_do_innych_kalibracji!L31+pomocniczo_do_innych_kalibracji!N31+pomocniczo_do_innych_kalibracji!P31+pomocniczo_do_innych_kalibracji!R31+pomocniczo_do_innych_kalibracji!T31+pomocniczo_do_innych_kalibracji!V31+pomocniczo_do_innych_kalibracji!X31+pomocniczo_do_innych_kalibracji!Z31)))","v":4.6252286761016865}]
[{"$f":"dane_do_matlaba!A30","v":"2007Q1"},{"$f":"1-(Eurostat!AI52+Eurostat!AK52)/Eurostat!AG52","v":0.71051811346106641},{"$f":"1-(Eurostat!AH52+Eurostat!AJ52)/Eurostat!AF52","v":0.77904570696817821},{"$f":"Eurostat!C52/SUM(Eurostat!B52:C52)","v":3.1698120242440946E-2},null,{"$f":"Eurostat!AG52/Eurostat!$AG52","v":1},{"$f":"Eurostat!AG52/Eurostat!$AG52","v":1},{"$f":"Eurostat!AI52/Eurostat!$AG52","v":4.5828703763517262E-2},{"$f":"Eurostat!AI52/Eurostat!$AG52","v":4.5828703763517262E-2},{"$f":"Eurostat!AK52/Eurostat!$AG52","v":0.24365318277541634},{"$f":"Eurostat!AK52/Eurostat!$AG52","v":0.24365318277541634},{"$f":"Eurostat!AO52/Eurostat!$AG52","v":7.2392475549411514E-2},{"$f":"Eurostat!AO52/Eurostat!$AG52","v":7.2392475549411514E-2},{"$f":"Eurostat!AQ52/Eurostat!$AG52","v":0.25234937210113562},{"$f":"Eurostat!AQ52/Eurostat!$AG52","v":0.25234937210113562},{"$f":"Eurostat!AS52/Eurostat!$AG52","v":4.0314805364271775E-2},{"$f":"Eurostat!AS52/Eurostat!$AG52","v":4.0314805364271775E-2},{"$f":"Eurostat!AU52/Eurostat!$AG52","v":5.2877223808477924E-2},{"$f":"Eurostat!AU52/Eurostat!$AG52","v":5.2877223808477924E-2},{"$f":"Eurostat!AW52/Eurostat!$AG52","v":6.1622669603751887E-2},{"$f":"Eurostat!AW52/Eurostat!$AG52","v":6.1622669603751887E-2},{"$f":"Eurostat!AY52/Eurostat!$AG52","v":6.5347992919988107E-2},{"$f":"Eurostat!AY52/Eurostat!$AG52","v":6.5347992919988107E-2},{"$f":"Eurostat!BA52/Eurostat!$AG52","v":0.13721116329246391},{"$f":"Eurostat!BA52/Eurostat!$AG52","v":0.13721116329246391},{"$f":"Eurostat!BC52/Eurostat!$AG52","v":3.2935620986808953E-2},{"$f":"Eurostat!BC52/Eurostat!$AG52","v":3.2935620986808953E-2},null,{"$f":"LN((Eurostat!K52^pomocniczo_do_innych_kalibracji!I32*Eurostat!M52^pomocniczo_do_innych_kalibracji!K32)^(1/(pomocniczo_do_innych_kalibracji!I32+pomocniczo_do_innych_kalibracji!K32)))","v":4.6205522304264841},{"$f":"LN((Eurostat!Q52^pomocniczo_do_innych_kalibracji!M32*Eurostat!S52^pomocniczo_do_innych_kalibracji!O32*Eurostat!U52^pomocniczo_do_innych_kalibracji!Q32*Eurostat!W52^pomocniczo_do_innych_kalibracji!S32*Eurostat!Y52^pomocniczo_do_innych_kalibracji!U32*Eurostat!AA52^pomocniczo_do_innych_kalibracji!W32*Eurostat!AC52^pomocniczo_do_innych_kalibracji!Y32*Eurostat!AE52^pomocniczo_do_innych_kalibracji!AA32)^(1/(pomocniczo_do_innych_kalibracji!M32+pomocniczo_do_innych_kalibracji!O32+pomocniczo_do_innych_kalibracji!Q32+pomocniczo_do_innych_kalibracji!S32+pomocniczo_do_innych_kalibracji!U32+pomocniczo_do_innych_kalibracji!W32+pomocniczo_do_innych_kalibracji!Y32+pomocniczo_do_innych_kalibracji!AA32)))","v":4.6534999616431234},{"$f":"LN((Eurostat!J52^pomocniczo_do_innych_kalibracji!H32*Eurostat!L52^pomocniczo_do_innych_kalibracji!J32)^(1/(pomocniczo_do_innych_kalibracji!H32+pomocniczo_do_innych_kalibracji!J32)))","v":4.6199832422654215},{"$f":"LN((Eurostat!P52^pomocniczo_do_innych_kalibracji!L32*Eurostat!R52^pomocniczo_do_innych_kalibracji!N32*Eurostat!T52^pomocniczo_do_innych_kalibracji!P32*Eurostat!V52^pomocniczo_do_innych_kalibracji!R32*Eurostat!X52^pomocniczo_do_innych_kalibracji!T32*Eurostat!Z52^pomocniczo_do_innych_kalibracji!V32*Eurostat!AB52^pomocniczo_do_innych_kalibracji!X32*Eurostat!AD52^pomocniczo_do_innych_kalibracji!Z32)^(1/(pomocniczo_do_innych_kalibracji!L32+pomocniczo_do_innych_kalibracji!N32+pomocniczo_do_innych_kalibracji!P32+pomocniczo_do_innych_kalibracji!R32+pomocniczo_do_innych_kalibracji!T32+pomocniczo_do_innych_kalibracji!V32+pomocniczo_do_innych_kalibracji!X32+pomocniczo_do_innych_kalibracji!Z32)))","v":4.6319832602299664}]
[{"$f":"dane_do_matlaba!A31","v":"2007Q2"},{"$f":"1-(Eurostat!AI53+Eurostat!AK53)/Eurostat!AG53","v":0.7116456430743564},{"$f":"1-(Eurostat!AH53+Eurostat!AJ53)/Eurostat!AF53","v":0.77814580967612657},{"$f":"Eurostat!C53/SUM(Eurostat!B53:C53)","v":3.2835447859303965E-2},null,{"$f":"Eurostat!AG53/Eurostat!$AG53","v":1},{"$f":"Eurostat!AG53/Eurostat!$AG53","v":1},{"$f":"Eurostat!AI53/Eurostat!$AG53","v":4.2898693328350432E-2},{"$f":"Eurostat!AI53/Eurostat!$AG53","v":4.2898693328350432E-2},{"$f":"Eurostat!AK53/Eurostat!$AG53","v":0.24545566359729315},{"$f":"Eurostat!AK53/Eurostat!$AG53","v":0.24545566359729315},{"$f":"Eurostat!AO53/Eurostat!$AG53","v":7.2949066375892213E-2},{"$f":"Eurostat!AO53/Eurostat!$AG53","v":7.2949066375892213E-2},{"$f":"Eurostat!AQ53/Eurostat!$AG53","v":0.2504090001316685},{"$f":"Eurostat!AQ53/Eurostat!$AG53","v":0.2504090001316685},{"$f":"Eurostat!AS53/Eurostat!$AG53","v":4.0398963366991579E-2},{"$f":"Eurostat!AS53/Eurostat!$AG53","v":4.0398963366991579E-2},{"$f":"Eurostat!AU53/Eurostat!$AG53","v":5.1700770378850416E-2},{"$f":"Eurostat!AU53/Eurostat!$AG53","v":5.1700770378850416E-2},{"$f":"Eurostat!AW53/Eurostat!$AG53","v":6.0999955059262645E-2},{"$f":"Eurostat!AW53/Eurostat!$AG53","v":6.0999955059262645E-2},{"$f":"Eurostat!AY53/Eurostat!$AG53","v":6.4899943784656605E-2},{"$f":"Eurostat!AY53/Eurostat!$AG53","v":6.4899943784656605E-2},{"$f":"Eurostat!BA53/Eurostat!$AG53","v":0.1371043342581664},{"$f":"Eurostat!BA53/Eurostat!$AG53","v":0.1371043342581664},{"$f":"Eurostat!BC53/Eurostat!$AG53","v":3.2417251881794826E-2},{"$f":"Eurostat!BC53/Eurostat!$AG53","v":3.2417251881794826E-2},null,{"$f":"LN((Eurostat!K53^pomocniczo_do_innych_kalibracji!I33*Eurostat!M53^pomocniczo_do_innych_kalibracji!K33)^(1/(pomocniczo_do_innych_kalibracji!I33+pomocniczo_do_innych_kalibracji!K33)))","v":4.6121132365138253},{"$f":"LN((Eurostat!Q53^pomocniczo_do_innych_kalibracji!M33*Eurostat!S53^pomocniczo_do_innych_kalibracji!O33*Eurostat!U53^pomocniczo_do_innych_kalibracji!Q33*Eurostat!W53^pomocniczo_do_innych_kalibracji!S33*Eurostat!Y53^pomocniczo_do_innych_kalibracji!U33*Eurostat!AA53^pomocniczo_do_innych_kalibracji!W33*Eurostat!AC53^pomocniczo_do_innych_kalibracji!Y33*Eurostat!AE53^pomocniczo_do_innych_kalibracji!AA33)^(1/(pomocniczo_do_innych_kalibracji!M33+pomocniczo_do_innych_kalibracji!O33+pomocniczo_do_innych_kalibracji!Q33+pomocniczo_do_innych_kalibracji!S33+pomocniczo_do_innych_kalibracji!U33+pomocniczo_do_innych_kalibracji!W33+pomocniczo_do_innych_kalibracji!Y33+pomocniczo_do_innych_kalibracji!AA33)))","v":4.6641893900918374},{"$f":"LN((Eurostat!J53^pomocniczo_do_innych_kalibracji!H33*Eurostat!L53^pomocniczo_do_innych_kalibracji!J33)^(1/(pomocniczo_do_innych_kalibracji!H33+pomocniczo_do_innych_kalibracji!J33)))","v":4.6289090711584517},{"$f":"LN((Eurostat!P53^pomocniczo_do_innych_kalibracji!L33*Eurostat!R53^pomocniczo_do_innych_kalibracji!N33*Eurostat!T53^pomocniczo_do_innych_kalibracji!P33*Eurostat!V53^pomocniczo_do_innych_kalibracji!R33*Eurostat!X53^pomocniczo_do_innych_kalibracji!T33*Eurostat!Z53^pomocniczo_do_innych_kalibracji!V33*Eurostat!AB53^pomocniczo_do_innych_kalibracji!X33*Eurostat!AD53^pomocniczo_do_innych_kalibracji!Z33)^(1/(pomocniczo_do_innych_kalibracji!L33+pomocniczo_do_innych_kalibracji!N33+pomocniczo_do_innych_kalibracji!P33+pomocniczo_do_innych_kalibracji!R33+pomocniczo_do_innych_kalibracji!T33+pomocniczo_do_innych_kalibracji!V33+pomocniczo_do_innych_kalibracji!X33+pomocniczo_do_innych_kalibracji!Z33)))","v":4.6376329590571945}]
[{"$f":"dane_do_matlaba!A32","v":"2007Q3"},{"$f":"1-(Eurostat!AI54+Eurostat!AK54)/Eurostat!AG54","v":0.71243645094615982},{"$f":"1-(Eurostat!AH54+Eurostat!AJ54)/Eurostat!AF54","v":0.77837338599183437},{"$f":"Eurostat!C54/SUM(Eurostat!B54:C54)","v":3.3466189266983484E-2},null,{"$f":"Eurostat!AG54/Eurostat!$AG54","v":1},{"$f":"Eurostat!AG54/Eurostat!$AG54","v":1},{"$f":"Eurostat!AI54/Eurostat!$AG54","v":4.2128058976287054E-2},{"$f":"Eurostat!AI54/Eurostat!$AG54","v":4.2128058976287054E-2},{"$f":"Eurostat!AK54/Eurostat!$AG54","v":0.24543549007755311},{"$f":"Eurostat!AK54/Eurostat!$AG54","v":0.24543549007755311},{"$f":"Eurostat!AO54/Eurostat!$AG54","v":7.4533755982386374E-2},{"$f":"Eurostat!AO54/Eurostat!$AG54","v":7.4533755982386374E-2},{"$f":"Eurostat!AQ54/Eurostat!$AG54","v":0.25160010353724077},{"$f":"Eurostat!AQ54/Eurostat!$AG54","v":0.25160010353724077},{"$f":"Eurostat!AS54/Eurostat!$AG54","v":4.0270072437664513E-2},{"$f":"Eurostat!AS54/Eurostat!$AG54","v":4.0270072437664513E-2},{"$f":"Eurostat!AU54/Eurostat!$AG54","v":5.3624302678987705E-2},{"$f":"Eurostat!AU54/Eurostat!$AG54","v":5.3624302678987705E-2},{"$f":"Eurostat!AW54/Eurostat!$AG54","v":6.0416437842707879E-2},{"$f":"Eurostat!AW54/Eurostat!$AG54","v":6.0416437842707879E-2},{"$f":"Eurostat!AY54/Eurostat!$AG54","v":6.4988436549260453E-2},{"$f":"Eurostat!AY54/Eurostat!$AG54","v":6.4988436549260453E-2},{"$f":"Eurostat!BA54/Eurostat!$AG54","v":0.13604739670662477},{"$f":"Eurostat!BA54/Eurostat!$AG54","v":0.13604739670662477},{"$f":"Eurostat!BC54/Eurostat!$AG54","v":3.2448325469469956E-2},{"$f":"Eurostat!BC54/Eurostat!$AG54","v":3.2448325469469956E-2},null,{"$f":"LN((Eurostat!K54^pomocniczo_do_innych_kalibracji!I34*Eurostat!M54^pomocniczo_do_innych_kalibracji!K34)^(1/(pomocniczo_do_innych_kalibracji!I34+pomocniczo_do_innych_kalibracji!K34)))","v":4.6228675869510614},{"$f":"LN((Eurostat!Q54^pomocniczo_do_innych_kalibracji!M34*Eurostat!S54^pomocniczo_do_innych_kalibracji!O34*Eurostat!U54^pomocniczo_do_innych_kalibracji!Q34*Eurostat!W54^pomocniczo_do_innych_kalibracji!S34*Eurostat!Y54^pomocniczo_do_innych_kalibracji!U34*Eurostat!AA54^pomocniczo_do_innych_kalibracji!W34*Eurostat!AC54^pomocniczo_do_innych_kalibracji!Y34*Eurostat!AE54^pomocniczo_do_innych_kalibracji!AA34)^(1/(pomocniczo_do_innych_kalibracji!M34+pomocniczo_do_innych_kalibracji!O34+pomocniczo_do_innych_kalibracji!Q34+pomocniczo_do_innych_kalibracji!S34+pomocniczo_do_innych_kalibracji!U34+pomocniczo_do_innych_kalibracji!W34+pomocniczo_do_innych_kalibracji!Y34+pomocniczo_do_innych_kalibracji!AA34)))","v":4.6866870580814561},{"$f":"LN((Eurostat!J54^pomocniczo_do_innych_kalibracji!H34*Eurostat!L54^pomocniczo_do_innych_kalibracji!J34)^(1/(pomocniczo_do_innych_kalibracji!H34+pomocniczo_do_innych_kalibracji!J34)))","v":4.6355968750672991},{"$f":"LN((Eurostat!P54^pomocniczo_do_innych_kalibracji!L34*Eurostat!R54^pomocniczo_do_innych_kalibracji!N34*Eurostat!T54^pomocniczo_do_innych_kalibracji!P34*Eurostat!V54^pomocniczo_do_innych_kalibracji!R34*Eurostat!X54^pomocniczo_do_innych_kalibracji!T34*Eurostat!Z54^pomocniczo_do_innych_kalibracji!V34*Eurostat!AB54^pomocniczo_do_innych_kalibracji!X34*Eurostat!AD54^pomocniczo_do_innych_kalibracji!Z34)^(1/(pomocniczo_do_innych_kalibracji!L34+pomocniczo_do_innych_kalibracji!N34+pomocniczo_do_innych_kalibracji!P34+pomocniczo_do_innych_kalibracji!R34+pomocniczo_do_innych_kalibracji!T34+pomocniczo_do_innych_kalibracji!V34+pomocniczo_do_innych_kalibracji!X34+pomocniczo_do_innych_kalibracji!Z34)))","v":4.6433304758623155}]
[{"$f":"dane_do_matlaba!A33","v":"2007Q4"},{"$f":"1-(Eurostat!AI55+Eurostat!AK55)/Eurostat!AG55","v":0.71634254274997033},{"$f":"1-(Eurostat!AH55+Eurostat!AJ55)/Eurostat!AF55","v":0.77909523844287565},{"$f":"Eurostat!C55/SUM(Eurostat!B55:C55)","v":3.5166979486482494E-2},null,{"$f":"Eurostat!AG55/Eurostat!$AG55","v":1},{"$f":"Eurostat!AG55/Eurostat!$AG55","v":1},{"$f":"Eurostat!AI55/Eurostat!$AG55","v":4.1617308408397259E-2},{"$f":"Eurostat!AI55/Eurostat!$AG55","v":4.1617308408397259E-2},{"$f":"Eurostat!AK55/Eurostat!$AG55","v":0.24204014884163244},{"$f":"Eurostat!AK55/Eurostat!$AG55","v":0.24204014884163244},{"$f":"Eurostat!AO55/Eurostat!$AG55","v":7.6533893420661359E-2},{"$f":"Eurostat!AO55/Eurostat!$AG55","v":7.6533893420661359E-2},{"$f":"Eurostat!AQ55/Eurostat!$AG55","v":0.25330901888344776},{"$f":"Eurostat!AQ55/Eurostat!$AG55","v":0.25330901888344776},{"$f":"Eurostat!AS55/Eurostat!$AG55","v":3.9487731590072774E-2},{"$f":"Eurostat!AS55/Eurostat!$AG55","v":3.9487731590072774E-2},{"$f":"Eurostat!AU55/Eurostat!$AG55","v":5.4056901962593093E-2},{"$f":"Eurostat!AU55/Eurostat!$AG55","v":5.4056901962593093E-2},{"$f":"Eurostat!AW55/Eurostat!$AG55","v":5.9979517963406073E-2},{"$f":"Eurostat!AW55/Eurostat!$AG55","v":5.9979517963406073E-2},{"$f":"Eurostat!AY55/Eurostat!$AG55","v":6.5051278214830394E-2},{"$f":"Eurostat!AY55/Eurostat!$AG55","v":6.5051278214830394E-2},{"$f":"Eurostat!BA55/Eurostat!$AG55","v":0.13563780619463484},{"$f":"Eurostat!BA55/Eurostat!$AG55","v":0.13563780619463484},{"$f":"Eurostat!BC55/Eurostat!$AG55","v":3.2659136087046028E-2},{"$f":"Eurostat!BC55/Eurostat!$AG55","v":3.2659136087046028E-2},null,{"$f":"LN((Eurostat!K55^pomocniczo_do_innych_kalibracji!I35*Eurostat!M55^pomocniczo_do_innych_kalibracji!K35)^(1/(pomocniczo_do_innych_kalibracji!I35+pomocniczo_do_innych_kalibracji!K35)))","v":4.6078607145431727},{"$f":"LN((Eurostat!Q55^pomocniczo_do_innych_kalibracji!M35*Eurostat!S55^pomocniczo_do_innych_kalibracji!O35*Eurostat!U55^pomocniczo_do_innych_kalibracji!Q35*Eurostat!W55^pomocniczo_do_innych_kalibracji!S35*Eurostat!Y55^pomocniczo_do_innych_kalibracji!U35*Eurostat!AA55^pomocniczo_do_innych_kalibracji!W35*Eurostat!AC55^pomocniczo_do_innych_kalibracji!Y35*Eurostat!AE55^pomocniczo_do_innych_kalibracji!AA35)^(1/(pomocniczo_do_innych_kalibracji!M35+pomocniczo_do_innych_kalibracji!O35+pomocniczo_do_innych_kalibracji!Q35+pomocniczo_do_innych_kalibracji!S35+pomocniczo_do_innych_kalibracji!U35+pomocniczo_do_innych_kalibracji!W35+pomocniczo_do_innych_kalibracji!Y35+pomocniczo_do_innych_kalibracji!AA35)))","v":4.6957245966190104},{"$f":"LN((Eurostat!J55^pomocniczo_do_innych_kalibracji!H35*Eurostat!L55^pomocniczo_do_innych_kalibracji!J35)^(1/(pomocniczo_do_innych_kalibracji!H35+pomocniczo_do_innych_kalibracji!J35)))","v":4.6401718940653947},{"$f":"LN((Eurostat!P55^pomocniczo_do_innych_kalibracji!L35*Eurostat!R55^pomocniczo_do_innych_kalibracji!N35*Eurostat!T55^pomocniczo_do_innych_kalibracji!P35*Eurostat!V55^pomocniczo_do_innych_kalibracji!R35*Eurostat!X55^pomocniczo_do_innych_kalibracji!T35*Eurostat!Z55^pomocniczo_do_innych_kalibracji!V35*Eurostat!AB55^pomocniczo_do_innych_kalibracji!X35*Eurostat!AD55^pomocniczo_do_innych_kalibracji!Z35)^(1/(pomocniczo_do_innych_kalibracji!L35+pomocniczo_do_innych_kalibracji!N35+pomocniczo_do_innych_kalibracji!P35+pomocniczo_do_innych_kalibracji!R35+pomocniczo_do_innych_kalibracji!T35+pomocniczo_do_innych_kalibracji!V35+pomocniczo_do_innych_kalibracji!X35+pomocniczo_do_innych_kalibracji!Z35)))","v":4.649270405517874}]
[{"$f":"dane_do_matlaba!A34","v":"2008Q1"},{"$f":"1-(Eurostat!AI56+Eurostat!AK56)/Eurostat!AG56","v":0.72039151796651846},{"$f":"1-(Eurostat!AH56+Eurostat!AJ56)/Eurostat!AF56","v":0.78153138391774268},{"$f":"Eurostat!C56/SUM(Eurostat!B56:C56)","v":3.6360376816513086E-2},null,{"$f":"Eurostat!AG56/Eurostat!$AG56","v":1},{"$f":"Eurostat!AG56/Eurostat!$AG56","v":1},{"$f":"Eurostat!AI56/Eurostat!$AG56","v":3.7163544978279978E-2},{"$f":"Eurostat!AI56/Eurostat!$AG56","v":3.7163544978279978E-2},{"$f":"Eurostat!AK56/Eurostat!$AG56","v":0.24244493705520159},{"$f":"Eurostat!AK56/Eurostat!$AG56","v":0.24244493705520159},{"$f":"Eurostat!AO56/Eurostat!$AG56","v":7.5604544407588306E-2},{"$f":"Eurostat!AO56/Eurostat!$AG56","v":7.5604544407588306E-2},{"$f":"Eurostat!AQ56/Eurostat!$AG56","v":0.25242140519256079},{"$f":"Eurostat!AQ56/Eurostat!$AG56","v":0.25242140519256079},{"$f":"Eurostat!AS56/Eurostat!$AG56","v":4.112024283004391E-2},{"$f":"Eurostat!AS56/Eurostat!$AG56","v":4.112024283004391E-2},{"$f":"Eurostat!AU56/Eurostat!$AG56","v":5.4733586745869096E-2},{"$f":"Eurostat!AU56/Eurostat!$AG56","v":5.4733586745869096E-2},{"$f":"Eurostat!AW56/Eurostat!$AG56","v":6.0099775684426572E-2},{"$f":"Eurostat!AW56/Eurostat!$AG56","v":6.0099775684426572E-2},{"$f":"Eurostat!AY56/Eurostat!$AG56","v":6.547770121282985E-2},{"$f":"Eurostat!AY56/Eurostat!$AG56","v":6.547770121282985E-2},{"$f":"Eurostat!BA56/Eurostat!$AG56","v":0.13669239424965782},{"$f":"Eurostat!BA56/Eurostat!$AG56","v":0.13669239424965782},{"$f":"Eurostat!BC56/Eurostat!$AG56","v":3.3245357811947554E-2},{"$f":"Eurostat!BC56/Eurostat!$AG56","v":3.3245357811947554E-2},null,{"$f":"LN((Eurostat!K56^pomocniczo_do_innych_kalibracji!I36*Eurostat!M56^pomocniczo_do_innych_kalibracji!K36)^(1/(pomocniczo_do_innych_kalibracji!I36+pomocniczo_do_innych_kalibracji!K36)))","v":4.5955458930674808},{"$f":"LN((Eurostat!Q56^pomocniczo_do_innych_kalibracji!M36*Eurostat!S56^pomocniczo_do_innych_kalibracji!O36*Eurostat!U56^pomocniczo_do_innych_kalibracji!Q36*Eurostat!W56^pomocniczo_do_innych_kalibracji!S36*Eurostat!Y56^pomocniczo_do_innych_kalibracji!U36*Eurostat!AA56^pomocniczo_do_innych_kalibracji!W36*Eurostat!AC56^pomocniczo_do_innych_kalibracji!Y36*Eurostat!AE56^pomocniczo_do_innych_kalibracji!AA36)^(1/(pomocniczo_do_innych_kalibracji!M36+pomocniczo_do_innych_kalibracji!O36+pomocniczo_do_innych_kalibracji!Q36+pomocniczo_do_innych_kalibracji!S36+pomocniczo_do_innych_kalibracji!U36+pomocniczo_do_innych_kalibracji!W36+pomocniczo_do_innych_kalibracji!Y36+pomocniczo_do_innych_kalibracji!AA36)))","v":4.7024082210943066},{"$f":"LN((Eurostat!J56^pomocniczo_do_innych_kalibracji!H36*Eurostat!L56^pomocniczo_do_innych_kalibracji!J36)^(1/(pomocniczo_do_innych_kalibracji!H36+pomocniczo_do_innych_kalibracji!J36)))","v":4.6449575411767272},{"$f":"LN((Eurostat!P56^pomocniczo_do_innych_kalibracji!L36*Eurostat!R56^pomocniczo_do_innych_kalibracji!N36*Eurostat!T56^pomocniczo_do_innych_kalibracji!P36*Eurostat!V56^pomocniczo_do_innych_kalibracji!R36*Eurostat!X56^pomocniczo_do_innych_kalibracji!T36*Eurostat!Z56^pomocniczo_do_innych_kalibracji!V36*Eurostat!AB56^pomocniczo_do_innych_kalibracji!X36*Eurostat!AD56^pomocniczo_do_innych_kalibracji!Z36)^(1/(pomocniczo_do_innych_kalibracji!L36+pomocniczo_do_innych_kalibracji!N36+pomocniczo_do_innych_kalibracji!P36+pomocniczo_do_innych_kalibracji!R36+pomocniczo_do_innych_kalibracji!T36+pomocniczo_do_innych_kalibracji!V36+pomocniczo_do_innych_kalibracji!X36+pomocniczo_do_innych_kalibracji!Z36)))","v":4.6523397565873461}]
[{"$f":"dane_do_matlaba!A35","v":"2008Q2"},{"$f":"1-(Eurostat!AI57+Eurostat!AK57)/Eurostat!AG57","v":0.71750145003595511},{"$f":"1-(Eurostat!AH57+Eurostat!AJ57)/Eurostat!AF57","v":0.78211524955212086},{"$f":"Eurostat!C57/SUM(Eurostat!B57:C57)","v":3.8588486436126092E-2},null,{"$f":"Eurostat!AG57/Eurostat!$AG57","v":1},{"$f":"Eurostat!AG57/Eurostat!$AG57","v":1},{"$f":"Eurostat!AI57/Eurostat!$AG57","v":3.7792704723926783E-2},{"$f":"Eurostat!AI57/Eurostat!$AG57","v":3.7792704723926783E-2},{"$f":"Eurostat!AK57/Eurostat!$AG57","v":0.2447058452401181},{"$f":"Eurostat!AK57/Eurostat!$AG57","v":0.2447058452401181},{"$f":"Eurostat!AO57/Eurostat!$AG57","v":7.6459374258402504E-2},{"$f":"Eurostat!AO57/Eurostat!$AG57","v":7.6459374258402504E-2},{"$f":"Eurostat!AQ57/Eurostat!$AG57","v":0.24756863563267095},{"$f":"Eurostat!AQ57/Eurostat!$AG57","v":0.24756863563267095},{"$f":"Eurostat!AS57/Eurostat!$AG57","v":4.006400949818361E-2},{"$f":"Eurostat!AS57/Eurostat!$AG57","v":4.006400949818361E-2},{"$f":"Eurostat!AU57/Eurostat!$AG57","v":5.4362188511126744E-2},{"$f":"Eurostat!AU57/Eurostat!$AG57","v":5.4362188511126744E-2},{"$f":"Eurostat!AW57/Eurostat!$AG57","v":6.0070562441882067E-2},{"$f":"Eurostat!AW57/Eurostat!$AG57","v":6.0070562441882067E-2},{"$f":"Eurostat!AY57/Eurostat!$AG57","v":6.7167672909170043E-2},{"$f":"Eurostat!AY57/Eurostat!$AG57","v":6.7167672909170043E-2},{"$f":"Eurostat!BA57/Eurostat!$AG57","v":0.13792691818786015},{"$f":"Eurostat!BA57/Eurostat!$AG57","v":0.13792691818786015},{"$f":"Eurostat!BC57/Eurostat!$AG57","v":3.3203493278214043E-2},{"$f":"Eurostat!BC57/Eurostat!$AG57","v":3.3203493278214043E-2},null,{"$f":"LN((Eurostat!K57^pomocniczo_do_innych_kalibracji!I37*Eurostat!M57^pomocniczo_do_innych_kalibracji!K37)^(1/(pomocniczo_do_innych_kalibracji!I37+pomocniczo_do_innych_kalibracji!K37)))","v":4.6288266283180191},{"$f":"LN((Eurostat!Q57^pomocniczo_do_innych_kalibracji!M37*Eurostat!S57^pomocniczo_do_innych_kalibracji!O37*Eurostat!U57^pomocniczo_do_innych_kalibracji!Q37*Eurostat!W57^pomocniczo_do_innych_kalibracji!S37*Eurostat!Y57^pomocniczo_do_innych_kalibracji!U37*Eurostat!AA57^pomocniczo_do_innych_kalibracji!W37*Eurostat!AC57^pomocniczo_do_innych_kalibracji!Y37*Eurostat!AE57^pomocniczo_do_innych_kalibracji!AA37)^(1/(pomocniczo_do_innych_kalibracji!M37+pomocniczo_do_innych_kalibracji!O37+pomocniczo_do_innych_kalibracji!Q37+pomocniczo_do_innych_kalibracji!S37+pomocniczo_do_innych_kalibracji!U37+pomocniczo_do_innych_kalibracji!W37+pomocniczo_do_innych_kalibracji!Y37+pomocniczo_do_innych_kalibracji!AA37)))","v":4.7196822844647492},{"$f":"LN((Eurostat!J57^pomocniczo_do_innych_kalibracji!H37*Eurostat!L57^pomocniczo_do_innych_kalibracji!J37)^(1/(pomocniczo_do_innych_kalibracji!H37+pomocniczo_do_innych_kalibracji!J37)))","v":4.6503248653272919},{"$f":"LN((Eurostat!P57^pomocniczo_do_innych_kalibracji!L37*Eurostat!R57^pomocniczo_do_innych_kalibracji!N37*Eurostat!T57^pomocniczo_do_innych_kalibracji!P37*Eurostat!V57^pomocniczo_do_innych_kalibracji!R37*Eurostat!X57^pomocniczo_do_innych_kalibracji!T37*Eurostat!Z57^pomocniczo_do_innych_kalibracji!V37*Eurostat!AB57^pomocniczo_do_innych_kalibracji!X37*Eurostat!AD57^pomocniczo_do_innych_kalibracji!Z37)^(1/(pomocniczo_do_innych_kalibracji!L37+pomocniczo_do_innych_kalibracji!N37+pomocniczo_do_innych_kalibracji!P37+pomocniczo_do_innych_kalibracji!R37+pomocniczo_do_innych_kalibracji!T37+pomocniczo_do_innych_kalibracji!V37+pomocniczo_do_innych_kalibracji!X37+pomocniczo_do_innych_kalibracji!Z37)))","v":4.6602535186723975}]
[{"$f":"dane_do_matlaba!A36","v":"2008Q3"},{"$f":"1-(Eurostat!AI58+Eurostat!AK58)/Eurostat!AG58","v":0.7200966669228096},{"$f":"1-(Eurostat!AH58+Eurostat!AJ58)/Eurostat!AF58","v":0.78472340469986057},{"$f":"Eurostat!C58/SUM(Eurostat!B58:C58)","v":4.0260897258063713E-2},null,{"$f":"Eurostat!AG58/Eurostat!$AG58","v":1},{"$f":"Eurostat!AG58/Eurostat!$AG58","v":1},{"$f":"Eurostat!AI58/Eurostat!$AG58","v":3.516266367002966E-2},{"$f":"Eurostat!AI58/Eurostat!$AG58","v":3.516266367002966E-2},{"$f":"Eurostat!AK58/Eurostat!$AG58","v":0.24474066940716077},{"$f":"Eurostat!AK58/Eurostat!$AG58","v":0.24474066940716077},{"$f":"Eurostat!AO58/Eurostat!$AG58","v":7.6809737754312893E-2},{"$f":"Eurostat!AO58/Eurostat!$AG58","v":7.6809737754312893E-2},{"$f":"Eurostat!AQ58/Eurostat!$AG58","v":0.24791942637148665},{"$f":"Eurostat!AQ58/Eurostat!$AG58","v":0.24791942637148665},{"$f":"Eurostat!AS58/Eurostat!$AG58","v":4.1035151031492183E-2},{"$f":"Eurostat!AS58/Eurostat!$AG58","v":4.1035151031492183E-2},{"$f":"Eurostat!AU58/Eurostat!$AG58","v":4.9552725137277327E-2},{"$f":"Eurostat!AU58/Eurostat!$AG58","v":4.9552725137277327E-2},{"$f":"Eurostat!AW58/Eurostat!$AG58","v":6.0203217671886584E-2},{"$f":"Eurostat!AW58/Eurostat!$AG58","v":6.0203217671886584E-2},{"$f":"Eurostat!AY58/Eurostat!$AG58","v":6.8356669362042016E-2},{"$f":"Eurostat!AY58/Eurostat!$AG58","v":6.8356669362042016E-2},{"$f":"Eurostat!BA58/Eurostat!$AG58","v":0.13938873962885598},{"$f":"Eurostat!BA58/Eurostat!$AG58","v":0.13938873962885598},{"$f":"Eurostat!BC58/Eurostat!$AG58","v":3.3265208720044501E-2},{"$f":"Eurostat!BC58/Eurostat!$AG58","v":3.3265208720044501E-2},null,{"$f":"LN((Eurostat!K58^pomocniczo_do_innych_kalibracji!I38*Eurostat!M58^pomocniczo_do_innych_kalibracji!K38)^(1/(pomocniczo_do_innych_kalibracji!I38+pomocniczo_do_innych_kalibracji!K38)))","v":4.6415133326797227},{"$f":"LN((Eurostat!Q58^pomocniczo_do_innych_kalibracji!M38*Eurostat!S58^pomocniczo_do_innych_kalibracji!O38*Eurostat!U58^pomocniczo_do_innych_kalibracji!Q38*Eurostat!W58^pomocniczo_do_innych_kalibracji!S38*Eurostat!Y58^pomocniczo_do_innych_kalibracji!U38*Eurostat!AA58^pomocniczo_do_innych_kalibracji!W38*Eurostat!AC58^pomocniczo_do_innych_kalibracji!Y38*Eurostat!AE58^pomocniczo_do_innych_kalibracji!AA38)^(1/(pomocniczo_do_innych_kalibracji!M38+pomocniczo_do_innych_kalibracji!O38+pomocniczo_do_innych_kalibracji!Q38+pomocniczo_do_innych_kalibracji!S38+pomocniczo_do_innych_kalibracji!U38+pomocniczo_do_innych_kalibracji!W38+pomocniczo_do_innych_kalibracji!Y38+pomocniczo_do_innych_kalibracji!AA38)))","v":4.7213255889755983},{"$f":"LN((Eurostat!J58^pomocniczo_do_innych_kalibracji!H38*Eurostat!L58^pomocniczo_do_innych_kalibracji!J38)^(1/(pomocniczo_do_innych_kalibracji!H38+pomocniczo_do_innych_kalibracji!J38)))","v":4.6509483040942508},{"$f":"LN((Eurostat!P58^pomocniczo_do_innych_kalibracji!L38*Eurostat!R58^pomocniczo_do_innych_kalibracji!N38*Eurostat!T58^pomocniczo_do_innych_kalibracji!P38*Eurostat!V58^pomocniczo_do_innych_kalibracji!R38*Eurostat!X58^pomocniczo_do_innych_kalibracji!T38*Eurostat!Z58^pomocniczo_do_innych_kalibracji!V38*Eurostat!AB58^pomocniczo_do_innych_kalibracji!X38*Eurostat!AD58^pomocniczo_do_innych_kalibracji!Z38)^(1/(pomocniczo_do_innych_kalibracji!L38+pomocniczo_do_innych_kalibracji!N38+pomocniczo_do_innych_kalibracji!P38+pomocniczo_do_innych_kalibracji!R38+pomocniczo_do_innych_kalibracji!T38+pomocniczo_do_innych_kalibracji!V38+pomocniczo_do_innych_kalibracji!X38+pomocniczo_do_innych_kalibracji!Z38)))","v":4.665006530723419}]
[{"$f":"dane_do_matlaba!A37","v":"2008Q4"},{"$f":"1-(Eurostat!AI59+Eurostat!AK59)/Eurostat!AG59","v":0.73000421236873647},{"$f":"1-(Eurostat!AH59+Eurostat!AJ59)/Eurostat!AF59","v":0.79175699428917279},{"$f":"Eurostat!C59/SUM(Eurostat!B59:C59)","v":3.623121681715203E-2},null,{"$f":"Eurostat!AG59/Eurostat!$AG59","v":1},{"$f":"Eurostat!AG59/Eurostat!$AG59","v":1},{"$f":"Eurostat!AI59/Eurostat!$AG59","v":3.7247497618555454E-2},{"$f":"Eurostat!AI59/Eurostat!$AG59","v":3.7247497618555454E-2},{"$f":"Eurostat!AK59/Eurostat!$AG59","v":0.23274829001270814},{"$f":"Eurostat!AK59/Eurostat!$AG59","v":0.23274829001270814},{"$f":"Eurostat!AO59/Eurostat!$AG59","v":7.7602416322680223E-2},{"$f":"Eurostat!AO59/Eurostat!$AG59","v":7.7602416322680223E-2},{"$f":"Eurostat!AQ59/Eurostat!$AG59","v":0.25122233279986139},{"$f":"Eurostat!AQ59/Eurostat!$AG59","v":0.25122233279986139},{"$f":"Eurostat!AS59/Eurostat!$AG59","v":4.2365205976307024E-2},{"$f":"Eurostat!AS59/Eurostat!$AG59","v":4.2365205976307024E-2},{"$f":"Eurostat!AU59/Eurostat!$AG59","v":5.2838234385288965E-2},{"$f":"Eurostat!AU59/Eurostat!$AG59","v":5.2838234385288965E-2},{"$f":"Eurostat!AW59/Eurostat!$AG59","v":6.193212048369074E-2},{"$f":"Eurostat!AW59/Eurostat!$AG59","v":6.193212048369074E-2},{"$f":"Eurostat!AY59/Eurostat!$AG59","v":7.2454518138402951E-2},{"$f":"Eurostat!AY59/Eurostat!$AG59","v":7.2454518138402951E-2},{"$f":"Eurostat!BA59/Eurostat!$AG59","v":0.14209179270031305},{"$f":"Eurostat!BA59/Eurostat!$AG59","v":0.14209179270031305},{"$f":"Eurostat!BC59/Eurostat!$AG59","v":3.397918251632559E-2},{"$f":"Eurostat!BC59/Eurostat!$AG59","v":3.397918251632559E-2},null,{"$f":"LN((Eurostat!K59^pomocniczo_do_innych_kalibracji!I39*Eurostat!M59^pomocniczo_do_innych_kalibracji!K39)^(1/(pomocniczo_do_innych_kalibracji!I39+pomocniczo_do_innych_kalibracji!K39)))","v":4.6064947092122974},{"$f":"LN((Eurostat!Q59^pomocniczo_do_innych_kalibracji!M39*Eurostat!S59^pomocniczo_do_innych_kalibracji!O39*Eurostat!U59^pomocniczo_do_innych_kalibracji!Q39*Eurostat!W59^pomocniczo_do_innych_kalibracji!S39*Eurostat!Y59^pomocniczo_do_innych_kalibracji!U39*Eurostat!AA59^pomocniczo_do_innych_kalibracji!W39*Eurostat!AC59^pomocniczo_do_innych_kalibracji!Y39*Eurostat!AE59^pomocniczo_do_innych_kalibracji!AA39)^(1/(pomocniczo_do_innych_kalibracji!M39+pomocniczo_do_innych_kalibracji!O39+pomocniczo_do_innych_kalibracji!Q39+pomocniczo_do_innych_kalibracji!S39+pomocniczo_do_innych_kalibracji!U39+pomocniczo_do_innych_kalibracji!W39+pomocniczo_do_innych_kalibracji!Y39+pomocniczo_do_innych_kalibracji!AA39)))","v":4.7307998794096822},{"$f":"LN((Eurostat!J59^pomocniczo_do_innych_kalibracji!H39*Eurostat!L59^pomocniczo_do_innych_kalibracji!J39)^(1/(pomocniczo_do_innych_kalibracji!H39+pomocniczo_do_innych_kalibracji!J39)))","v":4.649871185484681},{"$f":"LN((Eurostat!P59^pomocniczo_do_innych_kalibracji!L39*Eurostat!R59^pomocniczo_do_innych_kalibracji!N39*Eurostat!T59^pomocniczo_do_innych_kalibracji!P39*Eurostat!V59^pomocniczo_do_innych_kalibracji!R39*Eurostat!X59^pomocniczo_do_innych_kalibracji!T39*Eurostat!Z59^pomocniczo_do_innych_kalibracji!V39*Eurostat!AB59^pomocniczo_do_innych_kalibracji!X39*Eurostat!AD59^pomocniczo_do_innych_kalibracji!Z39)^(1/(pomocniczo_do_innych_kalibracji!L39+pomocniczo_do_innych_kalibracji!N39+pomocniczo_do_innych_kalibracji!P39+pomocniczo_do_innych_kalibracji!R39+pomocniczo_do_innych_kalibracji!T39+pomocniczo_do_innych_kalibracji!V39+pomocniczo_do_innych_kalibracji!X39+pomocniczo_do_innych_kalibracji!Z39)))","v":4.6704067309431627}]
[{"$f":"dane_do_matlaba!A38","v":"2009Q1"},{"$f":"1-(Eurostat!AI60+Eurostat!AK60)/Eurostat!AG60","v":0.71828313692050316},{"$f":"1-(Eurostat!AH60+Eurostat!AJ60)/Eurostat!AF60","v":0.80256595789823437},{"$f":"Eurostat!C60/SUM(Eurostat!B60:C60)","v":3.193805524208463E-2},null,{"$f":"Eurostat!AG60/Eurostat!$AG60","v":1},{"$f":"Eurostat!AG60/Eurostat!$AG60","v":1},{"$f":"Eurostat!AI60/Eurostat!$AG60","v":3.5305494973645303E-2},{"$f":"Eurostat!AI60/Eurostat!$AG60","v":3.5305494973645303E-2},{"$f":"Eurostat!AK60/Eurostat!$AG60","v":0.2464113681058516},{"$f":"Eurostat!AK60/Eurostat!$AG60","v":0.2464113681058516},{"$f":"Eurostat!AO60/Eurostat!$AG60","v":8.2498509110385213E-2},{"$f":"Eurostat!AO60/Eurostat!$AG60","v":8.2498509110385213E-2},{"$f":"Eurostat!AQ60/Eurostat!$AG60","v":0.25184991495016651},{"$f":"Eurostat!AQ60/Eurostat!$AG60","v":0.25184991495016651},{"$f":"Eurostat!AS60/Eurostat!$AG60","v":4.0974118429375525E-2},{"$f":"Eurostat!AS60/Eurostat!$AG60","v":4.0974118429375525E-2},{"$f":"Eurostat!AU60/Eurostat!$AG60","v":4.2124842846409521E-2},{"$f":"Eurostat!AU60/Eurostat!$AG60","v":4.2124842846409521E-2},{"$f":"Eurostat!AW60/Eurostat!$AG60","v":5.6394371793563242E-2},{"$f":"Eurostat!AW60/Eurostat!$AG60","v":5.6394371793563242E-2},{"$f":"Eurostat!AY60/Eurostat!$AG60","v":7.1058854211647954E-2},{"$f":"Eurostat!AY60/Eurostat!$AG60","v":7.1058854211647954E-2},{"$f":"Eurostat!BA60/Eurostat!$AG60","v":0.13946192795325008},{"$f":"Eurostat!BA60/Eurostat!$AG60","v":0.13946192795325008},{"$f":"Eurostat!BC60/Eurostat!$AG60","v":3.2803667844472306E-2},{"$f":"Eurostat!BC60/Eurostat!$AG60","v":3.2803667844472306E-2},null,{"$f":"LN((Eurostat!K60^pomocniczo_do_innych_kalibracji!I40*Eurostat!M60^pomocniczo_do_innych_kalibracji!K40)^(1/(pomocniczo_do_innych_kalibracji!I40+pomocniczo_do_innych_kalibracji!K40)))","v":4.692952221537543},{"$f":"LN((Eurostat!Q60^pomocniczo_do_innych_kalibracji!M40*Eurostat!S60^pomocniczo_do_innych_kalibracji!O40*Eurostat!U60^pomocniczo_do_innych_kalibracji!Q40*Eurostat!W60^pomocniczo_do_innych_kalibracji!S40*Eurostat!Y60^pomocniczo_do_innych_kalibracji!U40*Eurostat!AA60^pomocniczo_do_innych_kalibracji!W40*Eurostat!AC60^pomocniczo_do_innych_kalibracji!Y40*Eurostat!AE60^pomocniczo_do_innych_kalibracji!AA40)^(1/(pomocniczo_do_innych_kalibracji!M40+pomocniczo_do_innych_kalibracji!O40+pomocniczo_do_innych_kalibracji!Q40+pomocniczo_do_innych_kalibracji!S40+pomocniczo_do_innych_kalibracji!U40+pomocniczo_do_innych_kalibracji!W40+pomocniczo_do_innych_kalibracji!Y40+pomocniczo_do_innych_kalibracji!AA40)))","v":4.7453068236591038},{"$f":"LN((Eurostat!J60^pomocniczo_do_innych_kalibracji!H40*Eurostat!L60^pomocniczo_do_innych_kalibracji!J40)^(1/(pomocniczo_do_innych_kalibracji!H40+pomocniczo_do_innych_kalibracji!J40)))","v":4.6566518559654799},{"$f":"LN((Eurostat!P60^pomocniczo_do_innych_kalibracji!L40*Eurostat!R60^pomocniczo_do_innych_kalibracji!N40*Eurostat!T60^pomocniczo_do_innych_kalibracji!P40*Eurostat!V60^pomocniczo_do_innych_kalibracji!R40*Eurostat!X60^pomocniczo_do_innych_kalibracji!T40*Eurostat!Z60^pomocniczo_do_innych_kalibracji!V40*Eurostat!AB60^pomocniczo_do_innych_kalibracji!X40*Eurostat!AD60^pomocniczo_do_innych_kalibracji!Z40)^(1/(pomocniczo_do_innych_kalibracji!L40+pomocniczo_do_innych_kalibracji!N40+pomocniczo_do_innych_kalibracji!P40+pomocniczo_do_innych_kalibracji!R40+pomocniczo_do_innych_kalibracji!T40+pomocniczo_do_innych_kalibracji!V40+pomocniczo_do_innych_kalibracji!X40+pomocniczo_do_innych_kalibracji!Z40)))","v":4.6769197464397267}]
[{"$f":"dane_do_matlaba!A39","v":"2009Q2"},{"$f":"1-(Eurostat!AI61+Eurostat!AK61)/Eurostat!AG61","v":0.71919880032828853},{"$f":"1-(Eurostat!AH61+Eurostat!AJ61)/Eurostat!AF61","v":0.80449224010131071},{"$f":"Eurostat!C61/SUM(Eurostat!B61:C61)","v":3.2497021952563578E-2},null,{"$f":"Eurostat!AG61/Eurostat!$AG61","v":1},{"$f":"Eurostat!AG61/Eurostat!$AG61","v":1},{"$f":"Eurostat!AI61/Eurostat!$AG61","v":3.6118832346553817E-2},{"$f":"Eurostat!AI61/Eurostat!$AG61","v":3.6118832346553817E-2},{"$f":"Eurostat!AK61/Eurostat!$AG61","v":0.24468236732515766},{"$f":"Eurostat!AK61/Eurostat!$AG61","v":0.24468236732515766},{"$f":"Eurostat!AO61/Eurostat!$AG61","v":8.0622870092981316E-2},{"$f":"Eurostat!AO61/Eurostat!$AG61","v":8.0622870092981316E-2},{"$f":"Eurostat!AQ61/Eurostat!$AG61","v":0.25551014756097146},{"$f":"Eurostat!AQ61/Eurostat!$AG61","v":0.25551014756097146},{"$f":"Eurostat!AS61/Eurostat!$AG61","v":4.0595310067177565E-2},{"$f":"Eurostat!AS61/Eurostat!$AG61","v":4.0595310067177565E-2},{"$f":"Eurostat!AU61/Eurostat!$AG61","v":3.7093903357527158E-2},{"$f":"Eurostat!AU61/Eurostat!$AG61","v":3.7093903357527158E-2},{"$f":"Eurostat!AW61/Eurostat!$AG61","v":5.6527436748727546E-2},{"$f":"Eurostat!AW61/Eurostat!$AG61","v":5.6527436748727546E-2},{"$f":"Eurostat!AY61/Eurostat!$AG61","v":7.0144318615513998E-2},{"$f":"Eurostat!AY61/Eurostat!$AG61","v":7.0144318615513998E-2},{"$f":"Eurostat!BA61/Eurostat!$AG61","v":0.14076958670093656},{"$f":"Eurostat!BA61/Eurostat!$AG61","v":0.14076958670093656},{"$f":"Eurostat!BC61/Eurostat!$AG61","v":3.2893701385769435E-2},{"$f":"Eurostat!BC61/Eurostat!$AG61","v":3.2893701385769435E-2},null,{"$f":"LN((Eurostat!K61^pomocniczo_do_innych_kalibracji!I41*Eurostat!M61^pomocniczo_do_innych_kalibracji!K41)^(1/(pomocniczo_do_innych_kalibracji!I41+pomocniczo_do_innych_kalibracji!K41)))","v":4.6787082829645836},{"$f":"LN((Eurostat!Q61^pomocniczo_do_innych_kalibracji!M41*Eurostat!S61^pomocniczo_do_innych_kalibracji!O41*Eurostat!U61^pomocniczo_do_innych_kalibracji!Q41*Eurostat!W61^pomocniczo_do_innych_kalibracji!S41*Eurostat!Y61^pomocniczo_do_innych_kalibracji!U41*Eurostat!AA61^pomocniczo_do_innych_kalibracji!W41*Eurostat!AC61^pomocniczo_do_innych_kalibracji!Y41*Eurostat!AE61^pomocniczo_do_innych_kalibracji!AA41)^(1/(pomocniczo_do_innych_kalibracji!M41+pomocniczo_do_innych_kalibracji!O41+pomocniczo_do_innych_kalibracji!Q41+pomocniczo_do_innych_kalibracji!S41+pomocniczo_do_innych_kalibracji!U41+pomocniczo_do_innych_kalibracji!W41+pomocniczo_do_innych_kalibracji!Y41+pomocniczo_do_innych_kalibracji!AA41)))","v":4.7562137751145022},{"$f":"LN((Eurostat!J61^pomocniczo_do_innych_kalibracji!H41*Eurostat!L61^pomocniczo_do_innych_kalibracji!J41)^(1/(pomocniczo_do_innych_kalibracji!H41+pomocniczo_do_innych_kalibracji!J41)))","v":4.6515271692998885},{"$f":"LN((Eurostat!P61^pomocniczo_do_innych_kalibracji!L41*Eurostat!R61^pomocniczo_do_innych_kalibracji!N41*Eurostat!T61^pomocniczo_do_innych_kalibracji!P41*Eurostat!V61^pomocniczo_do_innych_kalibracji!R41*Eurostat!X61^pomocniczo_do_innych_kalibracji!T41*Eurostat!Z61^pomocniczo_do_innych_kalibracji!V41*Eurostat!AB61^pomocniczo_do_innych_kalibracji!X41*Eurostat!AD61^pomocniczo_do_innych_kalibracji!Z41)^(1/(pomocniczo_do_innych_kalibracji!L41+pomocniczo_do_innych_kalibracji!N41+pomocniczo_do_innych_kalibracji!P41+pomocniczo_do_innych_kalibracji!R41+pomocniczo_do_innych_kalibracji!T41+pomocniczo_do_innych_kalibracji!V41+pomocniczo_do_innych_kalibracji!X41+pomocniczo_do_innych_kalibracji!Z41)))","v":4.6806241463445533}]
[{"$f":"dane_do_matlaba!A40","v":"2009Q3"},{"$f":"1-(Eurostat!AI62+Eurostat!AK62)/Eurostat!AG62","v":0.71920045197242377},{"$f":"1-(Eurostat!AH62+Eurostat!AJ62)/Eurostat!AF62","v":0.80198558677409681},{"$f":"Eurostat!C62/SUM(Eurostat!B62:C62)","v":3.4781423953252399E-2},null,{"$f":"Eurostat!AG62/Eurostat!$AG62","v":1},{"$f":"Eurostat!AG62/Eurostat!$AG62","v":1},{"$f":"Eurostat!AI62/Eurostat!$AG62","v":3.5345551672321326E-2},{"$f":"Eurostat!AI62/Eurostat!$AG62","v":3.5345551672321326E-2},{"$f":"Eurostat!AK62/Eurostat!$AG62","v":0.24545399635525489},{"$f":"Eurostat!AK62/Eurostat!$AG62","v":0.24545399635525489},{"$f":"Eurostat!AO62/Eurostat!$AG62","v":8.0210088422277864E-2},{"$f":"Eurostat!AO62/Eurostat!$AG62","v":8.0210088422277864E-2},{"$f":"Eurostat!AQ62/Eurostat!$AG62","v":0.25757188961114158},{"$f":"Eurostat!AQ62/Eurostat!$AG62","v":0.25757188961114158},{"$f":"Eurostat!AS62/Eurostat!$AG62","v":4.020832645063159E-2},{"$f":"Eurostat!AS62/Eurostat!$AG62","v":4.020832645063159E-2},{"$f":"Eurostat!AU62/Eurostat!$AG62","v":3.9039685407971522E-2},{"$f":"Eurostat!AU62/Eurostat!$AG62","v":3.9039685407971522E-2},{"$f":"Eurostat!AW62/Eurostat!$AG62","v":5.6564962860107128E-2},{"$f":"Eurostat!AW62/Eurostat!$AG62","v":5.6564962860107128E-2},{"$f":"Eurostat!AY62/Eurostat!$AG62","v":7.0660068616782173E-2},{"$f":"Eurostat!AY62/Eurostat!$AG62","v":7.0660068616782173E-2},{"$f":"Eurostat!BA62/Eurostat!$AG62","v":0.14171724826747797},{"$f":"Eurostat!BA62/Eurostat!$AG62","v":0.14171724826747797},{"$f":"Eurostat!BC62/Eurostat!$AG62","v":3.2992251662944172E-2},{"$f":"Eurostat!BC62/Eurostat!$AG62","v":3.2992251662944172E-2},null,{"$f":"LN((Eurostat!K62^pomocniczo_do_innych_kalibracji!I42*Eurostat!M62^pomocniczo_do_innych_kalibracji!K42)^(1/(pomocniczo_do_innych_kalibracji!I42+pomocniczo_do_innych_kalibracji!K42)))","v":4.6674131836373345},{"$f":"LN((Eurostat!Q62^pomocniczo_do_innych_kalibracji!M42*Eurostat!S62^pomocniczo_do_innych_kalibracji!O42*Eurostat!U62^pomocniczo_do_innych_kalibracji!Q42*Eurostat!W62^pomocniczo_do_innych_kalibracji!S42*Eurostat!Y62^pomocniczo_do_innych_kalibracji!U42*Eurostat!AA62^pomocniczo_do_innych_kalibracji!W42*Eurostat!AC62^pomocniczo_do_innych_kalibracji!Y42*Eurostat!AE62^pomocniczo_do_innych_kalibracji!AA42)^(1/(pomocniczo_do_innych_kalibracji!M42+pomocniczo_do_innych_kalibracji!O42+pomocniczo_do_innych_kalibracji!Q42+pomocniczo_do_innych_kalibracji!S42+pomocniczo_do_innych_kalibracji!U42+pomocniczo_do_innych_kalibracji!W42+pomocniczo_do_innych_kalibracji!Y42+pomocniczo_do_innych_kalibracji!AA42)))","v":4.7717413746182107},{"$f":"LN((Eurostat!J62^pomocniczo_do_innych_kalibracji!H42*Eurostat!L62^pomocniczo_do_innych_kalibracji!J42)^(1/(pomocniczo_do_innych_kalibracji!H42+pomocniczo_do_innych_kalibracji!J42)))","v":4.6469607212013466},{"$f":"LN((Eurostat!P62^pomocniczo_do_innych_kalibracji!L42*Eurostat!R62^pomocniczo_do_innych_kalibracji!N42*Eurostat!T62^pomocniczo_do_innych_kalibracji!P42*Eurostat!V62^pomocniczo_do_innych_kalibracji!R42*Eurostat!X62^pomocniczo_do_innych_kalibracji!T42*Eurostat!Z62^pomocniczo_do_innych_kalibracji!V42*Eurostat!AB62^pomocniczo_do_innych_kalibracji!X42*Eurostat!AD62^pomocniczo_do_innych_kalibracji!Z42)^(1/(pomocniczo_do_innych_kalibracji!L42+pomocniczo_do_innych_kalibracji!N42+pomocniczo_do_innych_kalibracji!P42+pomocniczo_do_innych_kalibracji!R42+pomocniczo_do_innych_kalibracji!T42+pomocniczo_do_innych_kalibracji!V42+pomocniczo_do_innych_kalibracji!X42+pomocniczo_do_innych_kalibracji!Z42)))","v":4.6837102740226646}]
[{"$f":"dane_do_matlaba!A41","v":"2009Q4"},{"$f":"1-(Eurostat!AI63+Eurostat!AK63)/Eurostat!AG63","v":0.71855562778640003},{"$f":"1-(Eurostat!AH63+Eurostat!AJ63)/Eurostat!AF63","v":0.80005520963569066},{"$f":"Eurostat!C63/SUM(Eurostat!B63:C63)","v":3.5211406782422315E-2},null,{"$f":"Eurostat!AG63/Eurostat!$AG63","v":1},{"$f":"Eurostat!AG63/Eurostat!$AG63","v":1},{"$f":"Eurostat!AI63/Eurostat!$AG63","v":3.6409290439639704E-2},{"$f":"Eurostat!AI63/Eurostat!$AG63","v":3.6409290439639704E-2},{"$f":"Eurostat!AK63/Eurostat!$AG63","v":0.24503508177396022},{"$f":"Eurostat!AK63/Eurostat!$AG63","v":0.24503508177396022},{"$f":"Eurostat!AO63/Eurostat!$AG63","v":8.0931364727817909E-2},{"$f":"Eurostat!AO63/Eurostat!$AG63","v":8.0931364727817909E-2},{"$f":"Eurostat!AQ63/Eurostat!$AG63","v":0.26041146088128364},{"$f":"Eurostat!AQ63/Eurostat!$AG63","v":0.26041146088128364},{"$f":"Eurostat!AS63/Eurostat!$AG63","v":4.0004496479955055E-2},{"$f":"Eurostat!AS63/Eurostat!$AG63","v":4.0004496479955055E-2},{"$f":"Eurostat!AU63/Eurostat!$AG63","v":3.8685880657356356E-2},{"$f":"Eurostat!AU63/Eurostat!$AG63","v":3.8685880657356356E-2},{"$f":"Eurostat!AW63/Eurostat!$AG63","v":5.6508292115600413E-2},{"$f":"Eurostat!AW63/Eurostat!$AG63","v":5.6508292115600413E-2},{"$f":"Eurostat!AY63/Eurostat!$AG63","v":7.058517532975285E-2},{"$f":"Eurostat!AY63/Eurostat!$AG63","v":7.058517532975285E-2},{"$f":"Eurostat!BA63/Eurostat!$AG63","v":0.14269895605185323},{"$f":"Eurostat!BA63/Eurostat!$AG63","v":0.14269895605185323},{"$f":"Eurostat!BC63/Eurostat!$AG63","v":3.2598490712329453E-2},{"$f":"Eurostat!BC63/Eurostat!$AG63","v":3.2598490712329453E-2},null,{"$f":"LN((Eurostat!K63^pomocniczo_do_innych_kalibracji!I43*Eurostat!M63^pomocniczo_do_innych_kalibracji!K43)^(1/(pomocniczo_do_innych_kalibracji!I43+pomocniczo_do_innych_kalibracji!K43)))","v":4.664181502581501},{"$f":"LN((Eurostat!Q63^pomocniczo_do_innych_kalibracji!M43*Eurostat!S63^pomocniczo_do_innych_kalibracji!O43*Eurostat!U63^pomocniczo_do_innych_kalibracji!Q43*Eurostat!W63^pomocniczo_do_innych_kalibracji!S43*Eurostat!Y63^pomocniczo_do_innych_kalibracji!U43*Eurostat!AA63^pomocniczo_do_innych_kalibracji!W43*Eurostat!AC63^pomocniczo_do_innych_kalibracji!Y43*Eurostat!AE63^pomocniczo_do_innych_kalibracji!AA43)^(1/(pomocniczo_do_innych_kalibracji!M43+pomocniczo_do_innych_kalibracji!O43+pomocniczo_do_innych_kalibracji!Q43+pomocniczo_do_innych_kalibracji!S43+pomocniczo_do_innych_kalibracji!U43+pomocniczo_do_innych_kalibracji!W43+pomocniczo_do_innych_kalibracji!Y43+pomocniczo_do_innych_kalibracji!AA43)))","v":4.7849108092838932},{"$f":"LN((Eurostat!J63^pomocniczo_do_innych_kalibracji!H43*Eurostat!L63^pomocniczo_do_innych_kalibracji!J43)^(1/(pomocniczo_do_innych_kalibracji!H43+pomocniczo_do_innych_kalibracji!J43)))","v":4.6477678553113835},{"$f":"LN((Eurostat!P63^pomocniczo_do_innych_kalibracji!L43*Eurostat!R63^pomocniczo_do_innych_kalibracji!N43*Eurostat!T63^pomocniczo_do_innych_kalibracji!P43*Eurostat!V63^pomocniczo_do_innych_kalibracji!R43*Eurostat!X63^pomocniczo_do_innych_kalibracji!T43*Eurostat!Z63^pomocniczo_do_innych_kalibracji!V43*Eurostat!AB63^pomocniczo_do_innych_kalibracji!X43*Eurostat!AD63^pomocniczo_do_innych_kalibracji!Z43)^(1/(pomocniczo_do_innych_kalibracji!L43+pomocniczo_do_innych_kalibracji!N43+pomocniczo_do_innych_kalibracji!P43+pomocniczo_do_innych_kalibracji!R43+pomocniczo_do_innych_kalibracji!T43+pomocniczo_do_innych_kalibracji!V43+pomocniczo_do_innych_kalibracji!X43+pomocniczo_do_innych_kalibracji!Z43)))","v":4.6842329839432084}]
[{"$f":"dane_do_matlaba!A42","v":"2010Q1"},{"$f":"1-(Eurostat!AI64+Eurostat!AK64)/Eurostat!AG64","v":0.73847805930264099},{"$f":"1-(Eurostat!AH64+Eurostat!AJ64)/Eurostat!AF64","v":0.79574886894205277},{"$f":"Eurostat!C64/SUM(Eurostat!B64:C64)","v":3.6754238881613083E-2},null,{"$f":"Eurostat!AG64/Eurostat!$AG64","v":1},{"$f":"Eurostat!AG64/Eurostat!$AG64","v":1},{"$f":"Eurostat!AI64/Eurostat!$AG64","v":3.7882873184495701E-2},{"$f":"Eurostat!AI64/Eurostat!$AG64","v":3.7882873184495701E-2},{"$f":"Eurostat!AK64/Eurostat!$AG64","v":0.22363906751286328},{"$f":"Eurostat!AK64/Eurostat!$AG64","v":0.22363906751286328},{"$f":"Eurostat!AO64/Eurostat!$AG64","v":8.0807064110657037E-2},{"$f":"Eurostat!AO64/Eurostat!$AG64","v":8.0807064110657037E-2},{"$f":"Eurostat!AQ64/Eurostat!$AG64","v":0.26583102420139143},{"$f":"Eurostat!AQ64/Eurostat!$AG64","v":0.26583102420139143},{"$f":"Eurostat!AS64/Eurostat!$AG64","v":3.8478459248515041E-2},{"$f":"Eurostat!AS64/Eurostat!$AG64","v":3.8478459248515041E-2},{"$f":"Eurostat!AU64/Eurostat!$AG64","v":4.1777346132490074E-2},{"$f":"Eurostat!AU64/Eurostat!$AG64","v":4.1777346132490074E-2},{"$f":"Eurostat!AW64/Eurostat!$AG64","v":5.7747184880979442E-2},{"$f":"Eurostat!AW64/Eurostat!$AG64","v":5.7747184880979442E-2},{"$f":"Eurostat!AY64/Eurostat!$AG64","v":7.1068382078958658E-2},{"$f":"Eurostat!AY64/Eurostat!$AG64","v":7.1068382078958658E-2},{"$f":"Eurostat!BA64/Eurostat!$AG64","v":0.14561862627924355},{"$f":"Eurostat!BA64/Eurostat!$AG64","v":0.14561862627924355},{"$f":"Eurostat!BC64/Eurostat!$AG64","v":3.2776230950078096E-2},{"$f":"Eurostat!BC64/Eurostat!$AG64","v":3.2776230950078096E-2},null,{"$f":"LN((Eurostat!K64^pomocniczo_do_innych_kalibracji!I44*Eurostat!M64^pomocniczo_do_innych_kalibracji!K44)^(1/(pomocniczo_do_innych_kalibracji!I44+pomocniczo_do_innych_kalibracji!K44)))","v":4.5658745627423212},{"$f":"LN((Eurostat!Q64^pomocniczo_do_innych_kalibracji!M44*Eurostat!S64^pomocniczo_do_innych_kalibracji!O44*Eurostat!U64^pomocniczo_do_innych_kalibracji!Q44*Eurostat!W64^pomocniczo_do_innych_kalibracji!S44*Eurostat!Y64^pomocniczo_do_innych_kalibracji!U44*Eurostat!AA64^pomocniczo_do_innych_kalibracji!W44*Eurostat!AC64^pomocniczo_do_innych_kalibracji!Y44*Eurostat!AE64^pomocniczo_do_innych_kalibracji!AA44)^(1/(pomocniczo_do_innych_kalibracji!M44+pomocniczo_do_innych_kalibracji!O44+pomocniczo_do_innych_kalibracji!Q44+pomocniczo_do_innych_kalibracji!S44+pomocniczo_do_innych_kalibracji!U44+pomocniczo_do_innych_kalibracji!W44+pomocniczo_do_innych_kalibracji!Y44+pomocniczo_do_innych_kalibracji!AA44)))","v":4.779596550481453},{"$f":"LN((Eurostat!J64^pomocniczo_do_innych_kalibracji!H44*Eurostat!L64^pomocniczo_do_innych_kalibracji!J44)^(1/(pomocniczo_do_innych_kalibracji!H44+pomocniczo_do_innych_kalibracji!J44)))","v":4.6408647856657375},{"$f":"LN((Eurostat!P64^pomocniczo_do_innych_kalibracji!L44*Eurostat!R64^pomocniczo_do_innych_kalibracji!N44*Eurostat!T64^pomocniczo_do_innych_kalibracji!P44*Eurostat!V64^pomocniczo_do_innych_kalibracji!R44*Eurostat!X64^pomocniczo_do_innych_kalibracji!T44*Eurostat!Z64^pomocniczo_do_innych_kalibracji!V44*Eurostat!AB64^pomocniczo_do_innych_kalibracji!X44*Eurostat!AD64^pomocniczo_do_innych_kalibracji!Z44)^(1/(pomocniczo_do_innych_kalibracji!L44+pomocniczo_do_innych_kalibracji!N44+pomocniczo_do_innych_kalibracji!P44+pomocniczo_do_innych_kalibracji!R44+pomocniczo_do_innych_kalibracji!T44+pomocniczo_do_innych_kalibracji!V44+pomocniczo_do_innych_kalibracji!X44+pomocniczo_do_innych_kalibracji!Z44)))","v":4.684386669676381}]
[{"$f":"dane_do_matlaba!A43","v":"2010Q2"},{"$f":"1-(Eurostat!AI65+Eurostat!AK65)/Eurostat!AG65","v":0.71752011737442989},{"$f":"1-(Eurostat!AH65+Eurostat!AJ65)/Eurostat!AF65","v":0.79189114309249975},{"$f":"Eurostat!C65/SUM(Eurostat!B65:C65)","v":3.6888523760001103E-2},null,{"$f":"Eurostat!AG65/Eurostat!$AG65","v":1},{"$f":"Eurostat!AG65/Eurostat!$AG65","v":1},{"$f":"Eurostat!AI65/Eurostat!$AG65","v":3.7199591920331725E-2},{"$f":"Eurostat!AI65/Eurostat!$AG65","v":3.7199591920331725E-2},{"$f":"Eurostat!AK65/Eurostat!$AG65","v":0.24528029070523846},{"$f":"Eurostat!AK65/Eurostat!$AG65","v":0.24528029070523846},{"$f":"Eurostat!AO65/Eurostat!$AG65","v":7.9745890542418776E-2},{"$f":"Eurostat!AO65/Eurostat!$AG65","v":7.9745890542418776E-2},{"$f":"Eurostat!AQ65/Eurostat!$AG65","v":0.26031470310529564},{"$f":"Eurostat!AQ65/Eurostat!$AG65","v":0.26031470310529564},{"$f":"Eurostat!AS65/Eurostat!$AG65","v":3.8471942590610306E-2},{"$f":"Eurostat!AS65/Eurostat!$AG65","v":3.8471942590610306E-2},{"$f":"Eurostat!AU65/Eurostat!$AG65","v":4.1310015599257524E-2},{"$f":"Eurostat!AU65/Eurostat!$AG65","v":4.1310015599257524E-2},{"$f":"Eurostat!AW65/Eurostat!$AG65","v":5.5976988840927513E-2},{"$f":"Eurostat!AW65/Eurostat!$AG65","v":5.5976988840927513E-2},{"$f":"Eurostat!AY65/Eurostat!$AG65","v":6.8687936273619479E-2},{"$f":"Eurostat!AY65/Eurostat!$AG65","v":6.8687936273619479E-2},{"$f":"Eurostat!BA65/Eurostat!$AG65","v":0.14109180633219079},{"$f":"Eurostat!BA65/Eurostat!$AG65","v":0.14109180633219079},{"$f":"Eurostat!BC65/Eurostat!$AG65","v":3.185063099061082E-2},{"$f":"Eurostat!BC65/Eurostat!$AG65","v":3.185063099061082E-2},null,{"$f":"LN((Eurostat!K65^pomocniczo_do_innych_kalibracji!I45*Eurostat!M65^pomocniczo_do_innych_kalibracji!K45)^(1/(pomocniczo_do_innych_kalibracji!I45+pomocniczo_do_innych_kalibracji!K45)))","v":4.6719306250751442},{"$f":"LN((Eurostat!Q65^pomocniczo_do_innych_kalibracji!M45*Eurostat!S65^pomocniczo_do_innych_kalibracji!O45*Eurostat!U65^pomocniczo_do_innych_kalibracji!Q45*Eurostat!W65^pomocniczo_do_innych_kalibracji!S45*Eurostat!Y65^pomocniczo_do_innych_kalibracji!U45*Eurostat!AA65^pomocniczo_do_innych_kalibracji!W45*Eurostat!AC65^pomocniczo_do_innych_kalibracji!Y45*Eurostat!AE65^pomocniczo_do_innych_kalibracji!AA45)^(1/(pomocniczo_do_innych_kalibracji!M45+pomocniczo_do_innych_kalibracji!O45+pomocniczo_do_innych_kalibracji!Q45+pomocniczo_do_innych_kalibracji!S45+pomocniczo_do_innych_kalibracji!U45+pomocniczo_do_innych_kalibracji!W45+pomocniczo_do_innych_kalibracji!Y45+pomocniczo_do_innych_kalibracji!AA45)))","v":4.7865758324343766},{"$f":"LN((Eurostat!J65^pomocniczo_do_innych_kalibracji!H45*Eurostat!L65^pomocniczo_do_innych_kalibracji!J45)^(1/(pomocniczo_do_innych_kalibracji!H45+pomocniczo_do_innych_kalibracji!J45)))","v":4.6519568999042811},{"$f":"LN((Eurostat!P65^pomocniczo_do_innych_kalibracji!L45*Eurostat!R65^pomocniczo_do_innych_kalibracji!N45*Eurostat!T65^pomocniczo_do_innych_kalibracji!P45*Eurostat!V65^pomocniczo_do_innych_kalibracji!R45*Eurostat!X65^pomocniczo_do_innych_kalibracji!T45*Eurostat!Z65^pomocniczo_do_innych_kalibracji!V45*Eurostat!AB65^pomocniczo_do_innych_kalibracji!X45*Eurostat!AD65^pomocniczo_do_innych_kalibracji!Z45)^(1/(pomocniczo_do_innych_kalibracji!L45+pomocniczo_do_innych_kalibracji!N45+pomocniczo_do_innych_kalibracji!P45+pomocniczo_do_innych_kalibracji!R45+pomocniczo_do_innych_kalibracji!T45+pomocniczo_do_innych_kalibracji!V45+pomocniczo_do_innych_kalibracji!X45+pomocniczo_do_innych_kalibracji!Z45)))","v":4.6841672665337661}]
[{"$f":"dane_do_matlaba!A44","v":"2010Q3"},{"$f":"1-(Eurostat!AI66+Eurostat!AK66)/Eurostat!AG66","v":0.72049373324409549},{"$f":"1-(Eurostat!AH66+Eurostat!AJ66)/Eurostat!AF66","v":0.79122709452297513},{"$f":"Eurostat!C66/SUM(Eurostat!B66:C66)","v":3.7226449416227603E-2},null,{"$f":"Eurostat!AG66/Eurostat!$AG66","v":1},{"$f":"Eurostat!AG66/Eurostat!$AG66","v":1},{"$f":"Eurostat!AI66/Eurostat!$AG66","v":3.6294670241259624E-2},{"$f":"Eurostat!AI66/Eurostat!$AG66","v":3.6294670241259624E-2},{"$f":"Eurostat!AK66/Eurostat!$AG66","v":0.24321159651464488},{"$f":"Eurostat!AK66/Eurostat!$AG66","v":0.24321159651464488},{"$f":"Eurostat!AO66/Eurostat!$AG66","v":8.1382420063778799E-2},{"$f":"Eurostat!AO66/Eurostat!$AG66","v":8.1382420063778799E-2},{"$f":"Eurostat!AQ66/Eurostat!$AG66","v":0.2581907877608714},{"$f":"Eurostat!AQ66/Eurostat!$AG66","v":0.2581907877608714},{"$f":"Eurostat!AS66/Eurostat!$AG66","v":3.7466551690417564E-2},{"$f":"Eurostat!AS66/Eurostat!$AG66","v":3.7466551690417564E-2},{"$f":"Eurostat!AU66/Eurostat!$AG66","v":4.887517160713175E-2},{"$f":"Eurostat!AU66/Eurostat!$AG66","v":4.887517160713175E-2},{"$f":"Eurostat!AW66/Eurostat!$AG66","v":5.5603568158352268E-2},{"$f":"Eurostat!AW66/Eurostat!$AG66","v":5.5603568158352268E-2},{"$f":"Eurostat!AY66/Eurostat!$AG66","v":6.8008176182898603E-2},{"$f":"Eurostat!AY66/Eurostat!$AG66","v":6.8008176182898603E-2},{"$f":"Eurostat!BA66/Eurostat!$AG66","v":0.1396094659827358},{"$f":"Eurostat!BA66/Eurostat!$AG66","v":0.1396094659827358},{"$f":"Eurostat!BC66/Eurostat!$AG66","v":3.1180110971553543E-2},{"$f":"Eurostat!BC66/Eurostat!$AG66","v":3.1180110971553543E-2},null,{"$f":"LN((Eurostat!K66^pomocniczo_do_innych_kalibracji!I46*Eurostat!M66^pomocniczo_do_innych_kalibracji!K46)^(1/(pomocniczo_do_innych_kalibracji!I46+pomocniczo_do_innych_kalibracji!K46)))","v":4.662822981750474},{"$f":"LN((Eurostat!Q66^pomocniczo_do_innych_kalibracji!M46*Eurostat!S66^pomocniczo_do_innych_kalibracji!O46*Eurostat!U66^pomocniczo_do_innych_kalibracji!Q46*Eurostat!W66^pomocniczo_do_innych_kalibracji!S46*Eurostat!Y66^pomocniczo_do_innych_kalibracji!U46*Eurostat!AA66^pomocniczo_do_innych_kalibracji!W46*Eurostat!AC66^pomocniczo_do_innych_kalibracji!Y46*Eurostat!AE66^pomocniczo_do_innych_kalibracji!AA46)^(1/(pomocniczo_do_innych_kalibracji!M46+pomocniczo_do_innych_kalibracji!O46+pomocniczo_do_innych_kalibracji!Q46+pomocniczo_do_innych_kalibracji!S46+pomocniczo_do_innych_kalibracji!U46+pomocniczo_do_innych_kalibracji!W46+pomocniczo_do_innych_kalibracji!Y46+pomocniczo_do_innych_kalibracji!AA46)))","v":4.7869493475565879},{"$f":"LN((Eurostat!J66^pomocniczo_do_innych_kalibracji!H46*Eurostat!L66^pomocniczo_do_innych_kalibracji!J46)^(1/(pomocniczo_do_innych_kalibracji!H46+pomocniczo_do_innych_kalibracji!J46)))","v":4.6543050550432188},{"$f":"LN((Eurostat!P66^pomocniczo_do_innych_kalibracji!L46*Eurostat!R66^pomocniczo_do_innych_kalibracji!N46*Eurostat!T66^pomocniczo_do_innych_kalibracji!P46*Eurostat!V66^pomocniczo_do_innych_kalibracji!R46*Eurostat!X66^pomocniczo_do_innych_kalibracji!T46*Eurostat!Z66^pomocniczo_do_innych_kalibracji!V46*Eurostat!AB66^pomocniczo_do_innych_kalibracji!X46*Eurostat!AD66^pomocniczo_do_innych_kalibracji!Z46)^(1/(pomocniczo_do_innych_kalibracji!L46+pomocniczo_do_innych_kalibracji!N46+pomocniczo_do_innych_kalibracji!P46+pomocniczo_do_innych_kalibracji!R46+pomocniczo_do_innych_kalibracji!T46+pomocniczo_do_innych_kalibracji!V46+pomocniczo_do_innych_kalibracji!X46+pomocniczo_do_innych_kalibracji!Z46)))","v":4.6877931749069539}]
[{"$f":"dane_do_matlaba!A45","v":"2010Q4"},{"$f":"1-(Eurostat!AI67+Eurostat!AK67)/Eurostat!AG67","v":0.71764171302392887},{"$f":"1-(Eurostat!AH67+Eurostat!AJ67)/Eurostat!AF67","v":0.78830944595007546},{"$f":"Eurostat!C67/SUM(Eurostat!B67:C67)","v":3.7984485234840583E-2},null,{"$f":"Eurostat!AG67/Eurostat!$AG67","v":1},{"$f":"Eurostat!AG67/Eurostat!$AG67","v":1},{"$f":"Eurostat!AI67/Eurostat!$AG67","v":3.6956981629005042E-2},{"$f":"Eurostat!AI67/Eurostat!$AG67","v":3.6956981629005042E-2},{"$f":"Eurostat!AK67/Eurostat!$AG67","v":0.24540130534706611},{"$f":"Eurostat!AK67/Eurostat!$AG67","v":0.24540130534706611},{"$f":"Eurostat!AO67/Eurostat!$AG67","v":8.2569335609887981E-2},{"$f":"Eurostat!AO67/Eurostat!$AG67","v":8.2569335609887981E-2},{"$f":"Eurostat!AQ67/Eurostat!$AG67","v":0.2583095705423174},{"$f":"Eurostat!AQ67/Eurostat!$AG67","v":0.2583095705423174},{"$f":"Eurostat!AS67/Eurostat!$AG67","v":3.7013311335539791E-2},{"$f":"Eurostat!AS67/Eurostat!$AG67","v":3.7013311335539791E-2},{"$f":"Eurostat!AU67/Eurostat!$AG67","v":4.4297368276110693E-2},{"$f":"Eurostat!AU67/Eurostat!$AG67","v":4.4297368276110693E-2},{"$f":"Eurostat!AW67/Eurostat!$AG67","v":5.5637164087183368E-2},{"$f":"Eurostat!AW67/Eurostat!$AG67","v":5.5637164087183368E-2},{"$f":"Eurostat!AY67/Eurostat!$AG67","v":6.7764636961300237E-2},{"$f":"Eurostat!AY67/Eurostat!$AG67","v":6.7764636961300237E-2},{"$f":"Eurostat!BA67/Eurostat!$AG67","v":0.13860143352844273},{"$f":"Eurostat!BA67/Eurostat!$AG67","v":0.13860143352844273},{"$f":"Eurostat!BC67/Eurostat!$AG67","v":3.0900286405263447E-2},{"$f":"Eurostat!BC67/Eurostat!$AG67","v":3.0900286405263447E-2},null,{"$f":"LN((Eurostat!K67^pomocniczo_do_innych_kalibracji!I47*Eurostat!M67^pomocniczo_do_innych_kalibracji!K47)^(1/(pomocniczo_do_innych_kalibracji!I47+pomocniczo_do_innych_kalibracji!K47)))","v":4.6827731170589866},{"$f":"LN((Eurostat!Q67^pomocniczo_do_innych_kalibracji!M47*Eurostat!S67^pomocniczo_do_innych_kalibracji!O47*Eurostat!U67^pomocniczo_do_innych_kalibracji!Q47*Eurostat!W67^pomocniczo_do_innych_kalibracji!S47*Eurostat!Y67^pomocniczo_do_innych_kalibracji!U47*Eurostat!AA67^pomocniczo_do_innych_kalibracji!W47*Eurostat!AC67^pomocniczo_do_innych_kalibracji!Y47*Eurostat!AE67^pomocniczo_do_innych_kalibracji!AA47)^(1/(pomocniczo_do_innych_kalibracji!M47+pomocniczo_do_innych_kalibracji!O47+pomocniczo_do_innych_kalibracji!Q47+pomocniczo_do_innych_kalibracji!S47+pomocniczo_do_innych_kalibracji!U47+pomocniczo_do_innych_kalibracji!W47+pomocniczo_do_innych_kalibracji!Y47+pomocniczo_do_innych_kalibracji!AA47)))","v":4.7794999559674993},{"$f":"LN((Eurostat!J67^pomocniczo_do_innych_kalibracji!H47*Eurostat!L67^pomocniczo_do_innych_kalibracji!J47)^(1/(pomocniczo_do_innych_kalibracji!H47+pomocniczo_do_innych_kalibracji!J47)))","v":4.6597006354433628},{"$f":"LN((Eurostat!P67^pomocniczo_do_innych_kalibracji!L47*Eurostat!R67^pomocniczo_do_innych_kalibracji!N47*Eurostat!T67^pomocniczo_do_innych_kalibracji!P47*Eurostat!V67^pomocniczo_do_innych_kalibracji!R47*Eurostat!X67^pomocniczo_do_innych_kalibracji!T47*Eurostat!Z67^pomocniczo_do_innych_kalibracji!V47*Eurostat!AB67^pomocniczo_do_innych_kalibracji!X47*Eurostat!AD67^pomocniczo_do_innych_kalibracji!Z47)^(1/(pomocniczo_do_innych_kalibracji!L47+pomocniczo_do_innych_kalibracji!N47+pomocniczo_do_innych_kalibracji!P47+pomocniczo_do_innych_kalibracji!R47+pomocniczo_do_innych_kalibracji!T47+pomocniczo_do_innych_kalibracji!V47+pomocniczo_do_innych_kalibracji!X47+pomocniczo_do_innych_kalibracji!Z47)))","v":4.6897589388216616}]
[{"$f":"dane_do_matlaba!A46","v":"2011Q1"},{"$f":"1-(Eurostat!AI68+Eurostat!AK68)/Eurostat!AG68","v":0.71649057455625331},{"$f":"1-(Eurostat!AH68+Eurostat!AJ68)/Eurostat!AF68","v":0.788738996500157},{"$f":"Eurostat!C68/SUM(Eurostat!B68:C68)","v":3.862556023917213E-2},null,{"$f":"Eurostat!AG68/Eurostat!$AG68","v":1},{"$f":"Eurostat!AG68/Eurostat!$AG68","v":1},{"$f":"Eurostat!AI68/Eurostat!$AG68","v":4.0187690795499213E-2},{"$f":"Eurostat!AI68/Eurostat!$AG68","v":4.0187690795499213E-2},{"$f":"Eurostat!AK68/Eurostat!$AG68","v":0.24332173464824738},{"$f":"Eurostat!AK68/Eurostat!$AG68","v":0.24332173464824738},{"$f":"Eurostat!AO68/Eurostat!$AG68","v":8.3329078910219775E-2},{"$f":"Eurostat!AO68/Eurostat!$AG68","v":8.3329078910219775E-2},{"$f":"Eurostat!AQ68/Eurostat!$AG68","v":0.25752586945543587},{"$f":"Eurostat!AQ68/Eurostat!$AG68","v":0.25752586945543587},{"$f":"Eurostat!AS68/Eurostat!$AG68","v":3.7365009204931354E-2},{"$f":"Eurostat!AS68/Eurostat!$AG68","v":3.7365009204931354E-2},{"$f":"Eurostat!AU68/Eurostat!$AG68","v":4.5758934749861452E-2},{"$f":"Eurostat!AU68/Eurostat!$AG68","v":4.5758934749861452E-2},{"$f":"Eurostat!AW68/Eurostat!$AG68","v":5.5942793489071878E-2},{"$f":"Eurostat!AW68/Eurostat!$AG68","v":5.5942793489071878E-2},{"$f":"Eurostat!AY68/Eurostat!$AG68","v":6.9037292735270109E-2},{"$f":"Eurostat!AY68/Eurostat!$AG68","v":6.9037292735270109E-2},{"$f":"Eurostat!BA68/Eurostat!$AG68","v":0.1380432155073415},{"$f":"Eurostat!BA68/Eurostat!$AG68","v":0.1380432155073415},{"$f":"Eurostat!BC68/Eurostat!$AG68","v":3.0597400967794119E-2},{"$f":"Eurostat!BC68/Eurostat!$AG68","v":3.0597400967794119E-2},null,{"$f":"LN((Eurostat!K68^pomocniczo_do_innych_kalibracji!I48*Eurostat!M68^pomocniczo_do_innych_kalibracji!K48)^(1/(pomocniczo_do_innych_kalibracji!I48+pomocniczo_do_innych_kalibracji!K48)))","v":4.6820863171387614},{"$f":"LN((Eurostat!Q68^pomocniczo_do_innych_kalibracji!M48*Eurostat!S68^pomocniczo_do_innych_kalibracji!O48*Eurostat!U68^pomocniczo_do_innych_kalibracji!Q48*Eurostat!W68^pomocniczo_do_innych_kalibracji!S48*Eurostat!Y68^pomocniczo_do_innych_kalibracji!U48*Eurostat!AA68^pomocniczo_do_innych_kalibracji!W48*Eurostat!AC68^pomocniczo_do_innych_kalibracji!Y48*Eurostat!AE68^pomocniczo_do_innych_kalibracji!AA48)^(1/(pomocniczo_do_innych_kalibracji!M48+pomocniczo_do_innych_kalibracji!O48+pomocniczo_do_innych_kalibracji!Q48+pomocniczo_do_innych_kalibracji!S48+pomocniczo_do_innych_kalibracji!U48+pomocniczo_do_innych_kalibracji!W48+pomocniczo_do_innych_kalibracji!Y48+pomocniczo_do_innych_kalibracji!AA48)))","v":4.8074888096465482},{"$f":"LN((Eurostat!J68^pomocniczo_do_innych_kalibracji!H48*Eurostat!L68^pomocniczo_do_innych_kalibracji!J48)^(1/(pomocniczo_do_innych_kalibracji!H48+pomocniczo_do_innych_kalibracji!J48)))","v":4.6594556057351388},{"$f":"LN((Eurostat!P68^pomocniczo_do_innych_kalibracji!L48*Eurostat!R68^pomocniczo_do_innych_kalibracji!N48*Eurostat!T68^pomocniczo_do_innych_kalibracji!P48*Eurostat!V68^pomocniczo_do_innych_kalibracji!R48*Eurostat!X68^pomocniczo_do_innych_kalibracji!T48*Eurostat!Z68^pomocniczo_do_innych_kalibracji!V48*Eurostat!AB68^pomocniczo_do_innych_kalibracji!X48*Eurostat!AD68^pomocniczo_do_innych_kalibracji!Z48)^(1/(pomocniczo_do_innych_kalibracji!L48+pomocniczo_do_innych_kalibracji!N48+pomocniczo_do_innych_kalibracji!P48+pomocniczo_do_innych_kalibracji!R48+pomocniczo_do_innych_kalibracji!T48+pomocniczo_do_innych_kalibracji!V48+pomocniczo_do_innych_kalibracji!X48+pomocniczo_do_innych_kalibracji!Z48)))","v":4.6902980802630783}]
[{"$f":"dane_do_matlaba!A47","v":"2011Q2"},{"$f":"1-(Eurostat!AI69+Eurostat!AK69)/Eurostat!AG69","v":0.71670704443485156},{"$f":"1-(Eurostat!AH69+Eurostat!AJ69)/Eurostat!AF69","v":0.78860640752660416},{"$f":"Eurostat!C69/SUM(Eurostat!B69:C69)","v":3.8963012367117342E-2},null,{"$f":"Eurostat!AG69/Eurostat!$AG69","v":1},{"$f":"Eurostat!AG69/Eurostat!$AG69","v":1},{"$f":"Eurostat!AI69/Eurostat!$AG69","v":3.9569307828219068E-2},{"$f":"Eurostat!AI69/Eurostat!$AG69","v":3.9569307828219068E-2},{"$f":"Eurostat!AK69/Eurostat!$AG69","v":0.24372364773692942},{"$f":"Eurostat!AK69/Eurostat!$AG69","v":0.24372364773692942},{"$f":"Eurostat!AO69/Eurostat!$AG69","v":8.3752269646868743E-2},{"$f":"Eurostat!AO69/Eurostat!$AG69","v":8.3752269646868743E-2},{"$f":"Eurostat!AQ69/Eurostat!$AG69","v":0.25551781735010226},{"$f":"Eurostat!AQ69/Eurostat!$AG69","v":0.25551781735010226},{"$f":"Eurostat!AS69/Eurostat!$AG69","v":3.6710133477408209E-2},{"$f":"Eurostat!AS69/Eurostat!$AG69","v":3.6710133477408209E-2},{"$f":"Eurostat!AU69/Eurostat!$AG69","v":4.9145641418268729E-2},{"$f":"Eurostat!AU69/Eurostat!$AG69","v":4.9145641418268729E-2},{"$f":"Eurostat!AW69/Eurostat!$AG69","v":5.5838667512533399E-2},{"$f":"Eurostat!AW69/Eurostat!$AG69","v":5.5838667512533399E-2},{"$f":"Eurostat!AY69/Eurostat!$AG69","v":6.8862420862138507E-2},{"$f":"Eurostat!AY69/Eurostat!$AG69","v":6.8862420862138507E-2},{"$f":"Eurostat!BA69/Eurostat!$AG69","v":0.13707445346722402},{"$f":"Eurostat!BA69/Eurostat!$AG69","v":0.13707445346722402},{"$f":"Eurostat!BC69/Eurostat!$AG69","v":3.0086188510632009E-2},{"$f":"Eurostat!BC69/Eurostat!$AG69","v":3.0086188510632009E-2},null,{"$f":"LN((Eurostat!K69^pomocniczo_do_innych_kalibracji!I49*Eurostat!M69^pomocniczo_do_innych_kalibracji!K49)^(1/(pomocniczo_do_innych_kalibracji!I49+pomocniczo_do_innych_kalibracji!K49)))","v":4.6673158026872628},{"$f":"LN((Eurostat!Q69^pomocniczo_do_innych_kalibracji!M49*Eurostat!S69^pomocniczo_do_innych_kalibracji!O49*Eurostat!U69^pomocniczo_do_innych_kalibracji!Q49*Eurostat!W69^pomocniczo_do_innych_kalibracji!S49*Eurostat!Y69^pomocniczo_do_innych_kalibracji!U49*Eurostat!AA69^pomocniczo_do_innych_kalibracji!W49*Eurostat!AC69^pomocniczo_do_innych_kalibracji!Y49*Eurostat!AE69^pomocniczo_do_innych_kalibracji!AA49)^(1/(pomocniczo_do_innych_kalibracji!M49+pomocniczo_do_innych_kalibracji!O49+pomocniczo_do_innych_kalibracji!Q49+pomocniczo_do_innych_kalibracji!S49+pomocniczo_do_innych_kalibracji!U49+pomocniczo_do_innych_kalibracji!W49+pomocniczo_do_innych_kalibracji!Y49+pomocniczo_do_innych_kalibracji!AA49)))","v":4.8090806495434641},{"$f":"LN((Eurostat!J69^pomocniczo_do_innych_kalibracji!H49*Eurostat!L69^pomocniczo_do_innych_kalibracji!J49)^(1/(pomocniczo_do_innych_kalibracji!H49+pomocniczo_do_innych_kalibracji!J49)))","v":4.662014283389551},{"$f":"LN((Eurostat!P69^pomocniczo_do_innych_kalibracji!L49*Eurostat!R69^pomocniczo_do_innych_kalibracji!N49*Eurostat!T69^pomocniczo_do_innych_kalibracji!P49*Eurostat!V69^pomocniczo_do_innych_kalibracji!R49*Eurostat!X69^pomocniczo_do_innych_kalibracji!T49*Eurostat!Z69^pomocniczo_do_innych_kalibracji!V49*Eurostat!AB69^pomocniczo_do_innych_kalibracji!X49*Eurostat!AD69^pomocniczo_do_innych_kalibracji!Z49)^(1/(pomocniczo_do_innych_kalibracji!L49+pomocniczo_do_innych_kalibracji!N49+pomocniczo_do_innych_kalibracji!P49+pomocniczo_do_innych_kalibracji!R49+pomocniczo_do_innych_kalibracji!T49+pomocniczo_do_innych_kalibracji!V49+pomocniczo_do_innych_kalibracji!X49+pomocniczo_do_innych_kalibracji!Z49)))","v":4.6921239006891264}]
[{"$f":"dane_do_matlaba!A48","v":"2011Q3"},{"$f":"1-(Eurostat!AI70+Eurostat!AK70)/Eurostat!AG70","v":0.71673049082816775},{"$f":"1-(Eurostat!AH70+Eurostat!AJ70)/Eurostat!AF70","v":0.78912656006844539},{"$f":"Eurostat!C70/SUM(Eurostat!B70:C70)","v":3.7702378944628051E-2},null,{"$f":"Eurostat!AG70/Eurostat!$AG70","v":1},{"$f":"Eurostat!AG70/Eurostat!$AG70","v":1},{"$f":"Eurostat!AI70/Eurostat!$AG70","v":4.0601397868964356E-2},{"$f":"Eurostat!AI70/Eurostat!$AG70","v":4.0601397868964356E-2},{"$f":"Eurostat!AK70/Eurostat!$AG70","v":0.24266811130286792},{"$f":"Eurostat!AK70/Eurostat!$AG70","v":0.24266811130286792},{"$f":"Eurostat!AO70/Eurostat!$AG70","v":8.3406142090542826E-2},{"$f":"Eurostat!AO70/Eurostat!$AG70","v":8.3406142090542826E-2},{"$f":"Eurostat!AQ70/Eurostat!$AG70","v":0.25648703096785991},{"$f":"Eurostat!AQ70/Eurostat!$AG70","v":0.25648703096785991},{"$f":"Eurostat!AS70/Eurostat!$AG70","v":3.6801239341641173E-2},{"$f":"Eurostat!AS70/Eurostat!$AG70","v":3.6801239341641173E-2},{"$f":"Eurostat!AU70/Eurostat!$AG70","v":4.4098585177665697E-2},{"$f":"Eurostat!AU70/Eurostat!$AG70","v":4.4098585177665697E-2},{"$f":"Eurostat!AW70/Eurostat!$AG70","v":5.6168615317976282E-2},{"$f":"Eurostat!AW70/Eurostat!$AG70","v":5.6168615317976282E-2},{"$f":"Eurostat!AY70/Eurostat!$AG70","v":6.9409108486478271E-2},{"$f":"Eurostat!AY70/Eurostat!$AG70","v":6.9409108486478271E-2},{"$f":"Eurostat!BA70/Eurostat!$AG70","v":0.13622225069152291},{"$f":"Eurostat!BA70/Eurostat!$AG70","v":0.13622225069152291},{"$f":"Eurostat!BC70/Eurostat!$AG70","v":3.0138831235267505E-2},{"$f":"Eurostat!BC70/Eurostat!$AG70","v":3.0138831235267505E-2},null,{"$f":"LN((Eurostat!K70^pomocniczo_do_innych_kalibracji!I50*Eurostat!M70^pomocniczo_do_innych_kalibracji!K50)^(1/(pomocniczo_do_innych_kalibracji!I50+pomocniczo_do_innych_kalibracji!K50)))","v":4.6848765422845604},{"$f":"LN((Eurostat!Q70^pomocniczo_do_innych_kalibracji!M50*Eurostat!S70^pomocniczo_do_innych_kalibracji!O50*Eurostat!U70^pomocniczo_do_innych_kalibracji!Q50*Eurostat!W70^pomocniczo_do_innych_kalibracji!S50*Eurostat!Y70^pomocniczo_do_innych_kalibracji!U50*Eurostat!AA70^pomocniczo_do_innych_kalibracji!W50*Eurostat!AC70^pomocniczo_do_innych_kalibracji!Y50*Eurostat!AE70^pomocniczo_do_innych_kalibracji!AA50)^(1/(pomocniczo_do_innych_kalibracji!M50+pomocniczo_do_innych_kalibracji!O50+pomocniczo_do_innych_kalibracji!Q50+pomocniczo_do_innych_kalibracji!S50+pomocniczo_do_innych_kalibracji!U50+pomocniczo_do_innych_kalibracji!W50+pomocniczo_do_innych_kalibracji!Y50+pomocniczo_do_innych_kalibracji!AA50)))","v":4.81137156036369},{"$f":"LN((Eurostat!J70^pomocniczo_do_innych_kalibracji!H50*Eurostat!L70^pomocniczo_do_innych_kalibracji!J50)^(1/(pomocniczo_do_innych_kalibracji!H50+pomocniczo_do_innych_kalibracji!J50)))","v":4.6626340626639085},{"$f":"LN((Eurostat!P70^pomocniczo_do_innych_kalibracji!L50*Eurostat!R70^pomocniczo_do_innych_kalibracji!N50*Eurostat!T70^pomocniczo_do_innych_kalibracji!P50*Eurostat!V70^pomocniczo_do_innych_kalibracji!R50*Eurostat!X70^pomocniczo_do_innych_kalibracji!T50*Eurostat!Z70^pomocniczo_do_innych_kalibracji!V50*Eurostat!AB70^pomocniczo_do_innych_kalibracji!X50*Eurostat!AD70^pomocniczo_do_innych_kalibracji!Z50)^(1/(pomocniczo_do_innych_kalibracji!L50+pomocniczo_do_innych_kalibracji!N50+pomocniczo_do_innych_kalibracji!P50+pomocniczo_do_innych_kalibracji!R50+pomocniczo_do_innych_kalibracji!T50+pomocniczo_do_innych_kalibracji!V50+pomocniczo_do_innych_kalibracji!X50+pomocniczo_do_innych_kalibracji!Z50)))","v":4.6970723439787756}]
[{"$f":"dane_do_matlaba!A49","v":"2011Q4"},{"$f":"1-(Eurostat!AI71+Eurostat!AK71)/Eurostat!AG71","v":0.70031131160716897},{"$f":"1-(Eurostat!AH71+Eurostat!AJ71)/Eurostat!AF71","v":0.79096741670306048},{"$f":"Eurostat!C71/SUM(Eurostat!B71:C71)","v":3.6200249334174622E-2},null,{"$f":"Eurostat!AG71/Eurostat!$AG71","v":1},{"$f":"Eurostat!AG71/Eurostat!$AG71","v":1},{"$f":"Eurostat!AI71/Eurostat!$AG71","v":4.1702355010092326E-2},{"$f":"Eurostat!AI71/Eurostat!$AG71","v":4.1702355010092326E-2},{"$f":"Eurostat!AK71/Eurostat!$AG71","v":0.25798633338273869},{"$f":"Eurostat!AK71/Eurostat!$AG71","v":0.25798633338273869},{"$f":"Eurostat!AO71/Eurostat!$AG71","v":7.973875697536105E-2},{"$f":"Eurostat!AO71/Eurostat!$AG71","v":7.973875697536105E-2},{"$f":"Eurostat!AQ71/Eurostat!$AG71","v":0.25918453355903159},{"$f":"Eurostat!AQ71/Eurostat!$AG71","v":0.25918453355903159},{"$f":"Eurostat!AS71/Eurostat!$AG71","v":3.7316495686508376E-2},{"$f":"Eurostat!AS71/Eurostat!$AG71","v":3.7316495686508376E-2},{"$f":"Eurostat!AU71/Eurostat!$AG71","v":3.7782027345416663E-2},{"$f":"Eurostat!AU71/Eurostat!$AG71","v":3.7782027345416663E-2},{"$f":"Eurostat!AW71/Eurostat!$AG71","v":5.6226362666275294E-2},{"$f":"Eurostat!AW71/Eurostat!$AG71","v":5.6226362666275294E-2},{"$f":"Eurostat!AY71/Eurostat!$AG71","v":6.9787111357203169E-2},{"$f":"Eurostat!AY71/Eurostat!$AG71","v":6.9787111357203169E-2},{"$f":"Eurostat!BA71/Eurostat!$AG71","v":0.13533512913500156},{"$f":"Eurostat!BA71/Eurostat!$AG71","v":0.13533512913500156},{"$f":"Eurostat!BC71/Eurostat!$AG71","v":3.0073055114597656E-2},{"$f":"Eurostat!BC71/Eurostat!$AG71","v":3.0073055114597656E-2},null,{"$f":"LN((Eurostat!K71^pomocniczo_do_innych_kalibracji!I51*Eurostat!M71^pomocniczo_do_innych_kalibracji!K51)^(1/(pomocniczo_do_innych_kalibracji!I51+pomocniczo_do_innych_kalibracji!K51)))","v":4.7306660971352743},{"$f":"LN((Eurostat!Q71^pomocniczo_do_innych_kalibracji!M51*Eurostat!S71^pomocniczo_do_innych_kalibracji!O51*Eurostat!U71^pomocniczo_do_innych_kalibracji!Q51*Eurostat!W71^pomocniczo_do_innych_kalibracji!S51*Eurostat!Y71^pomocniczo_do_innych_kalibracji!U51*Eurostat!AA71^pomocniczo_do_innych_kalibracji!W51*Eurostat!AC71^pomocniczo_do_innych_kalibracji!Y51*Eurostat!AE71^pomocniczo_do_innych_kalibracji!AA51)^(1/(pomocniczo_do_innych_kalibracji!M51+pomocniczo_do_innych_kalibracji!O51+pomocniczo_do_innych_kalibracji!Q51+pomocniczo_do_innych_kalibracji!S51+pomocniczo_do_innych_kalibracji!U51+pomocniczo_do_innych_kalibracji!W51+pomocniczo_do_innych_kalibracji!Y51+pomocniczo_do_innych_kalibracji!AA51)))","v":4.8276303412776018},{"$f":"LN((Eurostat!J71^pomocniczo_do_innych_kalibracji!H51*Eurostat!L71^pomocniczo_do_innych_kalibracji!J51)^(1/(pomocniczo_do_innych_kalibracji!H51+pomocniczo_do_innych_kalibracji!J51)))","v":4.6680054442437591},{"$f":"LN((Eurostat!P71^pomocniczo_do_innych_kalibracji!L51*Eurostat!R71^pomocniczo_do_innych_kalibracji!N51*Eurostat!T71^pomocniczo_do_innych_kalibracji!P51*Eurostat!V71^pomocniczo_do_innych_kalibracji!R51*Eurostat!X71^pomocniczo_do_innych_kalibracji!T51*Eurostat!Z71^pomocniczo_do_innych_kalibracji!V51*Eurostat!AB71^pomocniczo_do_innych_kalibracji!X51*Eurostat!AD71^pomocniczo_do_innych_kalibracji!Z51)^(1/(pomocniczo_do_innych_kalibracji!L51+pomocniczo_do_innych_kalibracji!N51+pomocniczo_do_innych_kalibracji!P51+pomocniczo_do_innych_kalibracji!R51+pomocniczo_do_innych_kalibracji!T51+pomocniczo_do_innych_kalibracji!V51+pomocniczo_do_innych_kalibracji!X51+pomocniczo_do_innych_kalibracji!Z51)))","v":4.7022931724303323}]
[{"$f":"dane_do_matlaba!A50","v":"2012Q1"},{"$f":"1-(Eurostat!AI72+Eurostat!AK72)/Eurostat!AG72","v":0.716294173994098},{"$f":"1-(Eurostat!AH72+Eurostat!AJ72)/Eurostat!AF72","v":0.79071779889587956},{"$f":"Eurostat!C72/SUM(Eurostat!B72:C72)","v":3.7876816908110296E-2},null,{"$f":"Eurostat!AG72/Eurostat!$AG72","v":1},{"$f":"Eurostat!AG72/Eurostat!$AG72","v":1},{"$f":"Eurostat!AI72/Eurostat!$AG72","v":3.8184257513212284E-2},{"$f":"Eurostat!AI72/Eurostat!$AG72","v":3.8184257513212284E-2},{"$f":"Eurostat!AK72/Eurostat!$AG72","v":0.24552156849268975},{"$f":"Eurostat!AK72/Eurostat!$AG72","v":0.24552156849268975},{"$f":"Eurostat!AO72/Eurostat!$AG72","v":7.8308941971898735E-2},{"$f":"Eurostat!AO72/Eurostat!$AG72","v":7.8308941971898735E-2},{"$f":"Eurostat!AQ72/Eurostat!$AG72","v":0.261627169413648},{"$f":"Eurostat!AQ72/Eurostat!$AG72","v":0.261627169413648},{"$f":"Eurostat!AS72/Eurostat!$AG72","v":3.7937981366059421E-2},{"$f":"Eurostat!AS72/Eurostat!$AG72","v":3.7937981366059421E-2},{"$f":"Eurostat!AU72/Eurostat!$AG72","v":4.5415326108278462E-2},{"$f":"Eurostat!AU72/Eurostat!$AG72","v":4.5415326108278462E-2},{"$f":"Eurostat!AW72/Eurostat!$AG72","v":5.6343114219154264E-2},{"$f":"Eurostat!AW72/Eurostat!$AG72","v":5.6343114219154264E-2},{"$f":"Eurostat!AY72/Eurostat!$AG72","v":6.8745409169204602E-2},{"$f":"Eurostat!AY72/Eurostat!$AG72","v":6.8745409169204602E-2},{"$f":"Eurostat!BA72/Eurostat!$AG72","v":0.13331815584984602},{"$f":"Eurostat!BA72/Eurostat!$AG72","v":0.13331815584984602},{"$f":"Eurostat!BC72/Eurostat!$AG72","v":3.007432671394596E-2},{"$f":"Eurostat!BC72/Eurostat!$AG72","v":3.007432671394596E-2},null,{"$f":"LN((Eurostat!K72^pomocniczo_do_innych_kalibracji!I52*Eurostat!M72^pomocniczo_do_innych_kalibracji!K52)^(1/(pomocniczo_do_innych_kalibracji!I52+pomocniczo_do_innych_kalibracji!K52)))","v":4.691335288361433},{"$f":"LN((Eurostat!Q72^pomocniczo_do_innych_kalibracji!M52*Eurostat!S72^pomocniczo_do_innych_kalibracji!O52*Eurostat!U72^pomocniczo_do_innych_kalibracji!Q52*Eurostat!W72^pomocniczo_do_innych_kalibracji!S52*Eurostat!Y72^pomocniczo_do_innych_kalibracji!U52*Eurostat!AA72^pomocniczo_do_innych_kalibracji!W52*Eurostat!AC72^pomocniczo_do_innych_kalibracji!Y52*Eurostat!AE72^pomocniczo_do_innych_kalibracji!AA52)^(1/(pomocniczo_do_innych_kalibracji!M52+pomocniczo_do_innych_kalibracji!O52+pomocniczo_do_innych_kalibracji!Q52+pomocniczo_do_innych_kalibracji!S52+pomocniczo_do_innych_kalibracji!U52+pomocniczo_do_innych_kalibracji!W52+pomocniczo_do_innych_kalibracji!Y52+pomocniczo_do_innych_kalibracji!AA52)))","v":4.8366312243924776},{"$f":"LN((Eurostat!J72^pomocniczo_do_innych_kalibracji!H52*Eurostat!L72^pomocniczo_do_innych_kalibracji!J52)^(1/(pomocniczo_do_innych_kalibracji!H52+pomocniczo_do_innych_kalibracji!J52)))","v":4.672126928053741},{"$f":"LN((Eurostat!P72^pomocniczo_do_innych_kalibracji!L52*Eurostat!R72^pomocniczo_do_innych_kalibracji!N52*Eurostat!T72^pomocniczo_do_innych_kalibracji!P52*Eurostat!V72^pomocniczo_do_innych_kalibracji!R52*Eurostat!X72^pomocniczo_do_innych_kalibracji!T52*Eurostat!Z72^pomocniczo_do_innych_kalibracji!V52*Eurostat!AB72^pomocniczo_do_innych_kalibracji!X52*Eurostat!AD72^pomocniczo_do_innych_kalibracji!Z52)^(1/(pomocniczo_do_innych_kalibracji!L52+pomocniczo_do_innych_kalibracji!N52+pomocniczo_do_innych_kalibracji!P52+pomocniczo_do_innych_kalibracji!R52+pomocniczo_do_innych_kalibracji!T52+pomocniczo_do_innych_kalibracji!V52+pomocniczo_do_innych_kalibracji!X52+pomocniczo_do_innych_kalibracji!Z52)))","v":4.7018957417228071}]
[{"$f":"dane_do_matlaba!A51","v":"2012Q2"},{"$f":"1-(Eurostat!AI73+Eurostat!AK73)/Eurostat!AG73","v":0.71719794107859736},{"$f":"1-(Eurostat!AH73+Eurostat!AJ73)/Eurostat!AF73","v":0.79060476214911302},{"$f":"Eurostat!C73/SUM(Eurostat!B73:C73)","v":3.796658181408661E-2},null,{"$f":"Eurostat!AG73/Eurostat!$AG73","v":1},{"$f":"Eurostat!AG73/Eurostat!$AG73","v":1},{"$f":"Eurostat!AI73/Eurostat!$AG73","v":3.8687048194903671E-2},{"$f":"Eurostat!AI73/Eurostat!$AG73","v":3.8687048194903671E-2},{"$f":"Eurostat!AK73/Eurostat!$AG73","v":0.24411501072649905},{"$f":"Eurostat!AK73/Eurostat!$AG73","v":0.24411501072649905},{"$f":"Eurostat!AO73/Eurostat!$AG73","v":7.8595855252444433E-2},{"$f":"Eurostat!AO73/Eurostat!$AG73","v":7.8595855252444433E-2},{"$f":"Eurostat!AQ73/Eurostat!$AG73","v":0.26428309461267779},{"$f":"Eurostat!AQ73/Eurostat!$AG73","v":0.26428309461267779},{"$f":"Eurostat!AS73/Eurostat!$AG73","v":3.7473219153349994E-2},{"$f":"Eurostat!AS73/Eurostat!$AG73","v":3.7473219153349994E-2},{"$f":"Eurostat!AU73/Eurostat!$AG73","v":4.6681157470670281E-2},{"$f":"Eurostat!AU73/Eurostat!$AG73","v":4.6681157470670281E-2},{"$f":"Eurostat!AW73/Eurostat!$AG73","v":5.7042601547731143E-2},{"$f":"Eurostat!AW73/Eurostat!$AG73","v":5.7042601547731143E-2},{"$f":"Eurostat!AY73/Eurostat!$AG73","v":7.0350540573071177E-2},{"$f":"Eurostat!AY73/Eurostat!$AG73","v":7.0350540573071177E-2},{"$f":"Eurostat!BA73/Eurostat!$AG73","v":0.13319607190648475},{"$f":"Eurostat!BA73/Eurostat!$AG73","v":0.13319607190648475},{"$f":"Eurostat!BC73/Eurostat!$AG73","v":3.0169570727631885E-2},{"$f":"Eurostat!BC73/Eurostat!$AG73","v":3.0169570727631885E-2},null,{"$f":"LN((Eurostat!K73^pomocniczo_do_innych_kalibracji!I53*Eurostat!M73^pomocniczo_do_innych_kalibracji!K53)^(1/(pomocniczo_do_innych_kalibracji!I53+pomocniczo_do_innych_kalibracji!K53)))","v":4.7211076236740714},{"$f":"LN((Eurostat!Q73^pomocniczo_do_innych_kalibracji!M53*Eurostat!S73^pomocniczo_do_innych_kalibracji!O53*Eurostat!U73^pomocniczo_do_innych_kalibracji!Q53*Eurostat!W73^pomocniczo_do_innych_kalibracji!S53*Eurostat!Y73^pomocniczo_do_innych_kalibracji!U53*Eurostat!AA73^pomocniczo_do_innych_kalibracji!W53*Eurostat!AC73^pomocniczo_do_innych_kalibracji!Y53*Eurostat!AE73^pomocniczo_do_innych_kalibracji!AA53)^(1/(pomocniczo_do_innych_kalibracji!M53+pomocniczo_do_innych_kalibracji!O53+pomocniczo_do_innych_kalibracji!Q53+pomocniczo_do_innych_kalibracji!S53+pomocniczo_do_innych_kalibracji!U53+pomocniczo_do_innych_kalibracji!W53+pomocniczo_do_innych_kalibracji!Y53+pomocniczo_do_innych_kalibracji!AA53)))","v":4.8457787062469544},{"$f":"LN((Eurostat!J73^pomocniczo_do_innych_kalibracji!H53*Eurostat!L73^pomocniczo_do_innych_kalibracji!J53)^(1/(pomocniczo_do_innych_kalibracji!H53+pomocniczo_do_innych_kalibracji!J53)))","v":4.6772312091810573},{"$f":"LN((Eurostat!P73^pomocniczo_do_innych_kalibracji!L53*Eurostat!R73^pomocniczo_do_innych_kalibracji!N53*Eurostat!T73^pomocniczo_do_innych_kalibracji!P53*Eurostat!V73^pomocniczo_do_innych_kalibracji!R53*Eurostat!X73^pomocniczo_do_innych_kalibracji!T53*Eurostat!Z73^pomocniczo_do_innych_kalibracji!V53*Eurostat!AB73^pomocniczo_do_innych_kalibracji!X53*Eurostat!AD73^pomocniczo_do_innych_kalibracji!Z53)^(1/(pomocniczo_do_innych_kalibracji!L53+pomocniczo_do_innych_kalibracji!N53+pomocniczo_do_innych_kalibracji!P53+pomocniczo_do_innych_kalibracji!R53+pomocniczo_do_innych_kalibracji!T53+pomocniczo_do_innych_kalibracji!V53+pomocniczo_do_innych_kalibracji!X53+pomocniczo_do_innych_kalibracji!Z53)))","v":4.7052271619557562}]
[{"$f":"dane_do_matlaba!A52","v":"2012Q3"},{"$f":"1-(Eurostat!AI74+Eurostat!AK74)/Eurostat!AG74","v":0.7128947857742236},{"$f":"1-(Eurostat!AH74+Eurostat!AJ74)/Eurostat!AF74","v":0.78928928968880041},{"$f":"Eurostat!C74/SUM(Eurostat!B74:C74)","v":3.9199000100236116E-2},null,{"$f":"Eurostat!AG74/Eurostat!$AG74","v":1},{"$f":"Eurostat!AG74/Eurostat!$AG74","v":1},{"$f":"Eurostat!AI74/Eurostat!$AG74","v":4.0095407118851852E-2},{"$f":"Eurostat!AI74/Eurostat!$AG74","v":4.0095407118851852E-2},{"$f":"Eurostat!AK74/Eurostat!$AG74","v":0.24700980710692458},{"$f":"Eurostat!AK74/Eurostat!$AG74","v":0.24700980710692458},{"$f":"Eurostat!AO74/Eurostat!$AG74","v":7.2227937385069677E-2},{"$f":"Eurostat!AO74/Eurostat!$AG74","v":7.2227937385069677E-2},{"$f":"Eurostat!AQ74/Eurostat!$AG74","v":0.2673115283226874},{"$f":"Eurostat!AQ74/Eurostat!$AG74","v":0.2673115283226874},{"$f":"Eurostat!AS74/Eurostat!$AG74","v":3.7540040130851444E-2},{"$f":"Eurostat!AS74/Eurostat!$AG74","v":3.7540040130851444E-2},{"$f":"Eurostat!AU74/Eurostat!$AG74","v":4.2179870943277548E-2},{"$f":"Eurostat!AU74/Eurostat!$AG74","v":4.2179870943277548E-2},{"$f":"Eurostat!AW74/Eurostat!$AG74","v":5.7503071138165072E-2},{"$f":"Eurostat!AW74/Eurostat!$AG74","v":5.7503071138165072E-2},{"$f":"Eurostat!AY74/Eurostat!$AG74","v":7.1073746417239902E-2},{"$f":"Eurostat!AY74/Eurostat!$AG74","v":7.1073746417239902E-2},{"$f":"Eurostat!BA74/Eurostat!$AG74","v":0.13453709009412718},{"$f":"Eurostat!BA74/Eurostat!$AG74","v":0.13453709009412718},{"$f":"Eurostat!BC74/Eurostat!$AG74","v":3.040419750815149E-2},{"$f":"Eurostat!BC74/Eurostat!$AG74","v":3.040419750815149E-2},null,{"$f":"LN((Eurostat!K74^pomocniczo_do_innych_kalibracji!I54*Eurostat!M74^pomocniczo_do_innych_kalibracji!K54)^(1/(pomocniczo_do_innych_kalibracji!I54+pomocniczo_do_innych_kalibracji!K54)))","v":4.7322484022026847},{"$f":"LN((Eurostat!Q74^pomocniczo_do_innych_kalibracji!M54*Eurostat!S74^pomocniczo_do_innych_kalibracji!O54*Eurostat!U74^pomocniczo_do_innych_kalibracji!Q54*Eurostat!W74^pomocniczo_do_innych_kalibracji!S54*Eurostat!Y74^pomocniczo_do_innych_kalibracji!U54*Eurostat!AA74^pomocniczo_do_innych_kalibracji!W54*Eurostat!AC74^pomocniczo_do_innych_kalibracji!Y54*Eurostat!AE74^pomocniczo_do_innych_kalibracji!AA54)^(1/(pomocniczo_do_innych_kalibracji!M54+pomocniczo_do_innych_kalibracji!O54+pomocniczo_do_innych_kalibracji!Q54+pomocniczo_do_innych_kalibracji!S54+pomocniczo_do_innych_kalibracji!U54+pomocniczo_do_innych_kalibracji!W54+pomocniczo_do_innych_kalibracji!Y54+pomocniczo_do_innych_kalibracji!AA54)))","v":4.8486676934747548},{"$f":"LN((Eurostat!J74^pomocniczo_do_innych_kalibracji!H54*Eurostat!L74^pomocniczo_do_innych_kalibracji!J54)^(1/(pomocniczo_do_innych_kalibracji!H54+pomocniczo_do_innych_kalibracji!J54)))","v":4.6857166507493551},{"$f":"LN((Eurostat!P74^pomocniczo_do_innych_kalibracji!L54*Eurostat!R74^pomocniczo_do_innych_kalibracji!N54*Eurostat!T74^pomocniczo_do_innych_kalibracji!P54*Eurostat!V74^pomocniczo_do_innych_kalibracji!R54*Eurostat!X74^pomocniczo_do_innych_kalibracji!T54*Eurostat!Z74^pomocniczo_do_innych_kalibracji!V54*Eurostat!AB74^pomocniczo_do_innych_kalibracji!X54*Eurostat!AD74^pomocniczo_do_innych_kalibracji!Z54)^(1/(pomocniczo_do_innych_kalibracji!L54+pomocniczo_do_innych_kalibracji!N54+pomocniczo_do_innych_kalibracji!P54+pomocniczo_do_innych_kalibracji!R54+pomocniczo_do_innych_kalibracji!T54+pomocniczo_do_innych_kalibracji!V54+pomocniczo_do_innych_kalibracji!X54+pomocniczo_do_innych_kalibracji!Z54)))","v":4.7071366935950198}]
[{"$f":"dane_do_matlaba!A53","v":"2012Q4"},{"$f":"1-(Eurostat!AI75+Eurostat!AK75)/Eurostat!AG75","v":0.71450270309201436},{"$f":"1-(Eurostat!AH75+Eurostat!AJ75)/Eurostat!AF75","v":0.79050336762164231},{"$f":"Eurostat!C75/SUM(Eurostat!B75:C75)","v":3.9570810599026902E-2},null,{"$f":"Eurostat!AG75/Eurostat!$AG75","v":1},{"$f":"Eurostat!AG75/Eurostat!$AG75","v":1},{"$f":"Eurostat!AI75/Eurostat!$AG75","v":3.9464498849739141E-2},{"$f":"Eurostat!AI75/Eurostat!$AG75","v":3.9464498849739141E-2},{"$f":"Eurostat!AK75/Eurostat!$AG75","v":0.24603279805824643},{"$f":"Eurostat!AK75/Eurostat!$AG75","v":0.24603279805824643},{"$f":"Eurostat!AO75/Eurostat!$AG75","v":7.0956060287177089E-2},{"$f":"Eurostat!AO75/Eurostat!$AG75","v":7.0956060287177089E-2},{"$f":"Eurostat!AQ75/Eurostat!$AG75","v":0.26695692455919745},{"$f":"Eurostat!AQ75/Eurostat!$AG75","v":0.26695692455919745},{"$f":"Eurostat!AS75/Eurostat!$AG75","v":3.619657536415586E-2},{"$f":"Eurostat!AS75/Eurostat!$AG75","v":3.619657536415586E-2},{"$f":"Eurostat!AU75/Eurostat!$AG75","v":4.7450607722791763E-2},{"$f":"Eurostat!AU75/Eurostat!$AG75","v":4.7450607722791763E-2},{"$f":"Eurostat!AW75/Eurostat!$AG75","v":5.8069047039209766E-2},{"$f":"Eurostat!AW75/Eurostat!$AG75","v":5.8069047039209766E-2},{"$f":"Eurostat!AY75/Eurostat!$AG75","v":7.1192025605319703E-2},{"$f":"Eurostat!AY75/Eurostat!$AG75","v":7.1192025605319703E-2},{"$f":"Eurostat!BA75/Eurostat!$AG75","v":0.13612648637832753},{"$f":"Eurostat!BA75/Eurostat!$AG75","v":0.13612648637832753},{"$f":"Eurostat!BC75/Eurostat!$AG75","v":3.0516032610294872E-2},{"$f":"Eurostat!BC75/Eurostat!$AG75","v":3.0516032610294872E-2},null,{"$f":"LN((Eurostat!K75^pomocniczo_do_innych_kalibracji!I55*Eurostat!M75^pomocniczo_do_innych_kalibracji!K55)^(1/(pomocniczo_do_innych_kalibracji!I55+pomocniczo_do_innych_kalibracji!K55)))","v":4.7247682419984454},{"$f":"LN((Eurostat!Q75^pomocniczo_do_innych_kalibracji!M55*Eurostat!S75^pomocniczo_do_innych_kalibracji!O55*Eurostat!U75^pomocniczo_do_innych_kalibracji!Q55*Eurostat!W75^pomocniczo_do_innych_kalibracji!S55*Eurostat!Y75^pomocniczo_do_innych_kalibracji!U55*Eurostat!AA75^pomocniczo_do_innych_kalibracji!W55*Eurostat!AC75^pomocniczo_do_innych_kalibracji!Y55*Eurostat!AE75^pomocniczo_do_innych_kalibracji!AA55)^(1/(pomocniczo_do_innych_kalibracji!M55+pomocniczo_do_innych_kalibracji!O55+pomocniczo_do_innych_kalibracji!Q55+pomocniczo_do_innych_kalibracji!S55+pomocniczo_do_innych_kalibracji!U55+pomocniczo_do_innych_kalibracji!W55+pomocniczo_do_innych_kalibracji!Y55+pomocniczo_do_innych_kalibracji!AA55)))","v":4.8542008287052685},{"$f":"LN((Eurostat!J75^pomocniczo_do_innych_kalibracji!H55*Eurostat!L75^pomocniczo_do_innych_kalibracji!J55)^(1/(pomocniczo_do_innych_kalibracji!H55+pomocniczo_do_innych_kalibracji!J55)))","v":4.6964835092884218},{"$f":"LN((Eurostat!P75^pomocniczo_do_innych_kalibracji!L55*Eurostat!R75^pomocniczo_do_innych_kalibracji!N55*Eurostat!T75^pomocniczo_do_innych_kalibracji!P55*Eurostat!V75^pomocniczo_do_innych_kalibracji!R55*Eurostat!X75^pomocniczo_do_innych_kalibracji!T55*Eurostat!Z75^pomocniczo_do_innych_kalibracji!V55*Eurostat!AB75^pomocniczo_do_innych_kalibracji!X55*Eurostat!AD75^pomocniczo_do_innych_kalibracji!Z55)^(1/(pomocniczo_do_innych_kalibracji!L55+pomocniczo_do_innych_kalibracji!N55+pomocniczo_do_innych_kalibracji!P55+pomocniczo_do_innych_kalibracji!R55+pomocniczo_do_innych_kalibracji!T55+pomocniczo_do_innych_kalibracji!V55+pomocniczo_do_innych_kalibracji!X55+pomocniczo_do_innych_kalibracji!Z55)))","v":4.7104424297780563}]
[{"$f":"dane_do_matlaba!A54","v":"2013Q1"},{"$f":"1-(Eurostat!AI76+Eurostat!AK76)/Eurostat!AG76","v":0.7143673700301123},{"$f":"1-(Eurostat!AH76+Eurostat!AJ76)/Eurostat!AF76","v":0.79059678966637559},{"$f":"Eurostat!C76/SUM(Eurostat!B76:C76)","v":3.9162007623016075E-2},null,{"$f":"Eurostat!AG76/Eurostat!$AG76","v":1},{"$f":"Eurostat!AG76/Eurostat!$AG76","v":1},{"$f":"Eurostat!AI76/Eurostat!$AG76","v":3.8885413023394509E-2},{"$f":"Eurostat!AI76/Eurostat!$AG76","v":3.8885413023394509E-2},{"$f":"Eurostat!AK76/Eurostat!$AG76","v":0.24674721694649318},{"$f":"Eurostat!AK76/Eurostat!$AG76","v":0.24674721694649318},{"$f":"Eurostat!AO76/Eurostat!$AG76","v":6.6857661217841077E-2},{"$f":"Eurostat!AO76/Eurostat!$AG76","v":6.6857661217841077E-2},{"$f":"Eurostat!AQ76/Eurostat!$AG76","v":0.26864126792141541},{"$f":"Eurostat!AQ76/Eurostat!$AG76","v":0.26864126792141541},{"$f":"Eurostat!AS76/Eurostat!$AG76","v":3.6383068555989224E-2},{"$f":"Eurostat!AS76/Eurostat!$AG76","v":3.6383068555989224E-2},{"$f":"Eurostat!AU76/Eurostat!$AG76","v":4.140838044330987E-2},{"$f":"Eurostat!AU76/Eurostat!$AG76","v":4.140838044330987E-2},{"$f":"Eurostat!AW76/Eurostat!$AG76","v":5.8631890051794269E-2},{"$f":"Eurostat!AW76/Eurostat!$AG76","v":5.8631890051794269E-2},{"$f":"Eurostat!AY76/Eurostat!$AG76","v":7.1506186189031651E-2},{"$f":"Eurostat!AY76/Eurostat!$AG76","v":7.1506186189031651E-2},{"$f":"Eurostat!BA76/Eurostat!$AG76","v":0.13849929004092543},{"$f":"Eurostat!BA76/Eurostat!$AG76","v":0.13849929004092543},{"$f":"Eurostat!BC76/Eurostat!$AG76","v":3.046762544816602E-2},{"$f":"Eurostat!BC76/Eurostat!$AG76","v":3.046762544816602E-2},null,{"$f":"LN((Eurostat!K76^pomocniczo_do_innych_kalibracji!I56*Eurostat!M76^pomocniczo_do_innych_kalibracji!K56)^(1/(pomocniczo_do_innych_kalibracji!I56+pomocniczo_do_innych_kalibracji!K56)))","v":4.734598383218267},{"$f":"LN((Eurostat!Q76^pomocniczo_do_innych_kalibracji!M56*Eurostat!S76^pomocniczo_do_innych_kalibracji!O56*Eurostat!U76^pomocniczo_do_innych_kalibracji!Q56*Eurostat!W76^pomocniczo_do_innych_kalibracji!S56*Eurostat!Y76^pomocniczo_do_innych_kalibracji!U56*Eurostat!AA76^pomocniczo_do_innych_kalibracji!W56*Eurostat!AC76^pomocniczo_do_innych_kalibracji!Y56*Eurostat!AE76^pomocniczo_do_innych_kalibracji!AA56)^(1/(pomocniczo_do_innych_kalibracji!M56+pomocniczo_do_innych_kalibracji!O56+pomocniczo_do_innych_kalibracji!Q56+pomocniczo_do_innych_kalibracji!S56+pomocniczo_do_innych_kalibracji!U56+pomocniczo_do_innych_kalibracji!W56+pomocniczo_do_innych_kalibracji!Y56+pomocniczo_do_innych_kalibracji!AA56)))","v":4.8598539494624662},{"$f":"LN((Eurostat!J76^pomocniczo_do_innych_kalibracji!H56*Eurostat!L76^pomocniczo_do_innych_kalibracji!J56)^(1/(pomocniczo_do_innych_kalibracji!H56+pomocniczo_do_innych_kalibracji!J56)))","v":4.6955480282691333},{"$f":"LN((Eurostat!P76^pomocniczo_do_innych_kalibracji!L56*Eurostat!R76^pomocniczo_do_innych_kalibracji!N56*Eurostat!T76^pomocniczo_do_innych_kalibracji!P56*Eurostat!V76^pomocniczo_do_innych_kalibracji!R56*Eurostat!X76^pomocniczo_do_innych_kalibracji!T56*Eurostat!Z76^pomocniczo_do_innych_kalibracji!V56*Eurostat!AB76^pomocniczo_do_innych_kalibracji!X56*Eurostat!AD76^pomocniczo_do_innych_kalibracji!Z56)^(1/(pomocniczo_do_innych_kalibracji!L56+pomocniczo_do_innych_kalibracji!N56+pomocniczo_do_innych_kalibracji!P56+pomocniczo_do_innych_kalibracji!R56+pomocniczo_do_innych_kalibracji!T56+pomocniczo_do_innych_kalibracji!V56+pomocniczo_do_innych_kalibracji!X56+pomocniczo_do_innych_kalibracji!Z56)))","v":4.7163685786705907}]
[{"$f":"dane_do_matlaba!A55","v":"2013Q2"},{"$f":"1-(Eurostat!AI77+Eurostat!AK77)/Eurostat!AG77","v":0.71290976568991304},{"$f":"1-(Eurostat!AH77+Eurostat!AJ77)/Eurostat!AF77","v":0.79004852490661159},{"$f":"Eurostat!C77/SUM(Eurostat!B77:C77)","v":3.8875790573996732E-2},null,{"$f":"Eurostat!AG77/Eurostat!$AG77","v":1},{"$f":"Eurostat!AG77/Eurostat!$AG77","v":1},{"$f":"Eurostat!AI77/Eurostat!$AG77","v":3.9141139976735163E-2},{"$f":"Eurostat!AI77/Eurostat!$AG77","v":3.9141139976735163E-2},{"$f":"Eurostat!AK77/Eurostat!$AG77","v":0.2479490943333518},{"$f":"Eurostat!AK77/Eurostat!$AG77","v":0.2479490943333518},{"$f":"Eurostat!AO77/Eurostat!$AG77","v":6.3999058328255698E-2},{"$f":"Eurostat!AO77/Eurostat!$AG77","v":6.3999058328255698E-2},{"$f":"Eurostat!AQ77/Eurostat!$AG77","v":0.27145183625990138},{"$f":"Eurostat!AQ77/Eurostat!$AG77","v":0.27145183625990138},{"$f":"Eurostat!AS77/Eurostat!$AG77","v":3.5518750346202846E-2},{"$f":"Eurostat!AS77/Eurostat!$AG77","v":3.5518750346202846E-2},{"$f":"Eurostat!AU77/Eurostat!$AG77","v":4.0689913033844789E-2},{"$f":"Eurostat!AU77/Eurostat!$AG77","v":4.0689913033844789E-2},{"$f":"Eurostat!AW77/Eurostat!$AG77","v":5.8678889935190826E-2},{"$f":"Eurostat!AW77/Eurostat!$AG77","v":5.8678889935190826E-2},{"$f":"Eurostat!AY77/Eurostat!$AG77","v":7.2533373954467406E-2},{"$f":"Eurostat!AY77/Eurostat!$AG77","v":7.2533373954467406E-2},{"$f":"Eurostat!BA77/Eurostat!$AG77","v":0.13862626710242065},{"$f":"Eurostat!BA77/Eurostat!$AG77","v":0.13862626710242065},{"$f":"Eurostat!BC77/Eurostat!$AG77","v":3.0666925164792556E-2},{"$f":"Eurostat!BC77/Eurostat!$AG77","v":3.0666925164792556E-2},null,{"$f":"LN((Eurostat!K77^pomocniczo_do_innych_kalibracji!I57*Eurostat!M77^pomocniczo_do_innych_kalibracji!K57)^(1/(pomocniczo_do_innych_kalibracji!I57+pomocniczo_do_innych_kalibracji!K57)))","v":4.717459937338992},{"$f":"LN((Eurostat!Q77^pomocniczo_do_innych_kalibracji!M57*Eurostat!S77^pomocniczo_do_innych_kalibracji!O57*Eurostat!U77^pomocniczo_do_innych_kalibracji!Q57*Eurostat!W77^pomocniczo_do_innych_kalibracji!S57*Eurostat!Y77^pomocniczo_do_innych_kalibracji!U57*Eurostat!AA77^pomocniczo_do_innych_kalibracji!W57*Eurostat!AC77^pomocniczo_do_innych_kalibracji!Y57*Eurostat!AE77^pomocniczo_do_innych_kalibracji!AA57)^(1/(pomocniczo_do_innych_kalibracji!M57+pomocniczo_do_innych_kalibracji!O57+pomocniczo_do_innych_kalibracji!Q57+pomocniczo_do_innych_kalibracji!S57+pomocniczo_do_innych_kalibracji!U57+pomocniczo_do_innych_kalibracji!W57+pomocniczo_do_innych_kalibracji!Y57+pomocniczo_do_innych_kalibracji!AA57)))","v":4.8599752458859848},{"$f":"LN((Eurostat!J77^pomocniczo_do_innych_kalibracji!H57*Eurostat!L77^pomocniczo_do_innych_kalibracji!J57)^(1/(pomocniczo_do_innych_kalibracji!H57+pomocniczo_do_innych_kalibracji!J57)))","v":4.6984066559702065},{"$f":"LN((Eurostat!P77^pomocniczo_do_innych_kalibracji!L57*Eurostat!R77^pomocniczo_do_innych_kalibracji!N57*Eurostat!T77^pomocniczo_do_innych_kalibracji!P57*Eurostat!V77^pomocniczo_do_innych_kalibracji!R57*Eurostat!X77^pomocniczo_do_innych_kalibracji!T57*Eurostat!Z77^pomocniczo_do_innych_kalibracji!V57*Eurostat!AB77^pomocniczo_do_innych_kalibracji!X57*Eurostat!AD77^pomocniczo_do_innych_kalibracji!Z57)^(1/(pomocniczo_do_innych_kalibracji!L57+pomocniczo_do_innych_kalibracji!N57+pomocniczo_do_innych_kalibracji!P57+pomocniczo_do_innych_kalibracji!R57+pomocniczo_do_innych_kalibracji!T57+pomocniczo_do_innych_kalibracji!V57+pomocniczo_do_innych_kalibracji!X57+pomocniczo_do_innych_kalibracji!Z57)))","v":4.7178237850999114}]
[{"$f":"dane_do_matlaba!A56","v":"2013Q3"},{"$f":"1-(Eurostat!AI78+Eurostat!AK78)/Eurostat!AG78","v":0.71551926864197657},{"$f":"1-(Eurostat!AH78+Eurostat!AJ78)/Eurostat!AF78","v":0.79085514965889137},{"$f":"Eurostat!C78/SUM(Eurostat!B78:C78)","v":3.8770595144082064E-2},null,{"$f":"Eurostat!AG78/Eurostat!$AG78","v":1},{"$f":"Eurostat!AG78/Eurostat!$AG78","v":1},{"$f":"Eurostat!AI78/Eurostat!$AG78","v":3.7857864730266998E-2},{"$f":"Eurostat!AI78/Eurostat!$AG78","v":3.7857864730266998E-2},{"$f":"Eurostat!AK78/Eurostat!$AG78","v":0.24662286662775645},{"$f":"Eurostat!AK78/Eurostat!$AG78","v":0.24662286662775645},{"$f":"Eurostat!AO78/Eurostat!$AG78","v":6.5533221981022904E-2},{"$f":"Eurostat!AO78/Eurostat!$AG78","v":6.5533221981022904E-2},{"$f":"Eurostat!AQ78/Eurostat!$AG78","v":0.2740688238501392},{"$f":"Eurostat!AQ78/Eurostat!$AG78","v":0.2740688238501392},{"$f":"Eurostat!AS78/Eurostat!$AG78","v":3.4100478858839128E-2},{"$f":"Eurostat!AS78/Eurostat!$AG78","v":3.4100478858839128E-2},{"$f":"Eurostat!AU78/Eurostat!$AG78","v":4.3684790092113984E-2},{"$f":"Eurostat!AU78/Eurostat!$AG78","v":4.3684790092113984E-2},{"$f":"Eurostat!AW78/Eurostat!$AG78","v":5.8874035511453676E-2},{"$f":"Eurostat!AW78/Eurostat!$AG78","v":5.8874035511453676E-2},{"$f":"Eurostat!AY78/Eurostat!$AG78","v":7.2623219508661352E-2},{"$f":"Eurostat!AY78/Eurostat!$AG78","v":7.2623219508661352E-2},{"$f":"Eurostat!BA78/Eurostat!$AG78","v":0.13671775207729134},{"$f":"Eurostat!BA78/Eurostat!$AG78","v":0.13671775207729134},{"$f":"Eurostat!BC78/Eurostat!$AG78","v":3.0565358565141237E-2},{"$f":"Eurostat!BC78/Eurostat!$AG78","v":3.0565358565141237E-2},null,{"$f":"LN((Eurostat!K78^pomocniczo_do_innych_kalibracji!I58*Eurostat!M78^pomocniczo_do_innych_kalibracji!K58)^(1/(pomocniczo_do_innych_kalibracji!I58+pomocniczo_do_innych_kalibracji!K58)))","v":4.7102505724220967},{"$f":"LN((Eurostat!Q78^pomocniczo_do_innych_kalibracji!M58*Eurostat!S78^pomocniczo_do_innych_kalibracji!O58*Eurostat!U78^pomocniczo_do_innych_kalibracji!Q58*Eurostat!W78^pomocniczo_do_innych_kalibracji!S58*Eurostat!Y78^pomocniczo_do_innych_kalibracji!U58*Eurostat!AA78^pomocniczo_do_innych_kalibracji!W58*Eurostat!AC78^pomocniczo_do_innych_kalibracji!Y58*Eurostat!AE78^pomocniczo_do_innych_kalibracji!AA58)^(1/(pomocniczo_do_innych_kalibracji!M58+pomocniczo_do_innych_kalibracji!O58+pomocniczo_do_innych_kalibracji!Q58+pomocniczo_do_innych_kalibracji!S58+pomocniczo_do_innych_kalibracji!U58+pomocniczo_do_innych_kalibracji!W58+pomocniczo_do_innych_kalibracji!Y58+pomocniczo_do_innych_kalibracji!AA58)))","v":4.8677377917054496},{"$f":"LN((Eurostat!J78^pomocniczo_do_innych_kalibracji!H58*Eurostat!L78^pomocniczo_do_innych_kalibracji!J58)^(1/(pomocniczo_do_innych_kalibracji!H58+pomocniczo_do_innych_kalibracji!J58)))","v":4.6959910900597075},{"$f":"LN((Eurostat!P78^pomocniczo_do_innych_kalibracji!L58*Eurostat!R78^pomocniczo_do_innych_kalibracji!N58*Eurostat!T78^pomocniczo_do_innych_kalibracji!P58*Eurostat!V78^pomocniczo_do_innych_kalibracji!R58*Eurostat!X78^pomocniczo_do_innych_kalibracji!T58*Eurostat!Z78^pomocniczo_do_innych_kalibracji!V58*Eurostat!AB78^pomocniczo_do_innych_kalibracji!X58*Eurostat!AD78^pomocniczo_do_innych_kalibracji!Z58)^(1/(pomocniczo_do_innych_kalibracji!L58+pomocniczo_do_innych_kalibracji!N58+pomocniczo_do_innych_kalibracji!P58+pomocniczo_do_innych_kalibracji!R58+pomocniczo_do_innych_kalibracji!T58+pomocniczo_do_innych_kalibracji!V58+pomocniczo_do_innych_kalibracji!X58+pomocniczo_do_innych_kalibracji!Z58)))","v":4.7208888405070821}]
[{"$f":"dane_do_matlaba!A57","v":"2013Q4"},{"$f":"1-(Eurostat!AI79+Eurostat!AK79)/Eurostat!AG79","v":0.71480724259385164},{"$f":"1-(Eurostat!AH79+Eurostat!AJ79)/Eurostat!AF79","v":0.78982129924941624},{"$f":"Eurostat!C79/SUM(Eurostat!B79:C79)","v":3.9534300683761701E-2},null,{"$f":"Eurostat!AG79/Eurostat!$AG79","v":1},{"$f":"Eurostat!AG79/Eurostat!$AG79","v":1},{"$f":"Eurostat!AI79/Eurostat!$AG79","v":3.7886013437612602E-2},{"$f":"Eurostat!AI79/Eurostat!$AG79","v":3.7886013437612602E-2},{"$f":"Eurostat!AK79/Eurostat!$AG79","v":0.2473067439685358},{"$f":"Eurostat!AK79/Eurostat!$AG79","v":0.2473067439685358},{"$f":"Eurostat!AO79/Eurostat!$AG79","v":6.5079163222483638E-2},{"$f":"Eurostat!AO79/Eurostat!$AG79","v":6.5079163222483638E-2},{"$f":"Eurostat!AQ79/Eurostat!$AG79","v":0.27604658328890541},{"$f":"Eurostat!AQ79/Eurostat!$AG79","v":0.27604658328890541},{"$f":"Eurostat!AS79/Eurostat!$AG79","v":3.3748374372778264E-2},{"$f":"Eurostat!AS79/Eurostat!$AG79","v":3.3748374372778264E-2},{"$f":"Eurostat!AU79/Eurostat!$AG79","v":4.4609167423435882E-2},{"$f":"Eurostat!AU79/Eurostat!$AG79","v":4.4609167423435882E-2},{"$f":"Eurostat!AW79/Eurostat!$AG79","v":5.8835885153682571E-2},{"$f":"Eurostat!AW79/Eurostat!$AG79","v":5.8835885153682571E-2},{"$f":"Eurostat!AY79/Eurostat!$AG79","v":7.2473219608719067E-2},{"$f":"Eurostat!AY79/Eurostat!$AG79","v":7.2473219608719067E-2},{"$f":"Eurostat!BA79/Eurostat!$AG79","v":0.13471823457834778},{"$f":"Eurostat!BA79/Eurostat!$AG79","v":0.13471823457834778},{"$f":"Eurostat!BC79/Eurostat!$AG79","v":3.0533531805230163E-2},{"$f":"Eurostat!BC79/Eurostat!$AG79","v":3.0533531805230163E-2},null,{"$f":"LN((Eurostat!K79^pomocniczo_do_innych_kalibracji!I59*Eurostat!M79^pomocniczo_do_innych_kalibracji!K59)^(1/(pomocniczo_do_innych_kalibracji!I59+pomocniczo_do_innych_kalibracji!K59)))","v":4.7199552681381132},{"$f":"LN((Eurostat!Q79^pomocniczo_do_innych_kalibracji!M59*Eurostat!S79^pomocniczo_do_innych_kalibracji!O59*Eurostat!U79^pomocniczo_do_innych_kalibracji!Q59*Eurostat!W79^pomocniczo_do_innych_kalibracji!S59*Eurostat!Y79^pomocniczo_do_innych_kalibracji!U59*Eurostat!AA79^pomocniczo_do_innych_kalibracji!W59*Eurostat!AC79^pomocniczo_do_innych_kalibracji!Y59*Eurostat!AE79^pomocniczo_do_innych_kalibracji!AA59)^(1/(pomocniczo_do_innych_kalibracji!M59+pomocniczo_do_innych_kalibracji!O59+pomocniczo_do_innych_kalibracji!Q59+pomocniczo_do_innych_kalibracji!S59+pomocniczo_do_innych_kalibracji!U59+pomocniczo_do_innych_kalibracji!W59+pomocniczo_do_innych_kalibracji!Y59+pomocniczo_do_innych_kalibracji!AA59)))","v":4.8674507577639137},{"$f":"LN((Eurostat!J79^pomocniczo_do_innych_kalibracji!H59*Eurostat!L79^pomocniczo_do_innych_kalibracji!J59)^(1/(pomocniczo_do_innych_kalibracji!H59+pomocniczo_do_innych_kalibracji!J59)))","v":4.6985105368021447},{"$f":"LN((Eurostat!P79^pomocniczo_do_innych_kalibracji!L59*Eurostat!R79^pomocniczo_do_innych_kalibracji!N59*Eurostat!T79^pomocniczo_do_innych_kalibracji!P59*Eurostat!V79^pomocniczo_do_innych_kalibracji!R59*Eurostat!X79^pomocniczo_do_innych_kalibracji!T59*Eurostat!Z79^pomocniczo_do_innych_kalibracji!V59*Eurostat!AB79^pomocniczo_do_innych_kalibracji!X59*Eurostat!AD79^pomocniczo_do_innych_kalibracji!Z59)^(1/(pomocniczo_do_innych_kalibracji!L59+pomocniczo_do_innych_kalibracji!N59+pomocniczo_do_innych_kalibracji!P59+pomocniczo_do_innych_kalibracji!R59+pomocniczo_do_innych_kalibracji!T59+pomocniczo_do_innych_kalibracji!V59+pomocniczo_do_innych_kalibracji!X59+pomocniczo_do_innych_kalibracji!Z59)))","v":4.7214038465246997}]
[{"$f":"dane_do_matlaba!A58","v":"2014Q1"},{"$f":"1-(Eurostat!AI80+Eurostat!AK80)/Eurostat!AG80","v":0.71303127778783115},{"$f":"1-(Eurostat!AH80+Eurostat!AJ80)/Eurostat!AF80","v":0.79143479234873904},{"$f":"Eurostat!C80/SUM(Eurostat!B80:C80)","v":3.9855827661197857E-2},null,{"$f":"Eurostat!AG80/Eurostat!$AG80","v":1},{"$f":"Eurostat!AG80/Eurostat!$AG80","v":1},{"$f":"Eurostat!AI80/Eurostat!$AG80","v":3.8138718466567481E-2},{"$f":"Eurostat!AI80/Eurostat!$AG80","v":3.8138718466567481E-2},{"$f":"Eurostat!AK80/Eurostat!$AG80","v":0.24883000374560132},{"$f":"Eurostat!AK80/Eurostat!$AG80","v":0.24883000374560132},{"$f":"Eurostat!AO80/Eurostat!$AG80","v":6.6394212037604441E-2},{"$f":"Eurostat!AO80/Eurostat!$AG80","v":6.6394212037604441E-2},{"$f":"Eurostat!AQ80/Eurostat!$AG80","v":0.27751302826624902},{"$f":"Eurostat!AQ80/Eurostat!$AG80","v":0.27751302826624902},{"$f":"Eurostat!AS80/Eurostat!$AG80","v":3.1552052968664666E-2},{"$f":"Eurostat!AS80/Eurostat!$AG80","v":3.1552052968664666E-2},{"$f":"Eurostat!AU80/Eurostat!$AG80","v":4.5333607239954297E-2},{"$f":"Eurostat!AU80/Eurostat!$AG80","v":4.5333607239954297E-2},{"$f":"Eurostat!AW80/Eurostat!$AG80","v":5.8578193394028387E-2},{"$f":"Eurostat!AW80/Eurostat!$AG80","v":5.8578193394028387E-2},{"$f":"Eurostat!AY80/Eurostat!$AG80","v":7.2712796807984009E-2},{"$f":"Eurostat!AY80/Eurostat!$AG80","v":7.2712796807984009E-2},{"$f":"Eurostat!BA80/Eurostat!$AG80","v":0.13220520732696625},{"$f":"Eurostat!BA80/Eurostat!$AG80","v":0.13220520732696625},{"$f":"Eurostat!BC80/Eurostat!$AG80","v":3.0566580685442352E-2},{"$f":"Eurostat!BC80/Eurostat!$AG80","v":3.0566580685442352E-2},null,{"$f":"LN((Eurostat!K80^pomocniczo_do_innych_kalibracji!I60*Eurostat!M80^pomocniczo_do_innych_kalibracji!K60)^(1/(pomocniczo_do_innych_kalibracji!I60+pomocniczo_do_innych_kalibracji!K60)))","v":4.7174097797057772},{"$f":"LN((Eurostat!Q80^pomocniczo_do_innych_kalibracji!M60*Eurostat!S80^pomocniczo_do_innych_kalibracji!O60*Eurostat!U80^pomocniczo_do_innych_kalibracji!Q60*Eurostat!W80^pomocniczo_do_innych_kalibracji!S60*Eurostat!Y80^pomocniczo_do_innych_kalibracji!U60*Eurostat!AA80^pomocniczo_do_innych_kalibracji!W60*Eurostat!AC80^pomocniczo_do_innych_kalibracji!Y60*Eurostat!AE80^pomocniczo_do_innych_kalibracji!AA60)^(1/(pomocniczo_do_innych_kalibracji!M60+pomocniczo_do_innych_kalibracji!O60+pomocniczo_do_innych_kalibracji!Q60+pomocniczo_do_innych_kalibracji!S60+pomocniczo_do_innych_kalibracji!U60+pomocniczo_do_innych_kalibracji!W60+pomocniczo_do_innych_kalibracji!Y60+pomocniczo_do_innych_kalibracji!AA60)))","v":4.8714090724037913},{"$f":"LN((Eurostat!J80^pomocniczo_do_innych_kalibracji!H60*Eurostat!L80^pomocniczo_do_innych_kalibracji!J60)^(1/(pomocniczo_do_innych_kalibracji!H60+pomocniczo_do_innych_kalibracji!J60)))","v":4.696173327832339},{"$f":"LN((Eurostat!P80^pomocniczo_do_innych_kalibracji!L60*Eurostat!R80^pomocniczo_do_innych_kalibracji!N60*Eurostat!T80^pomocniczo_do_innych_kalibracji!P60*Eurostat!V80^pomocniczo_do_innych_kalibracji!R60*Eurostat!X80^pomocniczo_do_innych_kalibracji!T60*Eurostat!Z80^pomocniczo_do_innych_kalibracji!V60*Eurostat!AB80^pomocniczo_do_innych_kalibracji!X60*Eurostat!AD80^pomocniczo_do_innych_kalibracji!Z60)^(1/(pomocniczo_do_innych_kalibracji!L60+pomocniczo_do_innych_kalibracji!N60+pomocniczo_do_innych_kalibracji!P60+pomocniczo_do_innych_kalibracji!R60+pomocniczo_do_innych_kalibracji!T60+pomocniczo_do_innych_kalibracji!V60+pomocniczo_do_innych_kalibracji!X60+pomocniczo_do_innych_kalibracji!Z60)))","v":4.7251495821315661}]
[{"$f":"dane_do_matlaba!A59","v":"2014Q2"},{"$f":"1-(Eurostat!AI81+Eurostat!AK81)/Eurostat!AG81","v":0.71321254724224559},{"$f":"1-(Eurostat!AH81+Eurostat!AJ81)/Eurostat!AF81","v":0.79099136379354962},{"$f":"Eurostat!C81/SUM(Eurostat!B81:C81)","v":4.0262312882880034E-2},null,{"$f":"Eurostat!AG81/Eurostat!$AG81","v":1},{"$f":"Eurostat!AG81/Eurostat!$AG81","v":1},{"$f":"Eurostat!AI81/Eurostat!$AG81","v":3.7392057658701468E-2},{"$f":"Eurostat!AI81/Eurostat!$AG81","v":3.7392057658701468E-2},{"$f":"Eurostat!AK81/Eurostat!$AG81","v":0.24939539509905295},{"$f":"Eurostat!AK81/Eurostat!$AG81","v":0.24939539509905295},{"$f":"Eurostat!AO81/Eurostat!$AG81","v":6.6263738721230009E-2},{"$f":"Eurostat!AO81/Eurostat!$AG81","v":6.6263738721230009E-2},{"$f":"Eurostat!AQ81/Eurostat!$AG81","v":0.27792869975070367},{"$f":"Eurostat!AQ81/Eurostat!$AG81","v":0.27792869975070367},{"$f":"Eurostat!AS81/Eurostat!$AG81","v":3.0666593542574727E-2},{"$f":"Eurostat!AS81/Eurostat!$AG81","v":3.0666593542574727E-2},{"$f":"Eurostat!AU81/Eurostat!$AG81","v":4.5953433442345031E-2},{"$f":"Eurostat!AU81/Eurostat!$AG81","v":4.5953433442345031E-2},{"$f":"Eurostat!AW81/Eurostat!$AG81","v":5.9040427328673976E-2},{"$f":"Eurostat!AW81/Eurostat!$AG81","v":5.9040427328673976E-2},{"$f":"Eurostat!AY81/Eurostat!$AG81","v":7.2675053219075164E-2},{"$f":"Eurostat!AY81/Eurostat!$AG81","v":7.2675053219075164E-2},{"$f":"Eurostat!BA81/Eurostat!$AG81","v":0.13065402755784347},{"$f":"Eurostat!BA81/Eurostat!$AG81","v":0.13065402755784347},{"$f":"Eurostat!BC81/Eurostat!$AG81","v":3.0324756161325944E-2},{"$f":"Eurostat!BC81/Eurostat!$AG81","v":3.0324756161325944E-2},null,{"$f":"LN((Eurostat!K81^pomocniczo_do_innych_kalibracji!I61*Eurostat!M81^pomocniczo_do_innych_kalibracji!K61)^(1/(pomocniczo_do_innych_kalibracji!I61+pomocniczo_do_innych_kalibracji!K61)))","v":4.7284277079270227},{"$f":"LN((Eurostat!Q81^pomocniczo_do_innych_kalibracji!M61*Eurostat!S81^pomocniczo_do_innych_kalibracji!O61*Eurostat!U81^pomocniczo_do_innych_kalibracji!Q61*Eurostat!W81^pomocniczo_do_innych_kalibracji!S61*Eurostat!Y81^pomocniczo_do_innych_kalibracji!U61*Eurostat!AA81^pomocniczo_do_innych_kalibracji!W61*Eurostat!AC81^pomocniczo_do_innych_kalibracji!Y61*Eurostat!AE81^pomocniczo_do_innych_kalibracji!AA61)^(1/(pomocniczo_do_innych_kalibracji!M61+pomocniczo_do_innych_kalibracji!O61+pomocniczo_do_innych_kalibracji!Q61+pomocniczo_do_innych_kalibracji!S61+pomocniczo_do_innych_kalibracji!U61+pomocniczo_do_innych_kalibracji!W61+pomocniczo_do_innych_kalibracji!Y61+pomocniczo_do_innych_kalibracji!AA61)))","v":4.8734245167139276},{"$f":"LN((Eurostat!J81^pomocniczo_do_innych_kalibracji!H61*Eurostat!L81^pomocniczo_do_innych_kalibracji!J61)^(1/(pomocniczo_do_innych_kalibracji!H61+pomocniczo_do_innych_kalibracji!J61)))","v":4.6974866946434446},{"$f":"LN((Eurostat!P81^pomocniczo_do_innych_kalibracji!L61*Eurostat!R81^pomocniczo_do_innych_kalibracji!N61*Eurostat!T81^pomocniczo_do_innych_kalibracji!P61*Eurostat!V81^pomocniczo_do_innych_kalibracji!R61*Eurostat!X81^pomocniczo_do_innych_kalibracji!T61*Eurostat!Z81^pomocniczo_do_innych_kalibracji!V61*Eurostat!AB81^pomocniczo_do_innych_kalibracji!X61*Eurostat!AD81^pomocniczo_do_innych_kalibracji!Z61)^(1/(pomocniczo_do_innych_kalibracji!L61+pomocniczo_do_innych_kalibracji!N61+pomocniczo_do_innych_kalibracji!P61+pomocniczo_do_innych_kalibracji!R61+pomocniczo_do_innych_kalibracji!T61+pomocniczo_do_innych_kalibracji!V61+pomocniczo_do_innych_kalibracji!X61+pomocniczo_do_innych_kalibracji!Z61)))","v":4.7258059736395435}]

{"sheet":"kalibracje","index":3,"n_rows":6,"n_cols":3,"rows_kept":6,"cut":false,"hidden":false,"merged":[]}
[]
[null,"alpha",{"$f":"AVERAGE(pomocniczo_do_kalibracji_alfy!M16:M77)","v":0.19807727074736542}]
[null,"alpha_f",{"$f":"AVERAGE(pomocniczo_do_kalibracji_alfy!N16:N77)","v":5.5857596543908497E-3}]
[null,"kappa",{"$f":"AVERAGE(pomocniczo_do_innych_kalibracji!B4:B61)","v":0.71676471173422818}]
[null,"kappa_f",{"$f":"AVERAGE(pomocniczo_do_innych_kalibracji!C4:C61)","v":0.78021883670220249}]
[null,"w",{"$f":"AVERAGE(pomocniczo_do_innych_kalibracji!D4:D61)","v":3.2507096127322131E-2}]

{"sheet":"dane_do_matlaba","index":4,"n_rows":59,"n_cols":14,"rows_kept":59,"cut":false,"hidden":false,"merged":[]}
[null,"yh","yn","yf","ynf","c","cf","pih","pin","pif","pinf","i","if","de"]
[{"$f":"Eurostat!A24","v":"2000Q1"},{"$f":"LN((Eurostat!BG24^pomocniczo_do_innych_kalibracji!I4*Eurostat!BI24^pomocniczo_do_innych_kalibracji!K4)^(1/(pomocniczo_do_innych_kalibracji!I4+pomocniczo_do_innych_kalibracji!K4)))","v":4.384139239306637},{"$f":"LN((Eurostat!BM24^pomocniczo_do_innych_kalibracji!M4*Eurostat!BO24^pomocniczo_do_innych_kalibracji!O4*Eurostat!BQ24^pomocniczo_do_innych_kalibracji!Q4*Eurostat!BS24^pomocniczo_do_innych_kalibracji!S4*Eurostat!BU24^pomocniczo_do_innych_kalibracji!U4*Eurostat!BW24^pomocniczo_do_innych_kalibracji!W4*Eurostat!BY24^pomocniczo_do_innych_kalibracji!Y4*Eurostat!CA24^pomocniczo_do_innych_kalibracji!AA4)^(1/(pomocniczo_do_innych_kalibracji!M4+pomocniczo_do_innych_kalibracji!O4+pomocniczo_do_innych_kalibracji!Q4+pomocniczo_do_innych_kalibracji!S4+pomocniczo_do_innych_kalibracji!U4+pomocniczo_do_innych_kalibracji!W4+pomocniczo_do_innych_kalibracji!Y4+pomocniczo_do_innych_kalibracji!AA4)))","v":4.4750965088064856},{"$f":"LN((Eurostat!BF24^pomocniczo_do_innych_kalibracji!H4*Eurostat!BH24^pomocniczo_do_innych_kalibracji!J4)^(1/(pomocniczo_do_innych_kalibracji!H4+pomocniczo_do_innych_kalibracji!J4)))","v":4.5649063412131108},{"$f":"LN((Eurostat!BL24^pomocniczo_do_innych_kalibracji!L4*Eurostat!BN24^pomocniczo_do_innych_kalibracji!N4*Eurostat!BP24^pomocniczo_do_innych_kalibracji!P4*Eurostat!BR24^pomocniczo_do_innych_kalibracji!R4*Eurostat!BT24^pomocniczo_do_innych_kalibracji!T4*Eurostat!BV24^pomocniczo_do_innych_kalibracji!V4*Eurostat!BX24^pomocniczo_do_innych_kalibracji!X4*Eurostat!BZ24^pomocniczo_do_innych_kalibracji!Z4)^(1/(pomocniczo_do_innych_kalibracji!L4+pomocniczo_do_innych_kalibracji!N4+pomocniczo_do_innych_kalibracji!P4+pomocniczo_do_innych_kalibracji!R4+pomocniczo_do_innych_kalibracji!T4+pomocniczo_do_innych_kalibracji!V4+pomocniczo_do_innych_kalibracji!X4+pomocniczo_do_innych_kalibracji!Z4)))","v":4.5138600189347615},{"$f":"LN(Eurostat!E24)","v":4.4508528256037341},{"$f":"LN(Eurostat!D24)","v":4.5207010293616419},null,null,null,null,{"$f":"Eurostat!CC24/100","v":0.1782},{"$f":"Eurostat!CB24/100","v":3.5400000000000001E-2}]
[{"$f":"Eurostat!A25","v":"2000Q2"},{"$f":"LN((Eurostat!BG25^pomocniczo_do_innych_kalibracji!I5*Eurostat!BI25^pomocniczo_do_innych_kalibracji!K5)^(1/(pomocniczo_do_innych_kalibracji!I5+pomocniczo_do_innych_kalibracji!K5)))","v":4.4018040392973159},{"$f":"LN((Eurostat!BM25^pomocniczo_do_innych_kalibracji!M5*Eurostat!BO25^pomocniczo_do_innych_kalibracji!O5*Eurostat!BQ25^pomocniczo_do_innych_kalibracji!Q5*Eurostat!BS25^pomocniczo_do_innych_kalibracji!S5*Eurostat!BU25^pomocniczo_do_innych_kalibracji!U5*Eurostat!BW25^pomocniczo_do_innych_kalibracji!W5*Eurostat!BY25^pomocniczo_do_innych_kalibracji!Y5*Eurostat!CA25^pomocniczo_do_innych_kalibracji!AA5)^(1/(pomocniczo_do_innych_kalibracji!M5+pomocniczo_do_innych_kalibracji!O5+pomocniczo_do_innych_kalibracji!Q5+pomocniczo_do_innych_kalibracji!S5+pomocniczo_do_innych_kalibracji!U5+pomocniczo_do_innych_kalibracji!W5+pomocniczo_do_innych_kalibracji!Y5+pomocniczo_do_innych_kalibracji!AA5)))","v":4.4957418139554202},{"$f":"LN((Eurostat!BF25^pomocniczo_do_innych_kalibracji!H5*Eurostat!BH25^pomocniczo_do_innych_kalibracji!J5)^(1/(pomocniczo_do_innych_kalibracji!H5+pomocniczo_do_innych_kalibracji!J5)))","v":4.5562445343355558},{"$f":"LN((Eurostat!BL25^pomocniczo_do_innych_kalibracji!L5*Eurostat!BN25^pomocniczo_do_innych_kalibracji!N5*Eurostat!BP25^pomocniczo_do_innych_kalibracji!P5*Eurostat!BR25^pomocniczo_do_innych_kalibracji!R5*Eurostat!BT25^pomocniczo_do_innych_kalibracji!T5*Eurostat!BV25^pomocniczo_do_innych_kalibracji!V5*Eurostat!BX25^pomocniczo_do_innych_kalibracji!X5*Eurostat!BZ25^pomocniczo_do_innych_kalibracji!Z5)^(1/(pomocniczo_do_innych_kalibracji!L5+pomocniczo_do_innych_kalibracji!N5+pomocniczo_do_innych_kalibracji!P5+pomocniczo_do_innych_kalibracji!R5+pomocniczo_do_innych_kalibracji!T5+pomocniczo_do_innych_kalibracji!V5+pomocniczo_do_innych_kalibracji!X5+pomocniczo_do_innych_kalibracji!Z5)))","v":4.5210406245171928},{"$f":"LN(Eurostat!E25)","v":4.4520190064939165},{"$f":"LN(Eurostat!D25)","v":4.5272086445183799},{"$f":"pomocniczo_do_innych_kalibracji!AC5-pomocniczo_do_innych_kalibracji!AC4","v":8.5908259807867537E-3},{"$f":"pomocniczo_do_innych_kalibracji!AD5-pomocniczo_do_innych_kalibracji!AD4","v":2.2349187169741214E-3},{"$f":"pomocniczo_do_innych_kalibracji!AE5-pomocniczo_do_innych_kalibracji!AE4","v":2.5947022053717461E-2},{"$f":"pomocniczo_do_innych_kalibracji!AF5-pomocniczo_do_innych_kalibracji!AF4","v":4.1452958633714232E-3},{"$f":"Eurostat!CC25/100","v":0.18489999999999998},{"$f":"Eurostat!CB25/100","v":4.2599999999999999E-2},{"$f":"LN(1/Eurostat!CD25)-LN(1/Eurostat!CD24)","v":-7.6837534818585684E-3}]
[{"$f":"Eurostat!A26","v":"2000Q3"},{"$f":"LN((Eurostat!BG26^pomocniczo_do_innych_kalibracji!I6*Eurostat!BI26^pomocniczo_do_innych_kalibracji!K6)^(1/(pomocniczo_do_innych_kalibracji!I6+pomocniczo_do_innych_kalibracji!K6)))","v":4.3961270197909634},{"$f":"LN((Eurostat!BM26^pomocniczo_do_innych_kalibracji!M6*Eurostat!BO26^pomocniczo_do_innych_kalibracji!O6*Eurostat!BQ26^pomocniczo_do_innych_kalibracji!Q6*Eurostat!BS26^pomocniczo_do_innych_kalibracji!S6*Eurostat!BU26^pomocniczo_do_innych_kalibracji!U6*Eurostat!BW26^pomocniczo_do_innych_kalibracji!W6*Eurostat!BY26^pomocniczo_do_innych_kalibracji!Y6*Eurostat!CA26^pomocniczo_do_innych_kalibracji!AA6)^(1/(pomocniczo_do_innych_kalibracji!M6+pomocniczo_do_innych_kalibracji!O6+pomocniczo_do_innych_kalibracji!Q6+pomocniczo_do_innych_kalibracji!S6+pomocniczo_do_innych_kalibracji!U6+pomocniczo_do_innych_kalibracji!W6+pomocniczo_do_innych_kalibracji!Y6+pomocniczo_do_innych_kalibracji!AA6)))","v":4.4888941692140341},{"$f":"LN((Eurostat!BF26^pomocniczo_do_innych_kalibracji!H6*Eurostat!BH26^pomocniczo_do_innych_kalibracji!J6)^(1/(pomocniczo_do_innych_kalibracji!H6+pomocniczo_do_innych_kalibracji!J6)))","v":4.5606651955274939},{"$f":"LN((Eurostat!BL26^pomocniczo_do_innych_kalibracji!L6*Eurostat!BN26^pomocniczo_do_innych_kalibracji!N6*Eurostat!BP26^pomocniczo_do_innych_kalibracji!P6*Eurostat!BR26^pomocniczo_do_innych_kalibracji!R6*Eurostat!BT26^pomocniczo_do_innych_kalibracji!T6*Eurostat!BV26^pomocniczo_do_innych_kalibracji!V6*Eurostat!BX26^pomocniczo_do_innych_kalibracji!X6*Eurostat!BZ26^pomocniczo_do_innych_kalibracji!Z6)^(1/(pomocniczo_do_innych_kalibracji!L6+pomocniczo_do_innych_kalibracji!N6+pomocniczo_do_innych_kalibracji!P6+pomocniczo_do_innych_kalibracji!R6+pomocniczo_do_innych_kalibracji!T6+pomocniczo_do_innych_kalibracji!V6+pomocniczo_do_innych_kalibracji!X6+pomocniczo_do_innych_kalibracji!Z6)))","v":4.5264548615713567},{"$f":"LN(Eurostat!E26)","v":4.4578295980893818},{"$f":"LN(Eurostat!D26)","v":4.5304466397921548},{"$f":"pomocniczo_do_innych_kalibracji!AC6-pomocniczo_do_innych_kalibracji!AC5","v":2.2882177733165143E-2},{"$f":"pomocniczo_do_innych_kalibracji!AD6-pomocniczo_do_innych_kalibracji!AD5","v":3.0313342945109234E-2},{"$f":"pomocniczo_do_innych_kalibracji!AE6-pomocniczo_do_innych_kalibracji!AE5","v":1.3572358444472243E-2},{"$f":"pomocniczo_do_innych_kalibracji!AF6-pomocniczo_do_innych_kalibracji!AF5","v":6.0123457763774368E-3},{"$f":"Eurostat!CC26/100","v":0.19059999999999999},{"$f":"Eurostat!CB26/100","v":4.7400000000000005E-2},{"$f":"LN(1/Eurostat!CD26)-LN(1/Eurostat!CD25)","v":2.9381766167292156E-2}]
[{"$f":"Eurostat!A27","v":"2000Q4"},{"$f":"LN((Eurostat!BG27^pomocniczo_do_innych_kalibracji!I7*Eurostat!BI27^pomocniczo_do_innych_kalibracji!K7)^(1/(pomocniczo_do_innych_kalibracji!I7+pomocniczo_do_innych_kalibracji!K7)))","v":4.4065746295580297},{"$f":"LN((Eurostat!BM27^pomocniczo_do_innych_kalibracji!M7*Eurostat!BO27^pomocniczo_do_innych_kalibracji!O7*Eurostat!BQ27^pomocniczo_do_innych_kalibracji!Q7*Eurostat!BS27^pomocniczo_do_innych_kalibracji!S7*Eurostat!BU27^pomocniczo_do_innych_kalibracji!U7*Eurostat!BW27^pomocniczo_do_innych_kalibracji!W7*Eurostat!BY27^pomocniczo_do_innych_kalibracji!Y7*Eurostat!CA27^pomocniczo_do_innych_kalibracji!AA7)^(1/(pomocniczo_do_innych_kalibracji!M7+pomocniczo_do_innych_kalibracji!O7+pomocniczo_do_innych_kalibracji!Q7+pomocniczo_do_innych_kalibracji!S7+pomocniczo_do_innych_kalibracji!U7+pomocniczo_do_innych_kalibracji!W7+pomocniczo_do_innych_kalibracji!Y7+pomocniczo_do_innych_kalibracji!AA7)))","v":4.4985391408747359},{"$f":"LN((Eurostat!BF27^pomocniczo_do_innych_kalibracji!H7*Eurostat!BH27^pomocniczo_do_innych_kalibracji!J7)^(1/(pomocniczo_do_innych_kalibracji!H7+pomocniczo_do_innych_kalibracji!J7)))","v":4.5579491821850135},{"$f":"LN((Eurostat!BL27^pomocniczo_do_innych_kalibracji!L7*Eurostat!BN27^pomocniczo_do_innych_kalibracji!N7*Eurostat!BP27^pomocniczo_do_innych_kalibracji!P7*Eurostat!BR27^pomocniczo_do_innych_kalibracji!R7*Eurostat!BT27^pomocniczo_do_innych_kalibracji!T7*Eurostat!BV27^pomocniczo_do_innych_kalibracji!V7*Eurostat!BX27^pomocniczo_do_innych_kalibracji!X7*Eurostat!BZ27^pomocniczo_do_innych_kalibracji!Z7)^(1/(pomocniczo_do_innych_kalibracji!L7+pomocniczo_do_innych_kalibracji!N7+pomocniczo_do_innych_kalibracji!P7+pomocniczo_do_innych_kalibracji!R7+pomocniczo_do_innych_kalibracji!T7+pomocniczo_do_innych_kalibracji!V7+pomocniczo_do_innych_kalibracji!X7+pomocniczo_do_innych_kalibracji!Z7)))","v":4.5333165115680512},{"$f":"LN(Eurostat!E27)","v":4.4647580322713463},{"$f":"LN(Eurostat!D27)","v":4.5336741842830213},{"$f":"pomocniczo_do_innych_kalibracji!AC7-pomocniczo_do_innych_kalibracji!AC6","v":1.7681420557684291E-2},{"$f":"pomocniczo_do_innych_kalibracji!AD7-pomocniczo_do_innych_kalibracji!AD6","v":1.2984509193060489E-2},{"$f":"pomocniczo_do_innych_kalibracji!AE7-pomocniczo_do_innych_kalibracji!AE6","v":1.5074175988638139E-2},{"$f":"pomocniczo_do_innych_kalibracji!AF7-pomocniczo_do_innych_kalibracji!AF6","v":5.3092816093105455E-3},{"$f":"Eurostat!CC27/100","v":0.19699999999999998},{"$f":"Eurostat!CB27/100","v":5.0199999999999995E-2},{"$f":"LN(1/Eurostat!CD27)-LN(1/Eurostat!CD26)","v":1.3973472784242658E-2}]
[{"$f":"Eurostat!A28","v":"2001Q1"},{"$f":"LN((Eurostat!BG28^pomocniczo_do_innych_kalibracji!I8*Eurostat!BI28^pomocniczo_do_innych_kalibracji!K8)^(1/(pomocniczo_do_innych_kalibracji!I8+pomocniczo_do_innych_kalibracji!K8)))","v":4.4055004039061103},{"$f":"LN((Eurostat!BM28^pomocniczo_do_innych_kalibracji!M8*Eurostat!BO28^pomocniczo_do_innych_kalibracji!O8*Eurostat!BQ28^pomocniczo_do_innych_kalibracji!Q8*Eurostat!BS28^pomocniczo_do_innych_kalibracji!S8*Eurostat!BU28^pomocniczo_do_innych_kalibracji!U8*Eurostat!BW28^pomocniczo_do_innych_kalibracji!W8*Eurostat!BY28^pomocniczo_do_innych_kalibracji!Y8*Eurostat!CA28^pomocniczo_do_innych_kalibracji!AA8)^(1/(pomocniczo_do_innych_kalibracji!M8+pomocniczo_do_innych_kalibracji!O8+pomocniczo_do_innych_kalibracji!Q8+pomocniczo_do_innych_kalibracji!S8+pomocniczo_do_innych_kalibracji!U8+pomocniczo_do_innych_kalibracji!W8+pomocniczo_do_innych_kalibracji!Y8+pomocniczo_do_innych_kalibracji!AA8)))","v":4.501903865319524},{"$f":"LN((Eurostat!BF28^pomocniczo_do_innych_kalibracji!H8*Eurostat!BH28^pomocniczo_do_innych_kalibracji!J8)^(1/(pomocniczo_do_innych_kalibracji!H8+pomocniczo_do_innych_kalibracji!J8)))","v":4.5723888339643413},{"$f":"LN((Eurostat!BL28^pomocniczo_do_innych_kalibracji!L8*Eurostat!BN28^pomocniczo_do_innych_kalibracji!N8*Eurostat!BP28^pomocniczo_do_innych_kalibracji!P8*Eurostat!BR28^pomocniczo_do_innych_kalibracji!R8*Eurostat!BT28^pomocniczo_do_innych_kalibracji!T8*Eurostat!BV28^pomocniczo_do_innych_kalibracji!V8*Eurostat!BX28^pomocniczo_do_innych_kalibracji!X8*Eurostat!BZ28^pomocniczo_do_innych_kalibracji!Z8)^(1/(pomocniczo_do_innych_kalibracji!L8+pomocniczo_do_innych_kalibracji!N8+pomocniczo_do_innych_kalibracji!P8+pomocniczo_do_innych_kalibracji!R8+pomocniczo_do_innych_kalibracji!T8+pomocniczo_do_innych_kalibracji!V8+pomocniczo_do_innych_kalibracji!X8+pomocniczo_do_innych_kalibracji!Z8)))","v":4.5432852984861753},{"$f":"LN(Eurostat!E28)","v":4.4682043309149337},{"$f":"LN(Eurostat!D28)","v":4.542230386214217},{"$f":"pomocniczo_do_innych_kalibracji!AC8-pomocniczo_do_innych_kalibracji!AC7","v":-7.4664104631532169E-3},{"$f":"pomocniczo_do_innych_kalibracji!AD8-pomocniczo_do_innych_kalibracji!AD7","v":3.9718903106402692E-3},{"$f":"pomocniczo_do_innych_kalibracji!AE8-pomocniczo_do_innych_kalibracji!AE7","v":-3.0659871949527684E-3},{"$f":"pomocniczo_do_innych_kalibracji!AF8-pomocniczo_do_innych_kalibracji!AF7","v":7.6327422606352613E-3},{"$f":"Eurostat!CC28/100","v":0.1852},{"$f":"Eurostat!CB28/100","v":4.7400000000000005E-2},{"$f":"LN(1/Eurostat!CD28)-LN(1/Eurostat!CD27)","v":3.6911661577710531E-2}]
[{"$f":"Eurostat!A29","v":"2001Q2"},{"$f":"LN((Eurostat!BG29^pomocniczo_do_innych_kalibracji!I9*Eurostat!BI29^pomocniczo_do_innych_kalibracji!K9)^(1/(pomocniczo_do_innych_kalibracji!I9+pomocniczo_do_innych_kalibracji!K9)))","v":4.4047077394395329},{"$f":"LN((Eurostat!BM29^pomocniczo_do_innych_kalibracji!M9*Eurostat!BO29^pomocniczo_do_innych_kalibracji!O9*Eurostat!BQ29^pomocniczo_do_innych_kalibracji!Q9*Eurostat!BS29^pomocniczo_do_innych_kalibracji!S9*Eurostat!BU29^pomocniczo_do_innych_kalibracji!U9*Eurostat!BW29^pomocniczo_do_innych_kalibracji!W9*Eurostat!BY29^pomocniczo_do_innych_kalibracji!Y9*Eurostat!CA29^pomocniczo_do_innych_kalibracji!AA9)^(1/(pomocniczo_do_innych_kalibracji!M9+pomocniczo_do_innych_kalibracji!O9+pomocniczo_do_innych_kalibracji!Q9+pomocniczo_do_innych_kalibracji!S9+pomocniczo_do_innych_kalibracji!U9+pomocniczo_do_innych_kalibracji!W9+pomocniczo_do_innych_kalibracji!Y9+pomocniczo_do_innych_kalibracji!AA9)))","v":4.4953578546651274},{"$f":"LN((Eurostat!BF29^pomocniczo_do_innych_kalibracji!H9*Eurostat!BH29^pomocniczo_do_innych_kalibracji!J9)^(1/(pomocniczo_do_innych_kalibracji!H9+pomocniczo_do_innych_kalibracji!J9)))","v":4.5651176739167356},{"$f":"LN((Eurostat!BL29^pomocniczo_do_innych_kalibracji!L9*Eurostat!BN29^pomocniczo_do_innych_kalibracji!N9*Eurostat!BP29^pomocniczo_do_innych_kalibracji!P9*Eurostat!BR29^pomocniczo_do_innych_kalibracji!R9*Eurostat!BT29^pomocniczo_do_innych_kalibracji!T9*Eurostat!BV29^pomocniczo_do_innych_kalibracji!V9*Eurostat!BX29^pomocniczo_do_innych_kalibracji!X9*Eurostat!BZ29^pomocniczo_do_innych_kalibracji!Z9)^(1/(pomocniczo_do_innych_kalibracji!L9+pomocniczo_do_innych_kalibracji!N9+pomocniczo_do_innych_kalibracji!P9+pomocniczo_do_innych_kalibracji!R9+pomocniczo_do_innych_kalibracji!T9+pomocniczo_do_innych_kalibracji!V9+pomocniczo_do_innych_kalibracji!X9+pomocniczo_do_innych_kalibracji!Z9)))","v":4.5454539767748114},{"$f":"LN(Eurostat!E29)","v":4.475061500641071},{"$f":"LN(Eurostat!D29)","v":4.5464811896394117},{"$f":"pomocniczo_do_innych_kalibracji!AC9-pomocniczo_do_innych_kalibracji!AC8","v":7.0042330987867274E-3},{"$f":"pomocniczo_do_innych_kalibracji!AD9-pomocniczo_do_innych_kalibracji!AD8","v":1.7601705550085889E-2},{"$f":"pomocniczo_do_innych_kalibracji!AE9-pomocniczo_do_innych_kalibracji!AE8","v":5.59619061376182E-3},{"$f":"pomocniczo_do_innych_kalibracji!AF9-pomocniczo_do_innych_kalibracji!AF8","v":9.1743600354421417E-3},{"$f":"Eurostat!CC29/100","v":0.1709},{"$f":"Eurostat!CB29/100","v":4.5899999999999996E-2},{"$f":"LN(1/Eurostat!CD29)-LN(1/Eurostat!CD28)","v":7.9901392381220182E-2}]
[{"$f":"Eurostat!A30","v":"2001Q3"},{"$f":"LN((Eurostat!BG30^pomocniczo_do_innych_kalibracji!I10*Eurostat!BI30^pomocniczo_do_innych_kalibracji!K10)^(1/(pomocniczo_do_innych_kalibracji!I10+pomocniczo_do_innych_kalibracji!K10)))","v":4.4114641992520189},{"$f":"LN((Eurostat!BM30^pomocniczo_do_innych_kalibracji!M10*Eurostat!BO30^pomocniczo_do_innych_kalibracji!O10*Eurostat!BQ30^pomocniczo_do_innych_kalibracji!Q10*Eurostat!BS30^pomocniczo_do_innych_kalibracji!S10*Eurostat!BU30^pomocniczo_do_innych_kalibracji!U10*Eurostat!BW30^pomocniczo_do_innych_kalibracji!W10*Eurostat!BY30^pomocniczo_do_innych_kalibracji!Y10*Eurostat!CA30^pomocniczo_do_innych_kalibracji!AA10)^(1/(pomocniczo_do_innych_kalibracji!M10+pomocniczo_do_innych_kalibracji!O10+pomocniczo_do_innych_kalibracji!Q10+pomocniczo_do_innych_kalibracji!S10+pomocniczo_do_innych_kalibracji!U10+pomocniczo_do_innych_kalibracji!W10+pomocniczo_do_innych_kalibracji!Y10+pomocniczo_do_innych_kalibracji!AA10)))","v":4.501112912888777},{"$f":"LN((Eurostat!BF30^pomocniczo_do_innych_kalibracji!H10*Eurostat!BH30^pomocniczo_do_innych_kalibracji!J10)^(1/(pomocniczo_do_innych_kalibracji!H10+pomocniczo_do_innych_kalibracji!J10)))","v":4.5647161670731586},{"$f":"LN((Eurostat!BL30^pomocniczo_do_innych_kalibracji!L10*Eurostat!BN30^pomocniczo_do_innych_kalibracji!N10*Eurostat!BP30^pomocniczo_do_innych_kalibracji!P10*Eurostat!BR30^pomocniczo_do_innych_kalibracji!R10*Eurostat!BT30^pomocniczo_do_innych_kalibracji!T10*Eurostat!BV30^pomocniczo_do_innych_kalibracji!V10*Eurostat!BX30^pomocniczo_do_innych_kalibracji!X10*Eurostat!BZ30^pomocniczo_do_innych_kalibracji!Z10)^(1/(pomocniczo_do_innych_kalibracji!L10+pomocniczo_do_innych_kalibracji!N10+pomocniczo_do_innych_kalibracji!P10+pomocniczo_do_innych_kalibracji!R10+pomocniczo_do_innych_kalibracji!T10+pomocniczo_do_innych_kalibracji!V10+pomocniczo_do_innych_kalibracji!X10+pomocniczo_do_innych_kalibracji!Z10)))","v":4.5477338156494262},{"$f":"LN(Eurostat!E30)","v":4.4841318576110352},{"$f":"LN(Eurostat!D30)","v":4.5485998344996972},{"$f":"pomocniczo_do_innych_kalibracji!AC10-pomocniczo_do_innych_kalibracji!AC9","v":-2.7503138255349668E-2},{"$f":"pomocniczo_do_innych_kalibracji!AD10-pomocniczo_do_innych_kalibracji!AD9","v":5.3388221908052813E-3},{"$f":"pomocniczo_do_innych_kalibracji!AE10-pomocniczo_do_innych_kalibracji!AE9","v":9.3704317939469206E-4},{"$f":"pomocniczo_do_innych_kalibracji!AF10-pomocniczo_do_innych_kalibracji!AF9","v":7.7014847510081808E-3},{"$f":"Eurostat!CC30/100","v":0.15359999999999999},{"$f":"Eurostat!CB30/100","v":4.2699999999999995E-2},{"$f":"LN(1/Eurostat!CD30)-LN(1/Eurostat!CD29)","v":-7.6530408817695683E-2}]
[{"$f":"Eurostat!A31","v":"2001Q4"},{"$f":"LN((Eurostat!BG31^pomocniczo_do_innych_kalibracji!I11*Eurostat!BI31^pomocniczo_do_innych_kalibracji!K11)^(1/(pomocniczo_do_innych_kalibracji!I11+pomocniczo_do_innych_kalibracji!K11)))","v":4.3989215542576714},{"$f":"LN((Eurostat!BM31^pomocniczo_do_innych_kalibracji!M11*Eurostat!BO31^pomocniczo_do_innych_kalibracji!O11*Eurostat!BQ31^pomocniczo_do_innych_kalibracji!Q11*Eurostat!BS31^pomocniczo_do_innych_kalibracji!S11*Eurostat!BU31^pomocniczo_do_innych_kalibracji!U11*Eurostat!BW31^pomocniczo_do_innych_kalibracji!W11*Eurostat!BY31^pomocniczo_do_innych_kalibracji!Y11*Eurostat!CA31^pomocniczo_do_innych_kalibracji!AA11)^(1/(pomocniczo_do_innych_kalibracji!M11+pomocniczo_do_innych_kalibracji!O11+pomocniczo_do_innych_kalibracji!Q11+pomocniczo_do_innych_kalibracji!S11+pomocniczo_do_innych_kalibracji!U11+pomocniczo_do_innych_kalibracji!W11+pomocniczo_do_innych_kalibracji!Y11+pomocniczo_do_innych_kalibracji!AA11)))","v":4.5077058969335209},{"$f":"LN((Eurostat!BF31^pomocniczo_do_innych_kalibracji!H11*Eurostat!BH31^pomocniczo_do_innych_kalibracji!J11)^(1/(pomocniczo_do_innych_kalibracji!H11+pomocniczo_do_innych_kalibracji!J11)))","v":4.5610706953266051},{"$f":"LN((Eurostat!BL31^pomocniczo_do_innych_kalibracji!L11*Eurostat!BN31^pomocniczo_do_innych_kalibracji!N11*Eurostat!BP31^pomocniczo_do_innych_kalibracji!P11*Eurostat!BR31^pomocniczo_do_innych_kalibracji!R11*Eurostat!BT31^pomocniczo_do_innych_kalibracji!T11*Eurostat!BV31^pomocniczo_do_innych_kalibracji!V11*Eurostat!BX31^pomocniczo_do_innych_kalibracji!X11*Eurostat!BZ31^pomocniczo_do_innych_kalibracji!Z11)^(1/(pomocniczo_do_innych_kalibracji!L11+pomocniczo_do_innych_kalibracji!N11+pomocniczo_do_innych_kalibracji!P11+pomocniczo_do_innych_kalibracji!R11+pomocniczo_do_innych_kalibracji!T11+pomocniczo_do_innych_kalibracji!V11+pomocniczo_do_innych_kalibracji!X11+pomocniczo_do_innych_kalibracji!Z11)))","v":4.5515364336581214},{"$f":"LN(Eurostat!E31)","v":4.4863866499981242},{"$f":"LN(Eurostat!D31)","v":4.5517694092609764},{"$f":"pomocniczo_do_innych_kalibracji!AC11-pomocniczo_do_innych_kalibracji!AC10","v":-1.5042061301024034E-2},{"$f":"pomocniczo_do_innych_kalibracji!AD11-pomocniczo_do_innych_kalibracji!AD10","v":6.2925527054327191E-3},{"$f":"pomocniczo_do_innych_kalibracji!AE11-pomocniczo_do_innych_kalibracji!AE10","v":-2.4094624910375728E-3},{"$f":"pomocniczo_do_innych_kalibracji!AF11-pomocniczo_do_innych_kalibracji!AF10","v":1.1219294543349356E-2},{"$f":"Eurostat!CC31/100","v":0.1338},{"$f":"Eurostat!CB31/100","v":3.44E-2},{"$f":"LN(1/Eurostat!CD31)-LN(1/Eurostat!CD30)","v":2.6620102464343098E-2}]
[{"$f":"Eurostat!A32","v":"2002Q1"},{"$f":"LN((Eurostat!BG32^pomocniczo_do_innych_kalibracji!I12*Eurostat!BI32^pomocniczo_do_innych_kalibracji!K12)^(1/(pomocniczo_do_innych_kalibracji!I12+pomocniczo_do_innych_kalibracji!K12)))","v":4.4007017326283346},{"$f":"LN((Eurostat!BM32^pomocniczo_do_innych_kalibracji!M12*Eurostat!BO32^pomocniczo_do_innych_kalibracji!O12*Eurostat!BQ32^pomocniczo_do_innych_kalibracji!Q12*Eurostat!BS32^pomocniczo_do_innych_kalibracji!S12*Eurostat!BU32^pomocniczo_do_innych_kalibracji!U12*Eurostat!BW32^pomocniczo_do_innych_kalibracji!W12*Eurostat!BY32^pomocniczo_do_innych_kalibracji!Y12*Eurostat!CA32^pomocniczo_do_innych_kalibracji!AA12)^(1/(pomocniczo_do_innych_kalibracji!M12+pomocniczo_do_innych_kalibracji!O12+pomocniczo_do_innych_kalibracji!Q12+pomocniczo_do_innych_kalibracji!S12+pomocniczo_do_innych_kalibracji!U12+pomocniczo_do_innych_kalibracji!W12+pomocniczo_do_innych_kalibracji!Y12+pomocniczo_do_innych_kalibracji!AA12)))","v":4.518665690847258},{"$f":"LN((Eurostat!BF32^pomocniczo_do_innych_kalibracji!H12*Eurostat!BH32^pomocniczo_do_innych_kalibracji!J12)^(1/(pomocniczo_do_innych_kalibracji!H12+pomocniczo_do_innych_kalibracji!J12)))","v":4.5599500620051687},{"$f":"LN((Eurostat!BL32^pomocniczo_do_innych_kalibracji!L12*Eurostat!BN32^pomocniczo_do_innych_kalibracji!N12*Eurostat!BP32^pomocniczo_do_innych_kalibracji!P12*Eurostat!BR32^pomocniczo_do_innych_kalibracji!R12*Eurostat!BT32^pomocniczo_do_innych_kalibracji!T12*Eurostat!BV32^pomocniczo_do_innych_kalibracji!V12*Eurostat!BX32^pomocniczo_do_innych_kalibracji!X12*Eurostat!BZ32^pomocniczo_do_innych_kalibracji!Z12)^(1/(pomocniczo_do_innych_kalibracji!L12+pomocniczo_do_innych_kalibracji!N12+pomocniczo_do_innych_kalibracji!P12+pomocniczo_do_innych_kalibracji!R12+pomocniczo_do_innych_kalibracji!T12+pomocniczo_do_innych_kalibracji!V12+pomocniczo_do_innych_kalibracji!X12+pomocniczo_do_innych_kalibracji!Z12)))","v":4.5545375980139307},{"$f":"LN(Eurostat!E32)","v":4.499809670330265},{"$f":"LN(Eurostat!D32)","v":4.5538768916005408},{"$f":"pomocniczo_do_innych_kalibracji!AC12-pomocniczo_do_innych_kalibracji!AC11","v":1.0075627538755683E-2},{"$f":"pomocniczo_do_innych_kalibracji!AD12-pomocniczo_do_innych_kalibracji!AD11","v":4.1174609502281356E-4},{"$f":"pomocniczo_do_innych_kalibracji!AE12-pomocniczo_do_innych_kalibracji!AE11","v":9.4015127305535628E-4},{"$f":"pomocniczo_do_innych_kalibracji!AF12-pomocniczo_do_innych_kalibracji!AF11","v":7.9649191945074804E-3},{"$f":"Eurostat!CC32/100","v":0.10640000000000001},{"$f":"Eurostat!CB32/100","v":3.3599999999999998E-2},{"$f":"LN(1/Eurostat!CD32)-LN(1/Eurostat!CD31)","v":1.2114700738585338E-2}]
[{"$f":"Eurostat!A33","v":"2002Q2"},{"$f":"LN((Eurostat!BG33^pomocniczo_do_innych_kalibracji!I13*Eurostat!BI33^pomocniczo_do_innych_kalibracji!K13)^(1/(pomocniczo_do_innych_kalibracji!I13+pomocniczo_do_innych_kalibracji!K13)))","v":4.4013487776492122},{"$f":"LN((Eurostat!BM33^pomocniczo_do_innych_kalibracji!M13*Eurostat!BO33^pomocniczo_do_innych_kalibracji!O13*Eurostat!BQ33^pomocniczo_do_innych_kalibracji!Q13*Eurostat!BS33^pomocniczo_do_innych_kalibracji!S13*Eurostat!BU33^pomocniczo_do_innych_kalibracji!U13*Eurostat!BW33^pomocniczo_do_innych_kalibracji!W13*Eurostat!BY33^pomocniczo_do_innych_kalibracji!Y13*Eurostat!CA33^pomocniczo_do_innych_kalibracji!AA13)^(1/(pomocniczo_do_innych_kalibracji!M13+pomocniczo_do_innych_kalibracji!O13+pomocniczo_do_innych_kalibracji!Q13+pomocniczo_do_innych_kalibracji!S13+pomocniczo_do_innych_kalibracji!U13+pomocniczo_do_innych_kalibracji!W13+pomocniczo_do_innych_kalibracji!Y13+pomocniczo_do_innych_kalibracji!AA13)))","v":4.5145639121292369},{"$f":"LN((Eurostat!BF33^pomocniczo_do_innych_kalibracji!H13*Eurostat!BH33^pomocniczo_do_innych_kalibracji!J13)^(1/(pomocniczo_do_innych_kalibracji!H13+pomocniczo_do_innych_kalibracji!J13)))","v":4.5662340465791944},{"$f":"LN((Eurostat!BL33^pomocniczo_do_innych_kalibracji!L13*Eurostat!BN33^pomocniczo_do_innych_kalibracji!N13*Eurostat!BP33^pomocniczo_do_innych_kalibracji!P13*Eurostat!BR33^pomocniczo_do_innych_kalibracji!R13*Eurostat!BT33^pomocniczo_do_innych_kalibracji!T13*Eurostat!BV33^pomocniczo_do_innych_kalibracji!V13*Eurostat!BX33^pomocniczo_do_innych_kalibracji!X13*Eurostat!BZ33^pomocniczo_do_innych_kalibracji!Z13)^(1/(pomocniczo_do_innych_kalibracji!L13+pomocniczo_do_innych_kalibracji!N13+pomocniczo_do_innych_kalibracji!P13+pomocniczo_do_innych_kalibracji!R13+pomocniczo_do_innych_kalibracji!T13+pomocniczo_do_innych_kalibracji!V13+pomocniczo_do_innych_kalibracji!X13+pomocniczo_do_innych_kalibracji!Z13)))","v":4.5575564808947648},{"$f":"LN(Eurostat!E33)","v":4.5031374604229395},{"$f":"LN(Eurostat!D33)","v":4.5570298106601568},{"$f":"pomocniczo_do_innych_kalibracji!AC13-pomocniczo_do_innych_kalibracji!AC12","v":-1.2689621627496095E-2},{"$f":"pomocniczo_do_innych_kalibracji!AD13-pomocniczo_do_innych_kalibracji!AD12","v":8.6380701784731784E-3},{"$f":"pomocniczo_do_innych_kalibracji!AE13-pomocniczo_do_innych_kalibracji!AE12","v":-3.3498533356359772E-3},{"$f":"pomocniczo_do_innych_kalibracji!AF13-pomocniczo_do_innych_kalibracji!AF12","v":3.9238753468451293E-3},{"$f":"Eurostat!CC33/100","v":9.7899999999999987E-2},{"$f":"Eurostat!CB33/100","v":3.4500000000000003E-2},{"$f":"LN(1/Eurostat!CD33)-LN(1/Eurostat!CD32)","v":-2.6913322931453987E-2}]
[{"$f":"Eurostat!A34","v":"2002Q3"},{"$f":"LN((Eurostat!BG34^pomocniczo_do_innych_kalibracji!I14*Eurostat!BI34^pomocniczo_do_innych_kalibracji!K14)^(1/(pomocniczo_do_innych_kalibracji!I14+pomocniczo_do_innych_kalibracji!K14)))","v":4.410851541572427},{"$f":"LN((Eurostat!BM34^pomocniczo_do_innych_kalibracji!M14*Eurostat!BO34^pomocniczo_do_innych_kalibracji!O14*Eurostat!BQ34^pomocniczo_do_innych_kalibracji!Q14*Eurostat!BS34^pomocniczo_do_innych_kalibracji!S14*Eurostat!BU34^pomocniczo_do_innych_kalibracji!U14*Eurostat!BW34^pomocniczo_do_innych_kalibracji!W14*Eurostat!BY34^pomocniczo_do_innych_kalibracji!Y14*Eurostat!CA34^pomocniczo_do_innych_kalibracji!AA14)^(1/(pomocniczo_do_innych_kalibracji!M14+pomocniczo_do_innych_kalibracji!O14+pomocniczo_do_innych_kalibracji!Q14+pomocniczo_do_innych_kalibracji!S14+pomocniczo_do_innych_kalibracji!U14+pomocniczo_do_innych_kalibracji!W14+pomocniczo_do_innych_kalibracji!Y14+pomocniczo_do_innych_kalibracji!AA14)))","v":4.5221771520082337},{"$f":"LN((Eurostat!BF34^pomocniczo_do_innych_kalibracji!H14*Eurostat!BH34^pomocniczo_do_innych_kalibracji!J14)^(1/(pomocniczo_do_innych_kalibracji!H14+pomocniczo_do_innych_kalibracji!J14)))","v":4.5693393832729337},{"$f":"LN((Eurostat!BL34^pomocniczo_do_innych_kalibracji!L14*Eurostat!BN34^pomocniczo_do_innych_kalibracji!N14*Eurostat!BP34^pomocniczo_do_innych_kalibracji!P14*Eurostat!BR34^pomocniczo_do_innych_kalibracji!R14*Eurostat!BT34^pomocniczo_do_innych_kalibracji!T14*Eurostat!BV34^pomocniczo_do_innych_kalibracji!V14*Eurostat!BX34^pomocniczo_do_innych_kalibracji!X14*Eurostat!BZ34^pomocniczo_do_innych_kalibracji!Z14)^(1/(pomocniczo_do_innych_kalibracji!L14+pomocniczo_do_innych_kalibracji!N14+pomocniczo_do_innych_kalibracji!P14+pomocniczo_do_innych_kalibracji!R14+pomocniczo_do_innych_kalibracji!T14+pomocniczo_do_innych_kalibracji!V14+pomocniczo_do_innych_kalibracji!X14+pomocniczo_do_innych_kalibracji!Z14)))","v":4.5594652987956366},{"$f":"LN(Eurostat!E34)","v":4.5097600011834329},{"$f":"LN(Eurostat!D34)","v":4.5622626849768144},{"$f":"pomocniczo_do_innych_kalibracji!AC14-pomocniczo_do_innych_kalibracji!AC13","v":3.0968216936305026E-2},{"$f":"pomocniczo_do_innych_kalibracji!AD14-pomocniczo_do_innych_kalibracji!AD13","v":-1.3448105295950086E-3},{"$f":"pomocniczo_do_innych_kalibracji!AE14-pomocniczo_do_innych_kalibracji!AE13","v":6.0486256402034755E-3},{"$f":"pomocniczo_do_innych_kalibracji!AF14-pomocniczo_do_innych_kalibracji!AF13","v":8.610677959980606E-3},{"$f":"Eurostat!CC34/100","v":8.5000000000000006E-2},{"$f":"Eurostat!CB34/100","v":3.3599999999999998E-2},{"$f":"LN(1/Eurostat!CD34)-LN(1/Eurostat!CD33)","v":-9.3452068887191153E-2}]
[{"$f":"Eurostat!A35","v":"2002Q4"},{"$f":"LN((Eurostat!BG35^pomocniczo_do_innych_kalibracji!I15*Eurostat!BI35^pomocniczo_do_innych_kalibracji!K15)^(1/(pomocniczo_do_innych_kalibracji!I15+pomocniczo_do_innych_kalibracji!K15)))","v":4.4272068011051697},{"$f":"LN((Eurostat!BM35^pomocniczo_do_innych_kalibracji!M15*Eurostat!BO35^pomocniczo_do_innych_kalibracji!O15*Eurostat!BQ35^pomocniczo_do_innych_kalibracji!Q15*Eurostat!BS35^pomocniczo_do_innych_kalibracji!S15*Eurostat!BU35^pomocniczo_do_innych_kalibracji!U15*Eurostat!BW35^pomocniczo_do_innych_kalibracji!W15*Eurostat!BY35^pomocniczo_do_innych_kalibracji!Y15*Eurostat!CA35^pomocniczo_do_innych_kalibracji!AA15)^(1/(pomocniczo_do_innych_kalibracji!M15+pomocniczo_do_innych_kalibracji!O15+pomocniczo_do_innych_kalibracji!Q15+pomocniczo_do_innych_kalibracji!S15+pomocniczo_do_innych_kalibracji!U15+pomocniczo_do_innych_kalibracji!W15+pomocniczo_do_innych_kalibracji!Y15+pomocniczo_do_innych_kalibracji!AA15)))","v":4.527377176749475},{"$f":"LN((Eurostat!BF35^pomocniczo_do_innych_kalibracji!H15*Eurostat!BH35^pomocniczo_do_innych_kalibracji!J15)^(1/(pomocniczo_do_innych_kalibracji!H15+pomocniczo_do_innych_kalibracji!J15)))","v":4.5638581818061823},{"$f":"LN((Eurostat!BL35^pomocniczo_do_innych_kalibracji!L15*Eurostat!BN35^pomocniczo_do_innych_kalibracji!N15*Eurostat!BP35^pomocniczo_do_innych_kalibracji!P15*Eurostat!BR35^pomocniczo_do_innych_kalibracji!R15*Eurostat!BT35^pomocniczo_do_innych_kalibracji!T15*Eurostat!BV35^pomocniczo_do_innych_kalibracji!V15*Eurostat!BX35^pomocniczo_do_innych_kalibracji!X15*Eurostat!BZ35^pomocniczo_do_innych_kalibracji!Z15)^(1/(pomocniczo_do_innych_kalibracji!L15+pomocniczo_do_innych_kalibracji!N15+pomocniczo_do_innych_kalibracji!P15+pomocniczo_do_innych_kalibracji!R15+pomocniczo_do_innych_kalibracji!T15+pomocniczo_do_innych_kalibracji!V15+pomocniczo_do_innych_kalibracji!X15+pomocniczo_do_innych_kalibracji!Z15)))","v":4.5620233370217802},{"$f":"LN(Eurostat!E35)","v":4.5185223792624196},{"$f":"LN(Eurostat!D35)","v":4.5674683188040799},{"$f":"pomocniczo_do_innych_kalibracji!AC15-pomocniczo_do_innych_kalibracji!AC14","v":2.6628367050474111E-4},{"$f":"pomocniczo_do_innych_kalibracji!AD15-pomocniczo_do_innych_kalibracji!AD14","v":1.9829702018814288E-4},{"$f":"pomocniczo_do_innych_kalibracji!AE15-pomocniczo_do_innych_kalibracji!AE14","v":1.3898740968976142E-3},{"$f":"pomocniczo_do_innych_kalibracji!AF15-pomocniczo_do_innych_kalibracji!AF14","v":8.4795203256913254E-3},{"$f":"Eurostat!CC35/100","v":7.0300000000000001E-2},{"$f":"Eurostat!CB35/100","v":3.1099999999999999E-2},{"$f":"LN(1/Eurostat!CD35)-LN(1/Eurostat!CD34)","v":2.0797976694482578E-2}]
[{"$f":"Eurostat!A36","v":"2003Q1"},{"$f":"LN((Eurostat!BG36^pomocniczo_do_innych_kalibracji!I16*Eurostat!BI36^pomocniczo_do_innych_kalibracji!K16)^(1/(pomocniczo_do_innych_kalibracji!I16+pomocniczo_do_innych_kalibracji!K16)))","v":4.4386157474834134},{"$f":"LN((Eurostat!BM36^pomocniczo_do_innych_kalibracji!M16*Eurostat!BO36^pomocniczo_do_innych_kalibracji!O16*Eurostat!BQ36^pomocniczo_do_innych_kalibracji!Q16*Eurostat!BS36^pomocniczo_do_innych_kalibracji!S16*Eurostat!BU36^pomocniczo_do_innych_kalibracji!U16*Eurostat!BW36^pomocniczo_do_innych_kalibracji!W16*Eurostat!BY36^pomocniczo_do_innych_kalibracji!Y16*Eurostat!CA36^pomocniczo_do_innych_kalibracji!AA16)^(1/(pomocniczo_do_innych_kalibracji!M16+pomocniczo_do_innych_kalibracji!O16+pomocniczo_do_innych_kalibracji!Q16+pomocniczo_do_innych_kalibracji!S16+pomocniczo_do_innych_kalibracji!U16+pomocniczo_do_innych_kalibracji!W16+pomocniczo_do_innych_kalibracji!Y16+pomocniczo_do_innych_kalibracji!AA16)))","v":4.5226009874524786},{"$f":"LN((Eurostat!BF36^pomocniczo_do_innych_kalibracji!H16*Eurostat!BH36^pomocniczo_do_innych_kalibracji!J16)^(1/(pomocniczo_do_innych_kalibracji!H16+pomocniczo_do_innych_kalibracji!J16)))","v":4.5626810868328569},{"$f":"LN((Eurostat!BL36^pomocniczo_do_innych_kalibracji!L16*Eurostat!BN36^pomocniczo_do_innych_kalibracji!N16*Eurostat!BP36^pomocniczo_do_innych_kalibracji!P16*Eurostat!BR36^pomocniczo_do_innych_kalibracji!R16*Eurostat!BT36^pomocniczo_do_innych_kalibracji!T16*Eurostat!BV36^pomocniczo_do_innych_kalibracji!V16*Eurostat!BX36^pomocniczo_do_innych_kalibracji!X16*Eurostat!BZ36^pomocniczo_do_innych_kalibracji!Z16)^(1/(pomocniczo_do_innych_kalibracji!L16+pomocniczo_do_innych_kalibracji!N16+pomocniczo_do_innych_kalibracji!P16+pomocniczo_do_innych_kalibracji!R16+pomocniczo_do_innych_kalibracji!T16+pomocniczo_do_innych_kalibracji!V16+pomocniczo_do_innych_kalibracji!X16+pomocniczo_do_innych_kalibracji!Z16)))","v":4.5603198805513596},{"$f":"LN(Eurostat!E36)","v":4.5185223792624196},{"$f":"LN(Eurostat!D36)","v":4.5685062016164997},{"$f":"pomocniczo_do_innych_kalibracji!AC16-pomocniczo_do_innych_kalibracji!AC15","v":-4.4665383244000267E-3},{"$f":"pomocniczo_do_innych_kalibracji!AD16-pomocniczo_do_innych_kalibracji!AD15","v":7.3571583053100298E-3},{"$f":"pomocniczo_do_innych_kalibracji!AE16-pomocniczo_do_innych_kalibracji!AE15","v":1.9275323884144768E-3},{"$f":"pomocniczo_do_innych_kalibracji!AF16-pomocniczo_do_innych_kalibracji!AF15","v":4.5101578644688445E-3},{"$f":"Eurostat!CC36/100","v":6.3700000000000007E-2},{"$f":"Eurostat!CB36/100","v":2.6800000000000001E-2},{"$f":"LN(1/Eurostat!CD36)-LN(1/Eurostat!CD35)","v":-4.6965705187667295E-2}]
[{"$f":"Eurostat!A37","v":"2003Q2"},{"$f":"LN((Eurostat!BG37^pomocniczo_do_innych_kalibracji!I17*Eurostat!BI37^pomocniczo_do_innych_kalibracji!K17)^(1/(pomocniczo_do_innych_kalibracji!I17+pomocniczo_do_innych_kalibracji!K17)))","v":4.4622872655114572},{"$f":"LN((Eurostat!BM37^pomocniczo_do_innych_kalibracji!M17*Eurostat!BO37^pomocniczo_do_innych_kalibracji!O17*Eurostat!BQ37^pomocniczo_do_innych_kalibracji!Q17*Eurostat!BS37^pomocniczo_do_innych_kalibracji!S17*Eurostat!BU37^pomocniczo_do_innych_kalibracji!U17*Eurostat!BW37^pomocniczo_do_innych_kalibracji!W17*Eurostat!BY37^pomocniczo_do_innych_kalibracji!Y17*Eurostat!CA37^pomocniczo_do_innych_kalibracji!AA17)^(1/(pomocniczo_do_innych_kalibracji!M17+pomocniczo_do_innych_kalibracji!O17+pomocniczo_do_innych_kalibracji!Q17+pomocniczo_do_innych_kalibracji!S17+pomocniczo_do_innych_kalibracji!U17+pomocniczo_do_innych_kalibracji!W17+pomocniczo_do_innych_kalibracji!Y17+pomocniczo_do_innych_kalibracji!AA17)))","v":4.5372441416044182},{"$f":"LN((Eurostat!BF37^pomocniczo_do_innych_kalibracji!H17*Eurostat!BH37^pomocniczo_do_innych_kalibracji!J17)^(1/(pomocniczo_do_innych_kalibracji!H17+pomocniczo_do_innych_kalibracji!J17)))","v":4.5529984292679577},{"$f":"LN((Eurostat!BL37^pomocniczo_do_innych_kalibracji!L17*Eurostat!BN37^pomocniczo_do_innych_kalibracji!N17*Eurostat!BP37^pomocniczo_do_innych_kalibracji!P17*Eurostat!BR37^pomocniczo_do_innych_kalibracji!R17*Eurostat!BT37^pomocniczo_do_innych_kalibracji!T17*Eurostat!BV37^pomocniczo_do_innych_kalibracji!V17*Eurostat!BX37^pomocniczo_do_innych_kalibracji!X17*Eurostat!BZ37^pomocniczo_do_innych_kalibracji!Z17)^(1/(pomocniczo_do_innych_kalibracji!L17+pomocniczo_do_innych_kalibracji!N17+pomocniczo_do_innych_kalibracji!P17+pomocniczo_do_innych_kalibracji!R17+pomocniczo_do_innych_kalibracji!T17+pomocniczo_do_innych_kalibracji!V17+pomocniczo_do_innych_kalibracji!X17+pomocniczo_do_innych_kalibracji!Z17)))","v":4.5630092062227305},{"$f":"LN(Eurostat!E37)","v":4.5304466397921548},{"$f":"LN(Eurostat!D37)","v":4.5705787412184726},{"$f":"pomocniczo_do_innych_kalibracji!AC17-pomocniczo_do_innych_kalibracji!AC16","v":2.062294476696902E-2},{"$f":"pomocniczo_do_innych_kalibracji!AD17-pomocniczo_do_innych_kalibracji!AD16","v":-8.5433469886053715E-3},{"$f":"pomocniczo_do_innych_kalibracji!AE17-pomocniczo_do_innych_kalibracji!AE16","v":9.6406759918643559E-4},{"$f":"pomocniczo_do_innych_kalibracji!AF17-pomocniczo_do_innych_kalibracji!AF16","v":7.5440500803862776E-3},{"$f":"Eurostat!CC37/100","v":5.5500000000000001E-2},{"$f":"Eurostat!CB37/100","v":2.3599999999999999E-2},{"$f":"LN(1/Eurostat!CD37)-LN(1/Eurostat!CD36)","v":-3.9044420153860449E-2}]
[{"$f":"Eurostat!A38","v":"2003Q3"},{"$f":"LN((Eurostat!BG38^pomocniczo_do_innych_kalibracji!I18*Eurostat!BI38^pomocniczo_do_innych_kalibracji!K18)^(1/(pomocniczo_do_innych_kalibracji!I18+pomocniczo_do_innych_kalibracji!K18)))","v":4.4958524068223564},{"$f":"LN((Eurostat!BM38^pomocniczo_do_innych_kalibracji!M18*Eurostat!BO38^pomocniczo_do_innych_kalibracji!O18*Eurostat!BQ38^pomocniczo_do_innych_kalibracji!Q18*Eurostat!BS38^pomocniczo_do_innych_kalibracji!S18*Eurostat!BU38^pomocniczo_do_innych_kalibracji!U18*Eurostat!BW38^pomocniczo_do_innych_kalibracji!W18*Eurostat!BY38^pomocniczo_do_innych_kalibracji!Y18*Eurostat!CA38^pomocniczo_do_innych_kalibracji!AA18)^(1/(pomocniczo_do_innych_kalibracji!M18+pomocniczo_do_innych_kalibracji!O18+pomocniczo_do_innych_kalibracji!Q18+pomocniczo_do_innych_kalibracji!S18+pomocniczo_do_innych_kalibracji!U18+pomocniczo_do_innych_kalibracji!W18+pomocniczo_do_innych_kalibracji!Y18+pomocniczo_do_innych_kalibracji!AA18)))","v":4.5500319791903712},{"$f":"LN((Eurostat!BF38^pomocniczo_do_innych_kalibracji!H18*Eurostat!BH38^pomocniczo_do_innych_kalibracji!J18)^(1/(pomocniczo_do_innych_kalibracji!H18+pomocniczo_do_innych_kalibracji!J18)))","v":4.5561823356496429},{"$f":"LN((Eurostat!BL38^pomocniczo_do_innych_kalibracji!L18*Eurostat!BN38^pomocniczo_do_innych_kalibracji!N18*Eurostat!BP38^pomocniczo_do_innych_kalibracji!P18*Eurostat!BR38^pomocniczo_do_innych_kalibracji!R18*Eurostat!BT38^pomocniczo_do_innych_kalibracji!T18*Eurostat!BV38^pomocniczo_do_innych_kalibracji!V18*Eurostat!BX38^pomocniczo_do_innych_kalibracji!X18*Eurostat!BZ38^pomocniczo_do_innych_kalibracji!Z18)^(1/(pomocniczo_do_innych_kalibracji!L18+pomocniczo_do_innych_kalibracji!N18+pomocniczo_do_innych_kalibracji!P18+pomocniczo_do_innych_kalibracji!R18+pomocniczo_do_innych_kalibracji!T18+pomocniczo_do_innych_kalibracji!V18+pomocniczo_do_innych_kalibracji!X18+pomocniczo_do_innych_kalibracji!Z18)))","v":4.5686192651158111},{"$f":"LN(Eurostat!E38)","v":4.5411648560121787},{"$f":"LN(Eurostat!D38)","v":4.5757413752972793},{"$f":"pomocniczo_do_innych_kalibracji!AC18-pomocniczo_do_innych_kalibracji!AC17","v":-7.4818475476670088E-3},{"$f":"pomocniczo_do_innych_kalibracji!AD18-pomocniczo_do_innych_kalibracji!AD17","v":-7.6321881379257661E-3},{"$f":"pomocniczo_do_innych_kalibracji!AE18-pomocniczo_do_innych_kalibracji!AE17","v":8.2727644703783909E-4},{"$f":"pomocniczo_do_innych_kalibracji!AF18-pomocniczo_do_innych_kalibracji!AF17","v":8.7507740095338349E-3},{"$f":"Eurostat!CC38/100","v":5.2000000000000005E-2},{"$f":"Eurostat!CB38/100","v":2.1400000000000002E-2},{"$f":"LN(1/Eurostat!CD38)-LN(1/Eurostat!CD37)","v":-1.5580470975248284E-2}]
[{"$f":"Eurostat!A39","v":"2003Q4"},{"$f":"LN((Eurostat!BG39^pomocniczo_do_innych_kalibracji!I19*Eurostat!BI39^pomocniczo_do_innych_kalibracji!K19)^(1/(pomocniczo_do_innych_kalibracji!I19+pomocniczo_do_innych_kalibracji!K19)))","v":4.5240722320154783},{"$f":"LN((Eurostat!BM39^pomocniczo_do_innych_kalibracji!M19*Eurostat!BO39^pomocniczo_do_innych_kalibracji!O19*Eurostat!BQ39^pomocniczo_do_innych_kalibracji!Q19*Eurostat!BS39^pomocniczo_do_innych_kalibracji!S19*Eurostat!BU39^pomocniczo_do_innych_kalibracji!U19*Eurostat!BW39^pomocniczo_do_innych_kalibracji!W19*Eurostat!BY39^pomocniczo_do_innych_kalibracji!Y19*Eurostat!CA39^pomocniczo_do_innych_kalibracji!AA19)^(1/(pomocniczo_do_innych_kalibracji!M19+pomocniczo_do_innych_kalibracji!O19+pomocniczo_do_innych_kalibracji!Q19+pomocniczo_do_innych_kalibracji!S19+pomocniczo_do_innych_kalibracji!U19+pomocniczo_do_innych_kalibracji!W19+pomocniczo_do_innych_kalibracji!Y19+pomocniczo_do_innych_kalibracji!AA19)))","v":4.5484895906907248},{"$f":"LN((Eurostat!BF39^pomocniczo_do_innych_kalibracji!H19*Eurostat!BH39^pomocniczo_do_innych_kalibracji!J19)^(1/(pomocniczo_do_innych_kalibracji!H19+pomocniczo_do_innych_kalibracji!J19)))","v":4.5714174125764266},{"$f":"LN((Eurostat!BL39^pomocniczo_do_innych_kalibracji!L19*Eurostat!BN39^pomocniczo_do_innych_kalibracji!N19*Eurostat!BP39^pomocniczo_do_innych_kalibracji!P19*Eurostat!BR39^pomocniczo_do_innych_kalibracji!R19*Eurostat!BT39^pomocniczo_do_innych_kalibracji!T19*Eurostat!BV39^pomocniczo_do_innych_kalibracji!V19*Eurostat!BX39^pomocniczo_do_innych_kalibracji!X19*Eurostat!BZ39^pomocniczo_do_innych_kalibracji!Z19)^(1/(pomocniczo_do_innych_kalibracji!L19+pomocniczo_do_innych_kalibracji!N19+pomocniczo_do_innych_kalibracji!P19+pomocniczo_do_innych_kalibracji!R19+pomocniczo_do_innych_kalibracji!T19+pomocniczo_do_innych_kalibracji!V19+pomocniczo_do_innych_kalibracji!X19+pomocniczo_do_innych_kalibracji!Z19)))","v":4.5735129832630239},{"$f":"LN(Eurostat!E39)","v":4.5517694092609764},{"$f":"LN(Eurostat!D39)","v":4.5788262106484892},{"$f":"pomocniczo_do_innych_kalibracji!AC19-pomocniczo_do_innych_kalibracji!AC18","v":8.5663735704288868E-3},{"$f":"pomocniczo_do_innych_kalibracji!AD19-pomocniczo_do_innych_kalibracji!AD18","v":1.6933569894036715E-2},{"$f":"pomocniczo_do_innych_kalibracji!AE19-pomocniczo_do_innych_kalibracji!AE18","v":-1.4841683734667654E-3},{"$f":"pomocniczo_do_innych_kalibracji!AF19-pomocniczo_do_innych_kalibracji!AF18","v":3.5343756049757147E-3},{"$f":"Eurostat!CC39/100","v":5.5999999999999994E-2},{"$f":"Eurostat!CB39/100","v":2.1499999999999998E-2},{"$f":"LN(1/Eurostat!CD39)-LN(1/Eurostat!CD38)","v":-4.3952429975468776E-2}]
[{"$f":"Eurostat!A40","v":"2004Q1"},{"$f":"LN((Eurostat!BG40^pomocniczo_do_innych_kalibracji!I20*Eurostat!BI40^pomocniczo_do_innych_kalibracji!K20)^(1/(pomocniczo_do_innych_kalibracji!I20+pomocniczo_do_innych_kalibracji!K20)))","v":4.553734624022038},{"$f":"LN((Eurostat!BM40^pomocniczo_do_innych_kalibracji!M20*Eurostat!BO40^pomocniczo_do_innych_kalibracji!O20*Eurostat!BQ40^pomocniczo_do_innych_kalibracji!Q20*Eurostat!BS40^pomocniczo_do_innych_kalibracji!S20*Eurostat!BU40^pomocniczo_do_innych_kalibracji!U20*Eurostat!BW40^pomocniczo_do_innych_kalibracji!W20*Eurostat!BY40^pomocniczo_do_innych_kalibracji!Y20*Eurostat!CA40^pomocniczo_do_innych_kalibracji!AA20)^(1/(pomocniczo_do_innych_kalibracji!M20+pomocniczo_do_innych_kalibracji!O20+pomocniczo_do_innych_kalibracji!Q20+pomocniczo_do_innych_kalibracji!S20+pomocniczo_do_innych_kalibracji!U20+pomocniczo_do_innych_kalibracji!W20+pomocniczo_do_innych_kalibracji!Y20+pomocniczo_do_innych_kalibracji!AA20)))","v":4.5596209904642775},{"$f":"LN((Eurostat!BF40^pomocniczo_do_innych_kalibracji!H20*Eurostat!BH40^pomocniczo_do_innych_kalibracji!J20)^(1/(pomocniczo_do_innych_kalibracji!H20+pomocniczo_do_innych_kalibracji!J20)))","v":4.5916849723288289},{"$f":"LN((Eurostat!BL40^pomocniczo_do_innych_kalibracji!L20*Eurostat!BN40^pomocniczo_do_innych_kalibracji!N20*Eurostat!BP40^pomocniczo_do_innych_kalibracji!P20*Eurostat!BR40^pomocniczo_do_innych_kalibracji!R20*Eurostat!BT40^pomocniczo_do_innych_kalibracji!T20*Eurostat!BV40^pomocniczo_do_innych_kalibracji!V20*Eurostat!BX40^pomocniczo_do_innych_kalibracji!X20*Eurostat!BZ40^pomocniczo_do_innych_kalibracji!Z20)^(1/(pomocniczo_do_innych_kalibracji!L20+pomocniczo_do_innych_kalibracji!N20+pomocniczo_do_innych_kalibracji!P20+pomocniczo_do_innych_kalibracji!R20+pomocniczo_do_innych_kalibracji!T20+pomocniczo_do_innych_kalibracji!V20+pomocniczo_do_innych_kalibracji!X20+pomocniczo_do_innych_kalibracji!Z20)))","v":4.5770422250232894},{"$f":"LN(Eurostat!E40)","v":4.5664293576716606},{"$f":"LN(Eurostat!D40)","v":4.5819015590487373},{"$f":"pomocniczo_do_innych_kalibracji!AC20-pomocniczo_do_innych_kalibracji!AC19","v":3.5030399657833833E-2},{"$f":"pomocniczo_do_innych_kalibracji!AD20-pomocniczo_do_innych_kalibracji!AD19","v":-2.6368359677064745E-5},{"$f":"pomocniczo_do_innych_kalibracji!AE20-pomocniczo_do_innych_kalibracji!AE19","v":-9.8673097145667299E-3},{"$f":"pomocniczo_do_innych_kalibracji!AF20-pomocniczo_do_innych_kalibracji!AF19","v":5.9564137751371149E-3},{"$f":"Eurostat!CC40/100","v":5.4400000000000004E-2},{"$f":"Eurostat!CB40/100","v":2.06E-2},{"$f":"LN(1/Eurostat!CD40)-LN(1/Eurostat!CD39)","v":-3.2579082166500628E-2}]
[{"$f":"Eurostat!A41","v":"2004Q2"},{"$f":"LN((Eurostat!BG41^pomocniczo_do_innych_kalibracji!I21*Eurostat!BI41^pomocniczo_do_innych_kalibracji!K21)^(1/(pomocniczo_do_innych_kalibracji!I21+pomocniczo_do_innych_kalibracji!K21)))","v":4.5750848767439463},{"$f":"LN((Eurostat!BM41^pomocniczo_do_innych_kalibracji!M21*Eurostat!BO41^pomocniczo_do_innych_kalibracji!O21*Eurostat!BQ41^pomocniczo_do_innych_kalibracji!Q21*Eurostat!BS41^pomocniczo_do_innych_kalibracji!S21*Eurostat!BU41^pomocniczo_do_innych_kalibracji!U21*Eurostat!BW41^pomocniczo_do_innych_kalibracji!W21*Eurostat!BY41^pomocniczo_do_innych_kalibracji!Y21*Eurostat!CA41^pomocniczo_do_innych_kalibracji!AA21)^(1/(pomocniczo_do_innych_kalibracji!M21+pomocniczo_do_innych_kalibracji!O21+pomocniczo_do_innych_kalibracji!Q21+pomocniczo_do_innych_kalibracji!S21+pomocniczo_do_innych_kalibracji!U21+pomocniczo_do_innych_kalibracji!W21+pomocniczo_do_innych_kalibracji!Y21+pomocniczo_do_innych_kalibracji!AA21)))","v":4.5656887285231367},{"$f":"LN((Eurostat!BF41^pomocniczo_do_innych_kalibracji!H21*Eurostat!BH41^pomocniczo_do_innych_kalibracji!J21)^(1/(pomocniczo_do_innych_kalibracji!H21+pomocniczo_do_innych_kalibracji!J21)))","v":4.602500437188179},{"$f":"LN((Eurostat!BL41^pomocniczo_do_innych_kalibracji!L21*Eurostat!BN41^pomocniczo_do_innych_kalibracji!N21*Eurostat!BP41^pomocniczo_do_innych_kalibracji!P21*Eurostat!BR41^pomocniczo_do_innych_kalibracji!R21*Eurostat!BT41^pomocniczo_do_innych_kalibracji!T21*Eurostat!BV41^pomocniczo_do_innych_kalibracji!V21*Eurostat!BX41^pomocniczo_do_innych_kalibracji!X21*Eurostat!BZ41^pomocniczo_do_innych_kalibracji!Z21)^(1/(pomocniczo_do_innych_kalibracji!L21+pomocniczo_do_innych_kalibracji!N21+pomocniczo_do_innych_kalibracji!P21+pomocniczo_do_innych_kalibracji!R21+pomocniczo_do_innych_kalibracji!T21+pomocniczo_do_innych_kalibracji!V21+pomocniczo_do_innych_kalibracji!X21+pomocniczo_do_innych_kalibracji!Z21)))","v":4.5834202744622106},{"$f":"LN(Eurostat!E41)","v":4.5736795188967205},{"$f":"LN(Eurostat!D41)","v":4.5859873665713176},{"$f":"pomocniczo_do_innych_kalibracji!AC21-pomocniczo_do_innych_kalibracji!AC20","v":3.5245064149493466E-2},{"$f":"pomocniczo_do_innych_kalibracji!AD21-pomocniczo_do_innych_kalibracji!AD20","v":2.383608017650829E-2},{"$f":"pomocniczo_do_innych_kalibracji!AE21-pomocniczo_do_innych_kalibracji!AE20","v":2.184446295752096E-4},{"$f":"pomocniczo_do_innych_kalibracji!AF21-pomocniczo_do_innych_kalibracji!AF20","v":6.2391482627921491E-3},{"$f":"Eurostat!CC41/100","v":5.8600000000000006E-2},{"$f":"Eurostat!CB41/100","v":2.0799999999999999E-2},{"$f":"LN(1/Eurostat!CD41)-LN(1/Eurostat!CD40)","v":1.8724131134931987E-2}]
[{"$f":"Eurostat!A42","v":"2004Q3"},{"$f":"LN((Eurostat!BG42^pomocniczo_do_innych_kalibracji!I22*Eurostat!BI42^pomocniczo_do_innych_kalibracji!K22)^(1/(pomocniczo_do_innych_kalibracji!I22+pomocniczo_do_innych_kalibracji!K22)))","v":4.5733498145154723},{"$f":"LN((Eurostat!BM42^pomocniczo_do_innych_kalibracji!M22*Eurostat!BO42^pomocniczo_do_innych_kalibracji!O22*Eurostat!BQ42^pomocniczo_do_innych_kalibracji!Q22*Eurostat!BS42^pomocniczo_do_innych_kalibracji!S22*Eurostat!BU42^pomocniczo_do_innych_kalibracji!U22*Eurostat!BW42^pomocniczo_do_innych_kalibracji!W22*Eurostat!BY42^pomocniczo_do_innych_kalibracji!Y22*Eurostat!CA42^pomocniczo_do_innych_kalibracji!AA22)^(1/(pomocniczo_do_innych_kalibracji!M22+pomocniczo_do_innych_kalibracji!O22+pomocniczo_do_innych_kalibracji!Q22+pomocniczo_do_innych_kalibracji!S22+pomocniczo_do_innych_kalibracji!U22+pomocniczo_do_innych_kalibracji!W22+pomocniczo_do_innych_kalibracji!Y22+pomocniczo_do_innych_kalibracji!AA22)))","v":4.5699022174504016},{"$f":"LN((Eurostat!BF42^pomocniczo_do_innych_kalibracji!H22*Eurostat!BH42^pomocniczo_do_innych_kalibracji!J22)^(1/(pomocniczo_do_innych_kalibracji!H22+pomocniczo_do_innych_kalibracji!J22)))","v":4.6025228195559507},{"$f":"LN((Eurostat!BL42^pomocniczo_do_innych_kalibracji!L22*Eurostat!BN42^pomocniczo_do_innych_kalibracji!N22*Eurostat!BP42^pomocniczo_do_innych_kalibracji!P22*Eurostat!BR42^pomocniczo_do_innych_kalibracji!R22*Eurostat!BT42^pomocniczo_do_innych_kalibracji!T22*Eurostat!BV42^pomocniczo_do_innych_kalibracji!V22*Eurostat!BX42^pomocniczo_do_innych_kalibracji!X22*Eurostat!BZ42^pomocniczo_do_innych_kalibracji!Z22)^(1/(pomocniczo_do_innych_kalibracji!L22+pomocniczo_do_innych_kalibracji!N22+pomocniczo_do_innych_kalibracji!P22+pomocniczo_do_innych_kalibracji!R22+pomocniczo_do_innych_kalibracji!T22+pomocniczo_do_innych_kalibracji!V22+pomocniczo_do_innych_kalibracji!X22+pomocniczo_do_innych_kalibracji!Z22)))","v":4.5876747219169403},{"$f":"LN(Eurostat!E42)","v":4.5757413752972793},{"$f":"LN(Eurostat!D42)","v":4.5890408040582074},{"$f":"pomocniczo_do_innych_kalibracji!AC22-pomocniczo_do_innych_kalibracji!AC21","v":1.8910796339046243E-2},{"$f":"pomocniczo_do_innych_kalibracji!AD22-pomocniczo_do_innych_kalibracji!AD21","v":8.1373366462456076E-3},{"$f":"pomocniczo_do_innych_kalibracji!AE22-pomocniczo_do_innych_kalibracji!AE21","v":1.0960431671005466E-3},{"$f":"pomocniczo_do_innych_kalibracji!AF22-pomocniczo_do_innych_kalibracji!AF21","v":1.9047253050219481E-3},{"$f":"Eurostat!CC42/100","v":6.6799999999999998E-2},{"$f":"Eurostat!CB42/100","v":2.12E-2},{"$f":"LN(1/Eurostat!CD42)-LN(1/Eurostat!CD41)","v":5.798821283393174E-2}]
[{"$f":"Eurostat!A43","v":"2004Q4"},{"$f":"LN((Eurostat!BG43^pomocniczo_do_innych_kalibracji!I23*Eurostat!BI43^pomocniczo_do_innych_kalibracji!K23)^(1/(pomocniczo_do_innych_kalibracji!I23+pomocniczo_do_innych_kalibracji!K23)))","v":4.5737072473554212},{"$f":"LN((Eurostat!BM43^pomocniczo_do_innych_kalibracji!M23*Eurostat!BO43^pomocniczo_do_innych_kalibracji!O23*Eurostat!BQ43^pomocniczo_do_innych_kalibracji!Q23*Eurostat!BS43^pomocniczo_do_innych_kalibracji!S23*Eurostat!BU43^pomocniczo_do_innych_kalibracji!U23*Eurostat!BW43^pomocniczo_do_innych_kalibracji!W23*Eurostat!BY43^pomocniczo_do_innych_kalibracji!Y23*Eurostat!CA43^pomocniczo_do_innych_kalibracji!AA23)^(1/(pomocniczo_do_innych_kalibracji!M23+pomocniczo_do_innych_kalibracji!O23+pomocniczo_do_innych_kalibracji!Q23+pomocniczo_do_innych_kalibracji!S23+pomocniczo_do_innych_kalibracji!U23+pomocniczo_do_innych_kalibracji!W23+pomocniczo_do_innych_kalibracji!Y23+pomocniczo_do_innych_kalibracji!AA23)))","v":4.588521436842508},{"$f":"LN((Eurostat!BF43^pomocniczo_do_innych_kalibracji!H23*Eurostat!BH43^pomocniczo_do_innych_kalibracji!J23)^(1/(pomocniczo_do_innych_kalibracji!H23+pomocniczo_do_innych_kalibracji!J23)))","v":4.6020068053205465},{"$f":"LN((Eurostat!BL43^pomocniczo_do_innych_kalibracji!L23*Eurostat!BN43^pomocniczo_do_innych_kalibracji!N23*Eurostat!BP43^pomocniczo_do_innych_kalibracji!P23*Eurostat!BR43^pomocniczo_do_innych_kalibracji!R23*Eurostat!BT43^pomocniczo_do_innych_kalibracji!T23*Eurostat!BV43^pomocniczo_do_innych_kalibracji!V23*Eurostat!BX43^pomocniczo_do_innych_kalibracji!X23*Eurostat!BZ43^pomocniczo_do_innych_kalibracji!Z23)^(1/(pomocniczo_do_innych_kalibracji!L23+pomocniczo_do_innych_kalibracji!N23+pomocniczo_do_innych_kalibracji!P23+pomocniczo_do_innych_kalibracji!R23+pomocniczo_do_innych_kalibracji!T23+pomocniczo_do_innych_kalibracji!V23+pomocniczo_do_innych_kalibracji!X23+pomocniczo_do_innych_kalibracji!Z23)))","v":4.5938899282696228},{"$f":"LN(Eurostat!E43)","v":4.5870062153604199},{"$f":"LN(Eurostat!D43)","v":4.5941092386286666},{"$f":"pomocniczo_do_innych_kalibracji!AC23-pomocniczo_do_innych_kalibracji!AC22","v":4.0927628523386161E-3},{"$f":"pomocniczo_do_innych_kalibracji!AD23-pomocniczo_do_innych_kalibracji!AD22","v":2.2903672998415558E-2},{"$f":"pomocniczo_do_innych_kalibracji!AE23-pomocniczo_do_innych_kalibracji!AE22","v":4.3196925751516346E-3},{"$f":"pomocniczo_do_innych_kalibracji!AF23-pomocniczo_do_innych_kalibracji!AF22","v":3.7279356057640101E-3},{"$f":"Eurostat!CC43/100","v":6.8099999999999994E-2},{"$f":"Eurostat!CB43/100","v":2.1600000000000001E-2},{"$f":"LN(1/Eurostat!CD43)-LN(1/Eurostat!CD42)","v":4.3759435966365334E-2}]
[{"$f":"Eurostat!A44","v":"2005Q1"},{"$f":"LN((Eurostat!BG44^pomocniczo_do_innych_kalibracji!I24*Eurostat!BI44^pomocniczo_do_innych_kalibracji!K24)^(1/(pomocniczo_do_innych_kalibracji!I24+pomocniczo_do_innych_kalibracji!K24)))","v":4.5771924780344486},{"$f":"LN((Eurostat!BM44^pomocniczo_do_innych_kalibracji!M24*Eurostat!BO44^pomocniczo_do_innych_kalibracji!O24*Eurostat!BQ44^pomocniczo_do_innych_kalibracji!Q24*Eurostat!BS44^pomocniczo_do_innych_kalibracji!S24*Eurostat!BU44^pomocniczo_do_innych_kalibracji!U24*Eurostat!BW44^pomocniczo_do_innych_kalibracji!W24*Eurostat!BY44^pomocniczo_do_innych_kalibracji!Y24*Eurostat!CA44^pomocniczo_do_innych_kalibracji!AA24)^(1/(pomocniczo_do_innych_kalibracji!M24+pomocniczo_do_innych_kalibracji!O24+pomocniczo_do_innych_kalibracji!Q24+pomocniczo_do_innych_kalibracji!S24+pomocniczo_do_innych_kalibracji!U24+pomocniczo_do_innych_kalibracji!W24+pomocniczo_do_innych_kalibracji!Y24+pomocniczo_do_innych_kalibracji!AA24)))","v":4.5847837941973255},{"$f":"LN((Eurostat!BF44^pomocniczo_do_innych_kalibracji!H24*Eurostat!BH44^pomocniczo_do_innych_kalibracji!J24)^(1/(pomocniczo_do_innych_kalibracji!H24+pomocniczo_do_innych_kalibracji!J24)))","v":4.5958873305671721},{"$f":"LN((Eurostat!BL44^pomocniczo_do_innych_kalibracji!L24*Eurostat!BN44^pomocniczo_do_innych_kalibracji!N24*Eurostat!BP44^pomocniczo_do_innych_kalibracji!P24*Eurostat!BR44^pomocniczo_do_innych_kalibracji!R24*Eurostat!BT44^pomocniczo_do_innych_kalibracji!T24*Eurostat!BV44^pomocniczo_do_innych_kalibracji!V24*Eurostat!BX44^pomocniczo_do_innych_kalibracji!X24*Eurostat!BZ44^pomocniczo_do_innych_kalibracji!Z24)^(1/(pomocniczo_do_innych_kalibracji!L24+pomocniczo_do_innych_kalibracji!N24+pomocniczo_do_innych_kalibracji!P24+pomocniczo_do_innych_kalibracji!R24+pomocniczo_do_innych_kalibracji!T24+pomocniczo_do_innych_kalibracji!V24+pomocniczo_do_innych_kalibracji!X24+pomocniczo_do_innych_kalibracji!Z24)))","v":4.5954692179488994},{"$f":"LN(Eurostat!E44)","v":4.5870062153604199},{"$f":"LN(Eurostat!D44)","v":4.5961294413359424},{"$f":"pomocniczo_do_innych_kalibracji!AC24-pomocniczo_do_innych_kalibracji!AC23","v":1.4459460922416234E-2},{"$f":"pomocniczo_do_innych_kalibracji!AD24-pomocniczo_do_innych_kalibracji!AD23","v":9.7741997091009836E-3},{"$f":"pomocniczo_do_innych_kalibracji!AE24-pomocniczo_do_innych_kalibracji!AE23","v":-2.3983514896803726E-3},{"$f":"pomocniczo_do_innych_kalibracji!AF24-pomocniczo_do_innych_kalibracji!AF23","v":7.7244584539215566E-3},{"$f":"Eurostat!CC44/100","v":6.4399999999999999E-2},{"$f":"Eurostat!CB44/100","v":2.1400000000000002E-2},{"$f":"LN(1/Eurostat!CD44)-LN(1/Eurostat!CD43)","v":5.0247226302711612E-2}]
[{"$f":"Eurostat!A45","v":"2005Q2"},{"$f":"LN((Eurostat!BG45^pomocniczo_do_innych_kalibracji!I25*Eurostat!BI45^pomocniczo_do_innych_kalibracji!K25)^(1/(pomocniczo_do_innych_kalibracji!I25+pomocniczo_do_innych_kalibracji!K25)))","v":4.5982587089862275},{"$f":"LN((Eurostat!BM45^pomocniczo_do_innych_kalibracji!M25*Eurostat!BO45^pomocniczo_do_innych_kalibracji!O25*Eurostat!BQ45^pomocniczo_do_innych_kalibracji!Q25*Eurostat!BS45^pomocniczo_do_innych_kalibracji!S25*Eurostat!BU45^pomocniczo_do_innych_kalibracji!U25*Eurostat!BW45^pomocniczo_do_innych_kalibracji!W25*Eurostat!BY45^pomocniczo_do_innych_kalibracji!Y25*Eurostat!CA45^pomocniczo_do_innych_kalibracji!AA25)^(1/(pomocniczo_do_innych_kalibracji!M25+pomocniczo_do_innych_kalibracji!O25+pomocniczo_do_innych_kalibracji!Q25+pomocniczo_do_innych_kalibracji!S25+pomocniczo_do_innych_kalibracji!U25+pomocniczo_do_innych_kalibracji!W25+pomocniczo_do_innych_kalibracji!Y25+pomocniczo_do_innych_kalibracji!AA25)))","v":4.6077098975061599},{"$f":"LN((Eurostat!BF45^pomocniczo_do_innych_kalibracji!H25*Eurostat!BH45^pomocniczo_do_innych_kalibracji!J25)^(1/(pomocniczo_do_innych_kalibracji!H25+pomocniczo_do_innych_kalibracji!J25)))","v":4.601685380856698},{"$f":"LN((Eurostat!BL45^pomocniczo_do_innych_kalibracji!L25*Eurostat!BN45^pomocniczo_do_innych_kalibracji!N25*Eurostat!BP45^pomocniczo_do_innych_kalibracji!P25*Eurostat!BR45^pomocniczo_do_innych_kalibracji!R25*Eurostat!BT45^pomocniczo_do_innych_kalibracji!T25*Eurostat!BV45^pomocniczo_do_innych_kalibracji!V25*Eurostat!BX45^pomocniczo_do_innych_kalibracji!X25*Eurostat!BZ45^pomocniczo_do_innych_kalibracji!Z25)^(1/(pomocniczo_do_innych_kalibracji!L25+pomocniczo_do_innych_kalibracji!N25+pomocniczo_do_innych_kalibracji!P25+pomocniczo_do_innych_kalibracji!R25+pomocniczo_do_innych_kalibracji!T25+pomocniczo_do_innych_kalibracji!V25+pomocniczo_do_innych_kalibracji!X25+pomocniczo_do_innych_kalibracji!Z25)))","v":4.6015716337962056},{"$f":"LN(Eurostat!E45)","v":4.6001576441645469},{"$f":"LN(Eurostat!D45)","v":4.6031681833174183},{"$f":"pomocniczo_do_innych_kalibracji!AC25-pomocniczo_do_innych_kalibracji!AC24","v":-9.2396021123674288E-2},{"$f":"pomocniczo_do_innych_kalibracji!AD25-pomocniczo_do_innych_kalibracji!AD24","v":-1.8967595339591803E-2},{"$f":"pomocniczo_do_innych_kalibracji!AE25-pomocniczo_do_innych_kalibracji!AE24","v":-2.1344425911822285E-3},{"$f":"pomocniczo_do_innych_kalibracji!AF25-pomocniczo_do_innych_kalibracji!AF24","v":2.82728156909684E-3},{"$f":"Eurostat!CC45/100","v":5.4900000000000004E-2},{"$f":"Eurostat!CB45/100","v":2.12E-2},{"$f":"LN(1/Eurostat!CD45)-LN(1/Eurostat!CD44)","v":-2.5354437804879115E-2}]
[{"$f":"Eurostat!A46","v":"2005Q3"},{"$f":"LN((Eurostat!BG46^pomocniczo_do_innych_kalibracji!I26*Eurostat!BI46^pomocniczo_do_innych_kalibracji!K26)^(1/(pomocniczo_do_innych_kalibracji!I26+pomocniczo_do_innych_kalibracji!K26)))","v":4.6111242343387486},{"$f":"LN((Eurostat!BM46^pomocniczo_do_innych_kalibracji!M26*Eurostat!BO46^pomocniczo_do_innych_kalibracji!O26*Eurostat!BQ46^pomocniczo_do_innych_kalibracji!Q26*Eurostat!BS46^pomocniczo_do_innych_kalibracji!S26*Eurostat!BU46^pomocniczo_do_innych_kalibracji!U26*Eurostat!BW46^pomocniczo_do_innych_kalibracji!W26*Eurostat!BY46^pomocniczo_do_innych_kalibracji!Y26*Eurostat!CA46^pomocniczo_do_innych_kalibracji!AA26)^(1/(pomocniczo_do_innych_kalibracji!M26+pomocniczo_do_innych_kalibracji!O26+pomocniczo_do_innych_kalibracji!Q26+pomocniczo_do_innych_kalibracji!S26+pomocniczo_do_innych_kalibracji!U26+pomocniczo_do_innych_kalibracji!W26+pomocniczo_do_innych_kalibracji!Y26+pomocniczo_do_innych_kalibracji!AA26)))","v":4.6104375892018092},{"$f":"LN((Eurostat!BF46^pomocniczo_do_innych_kalibracji!H26*Eurostat!BH46^pomocniczo_do_innych_kalibracji!J26)^(1/(pomocniczo_do_innych_kalibracji!H26+pomocniczo_do_innych_kalibracji!J26)))","v":4.6091341233036598},{"$f":"LN((Eurostat!BL46^pomocniczo_do_innych_kalibracji!L26*Eurostat!BN46^pomocniczo_do_innych_kalibracji!N26*Eurostat!BP46^pomocniczo_do_innych_kalibracji!P26*Eurostat!BR46^pomocniczo_do_innych_kalibracji!R26*Eurostat!BT46^pomocniczo_do_innych_kalibracji!T26*Eurostat!BV46^pomocniczo_do_innych_kalibracji!V26*Eurostat!BX46^pomocniczo_do_innych_kalibracji!X26*Eurostat!BZ46^pomocniczo_do_innych_kalibracji!Z26)^(1/(pomocniczo_do_innych_kalibracji!L26+pomocniczo_do_innych_kalibracji!N26+pomocniczo_do_innych_kalibracji!P26+pomocniczo_do_innych_kalibracji!R26+pomocniczo_do_innych_kalibracji!T26+pomocniczo_do_innych_kalibracji!V26+pomocniczo_do_innych_kalibracji!X26+pomocniczo_do_innych_kalibracji!Z26)))","v":4.6081486908109355},{"$f":"LN(Eurostat!E46)","v":4.6111522576656387},{"$f":"LN(Eurostat!D46)","v":4.6091622072576293},{"$f":"pomocniczo_do_innych_kalibracji!AC26-pomocniczo_do_innych_kalibracji!AC25","v":2.9454732289527108E-2},{"$f":"pomocniczo_do_innych_kalibracji!AD26-pomocniczo_do_innych_kalibracji!AD25","v":1.4856127164228461E-2},{"$f":"pomocniczo_do_innych_kalibracji!AE26-pomocniczo_do_innych_kalibracji!AE25","v":-3.0370482787933639E-4},{"$f":"pomocniczo_do_innych_kalibracji!AF26-pomocniczo_do_innych_kalibracji!AF25","v":2.7997067929304009E-3},{"$f":"Eurostat!CC46/100","v":4.6199999999999998E-2},{"$f":"Eurostat!CB46/100","v":2.1299999999999999E-2},{"$f":"LN(1/Eurostat!CD46)-LN(1/Eurostat!CD45)","v":2.7368036486554503E-2}]
[{"$f":"Eurostat!A47","v":"2005Q4"},{"$f":"LN((Eurostat!BG47^pomocniczo_do_innych_kalibracji!I27*Eurostat!BI47^pomocniczo_do_innych_kalibracji!K27)^(1/(pomocniczo_do_innych_kalibracji!I27+pomocniczo_do_innych_kalibracji!K27)))","v":4.6333902025021612},{"$f":"LN((Eurostat!BM47^pomocniczo_do_innych_kalibracji!M27*Eurostat!BO47^pomocniczo_do_innych_kalibracji!O27*Eurostat!BQ47^pomocniczo_do_innych_kalibracji!Q27*Eurostat!BS47^pomocniczo_do_innych_kalibracji!S27*Eurostat!BU47^pomocniczo_do_innych_kalibracji!U27*Eurostat!BW47^pomocniczo_do_innych_kalibracji!W27*Eurostat!BY47^pomocniczo_do_innych_kalibracji!Y27*Eurostat!CA47^pomocniczo_do_innych_kalibracji!AA27)^(1/(pomocniczo_do_innych_kalibracji!M27+pomocniczo_do_innych_kalibracji!O27+pomocniczo_do_innych_kalibracji!Q27+pomocniczo_do_innych_kalibracji!S27+pomocniczo_do_innych_kalibracji!U27+pomocniczo_do_innych_kalibracji!W27+pomocniczo_do_innych_kalibracji!Y27+pomocniczo_do_innych_kalibracji!AA27)))","v":4.6173096719254199},{"$f":"LN((Eurostat!BF47^pomocniczo_do_innych_kalibracji!H27*Eurostat!BH47^pomocniczo_do_innych_kalibracji!J27)^(1/(pomocniczo_do_innych_kalibracji!H27+pomocniczo_do_innych_kalibracji!J27)))","v":4.6131028193719965},{"$f":"LN((Eurostat!BL47^pomocniczo_do_innych_kalibracji!L27*Eurostat!BN47^pomocniczo_do_innych_kalibracji!N27*Eurostat!BP47^pomocniczo_do_innych_kalibracji!P27*Eurostat!BR47^pomocniczo_do_innych_kalibracji!R27*Eurostat!BT47^pomocniczo_do_innych_kalibracji!T27*Eurostat!BV47^pomocniczo_do_innych_kalibracji!V27*Eurostat!BX47^pomocniczo_do_innych_kalibracji!X27*Eurostat!BZ47^pomocniczo_do_innych_kalibracji!Z27)^(1/(pomocniczo_do_innych_kalibracji!L27+pomocniczo_do_innych_kalibracji!N27+pomocniczo_do_innych_kalibracji!P27+pomocniczo_do_innych_kalibracji!R27+pomocniczo_do_innych_kalibracji!T27+pomocniczo_do_innych_kalibracji!V27+pomocniczo_do_innych_kalibracji!X27+pomocniczo_do_innych_kalibracji!Z27)))","v":4.6151503749664391},{"$f":"LN(Eurostat!E47)","v":4.623010104116422},{"$f":"LN(Eurostat!D47)","v":4.6121457997245168},{"$f":"pomocniczo_do_innych_kalibracji!AC27-pomocniczo_do_innych_kalibracji!AC26","v":1.3664144667601796E-2},{"$f":"pomocniczo_do_innych_kalibracji!AD27-pomocniczo_do_innych_kalibracji!AD26","v":9.8666838860177464E-3},{"$f":"pomocniczo_do_innych_kalibracji!AE27-pomocniczo_do_innych_kalibracji!AE26","v":2.4785879569515501E-3},{"$f":"pomocniczo_do_innych_kalibracji!AF27-pomocniczo_do_innych_kalibracji!AF26","v":5.6076679888921177E-3},{"$f":"Eurostat!CC47/100","v":4.5999999999999999E-2},{"$f":"Eurostat!CB47/100","v":2.3399999999999997E-2},{"$f":"LN(1/Eurostat!CD47)-LN(1/Eurostat!CD46)","v":2.6067169562045578E-2}]
[{"$f":"Eurostat!A48","v":"2006Q1"},{"$f":"LN((Eurostat!BG48^pomocniczo_do_innych_kalibracji!I28*Eurostat!BI48^pomocniczo_do_innych_kalibracji!K28)^(1/(pomocniczo_do_innych_kalibracji!I28+pomocniczo_do_innych_kalibracji!K28)))","v":4.663704914625268},{"$f":"LN((Eurostat!BM48^pomocniczo_do_innych_kalibracji!M28*Eurostat!BO48^pomocniczo_do_innych_kalibracji!O28*Eurostat!BQ48^pomocniczo_do_innych_kalibracji!Q28*Eurostat!BS48^pomocniczo_do_innych_kalibracji!S28*Eurostat!BU48^pomocniczo_do_innych_kalibracji!U28*Eurostat!BW48^pomocniczo_do_innych_kalibracji!W28*Eurostat!BY48^pomocniczo_do_innych_kalibracji!Y28*Eurostat!CA48^pomocniczo_do_innych_kalibracji!AA28)^(1/(pomocniczo_do_innych_kalibracji!M28+pomocniczo_do_innych_kalibracji!O28+pomocniczo_do_innych_kalibracji!Q28+pomocniczo_do_innych_kalibracji!S28+pomocniczo_do_innych_kalibracji!U28+pomocniczo_do_innych_kalibracji!W28+pomocniczo_do_innych_kalibracji!Y28+pomocniczo_do_innych_kalibracji!AA28)))","v":4.6352189219290931},{"$f":"LN((Eurostat!BF48^pomocniczo_do_innych_kalibracji!H28*Eurostat!BH48^pomocniczo_do_innych_kalibracji!J28)^(1/(pomocniczo_do_innych_kalibracji!H28+pomocniczo_do_innych_kalibracji!J28)))","v":4.6252869316683682},{"$f":"LN((Eurostat!BL48^pomocniczo_do_innych_kalibracji!L28*Eurostat!BN48^pomocniczo_do_innych_kalibracji!N28*Eurostat!BP48^pomocniczo_do_innych_kalibracji!P28*Eurostat!BR48^pomocniczo_do_innych_kalibracji!R28*Eurostat!BT48^pomocniczo_do_innych_kalibracji!T28*Eurostat!BV48^pomocniczo_do_innych_kalibracji!V28*Eurostat!BX48^pomocniczo_do_innych_kalibracji!X28*Eurostat!BZ48^pomocniczo_do_innych_kalibracji!Z28)^(1/(pomocniczo_do_innych_kalibracji!L28+pomocniczo_do_innych_kalibracji!N28+pomocniczo_do_innych_kalibracji!P28+pomocniczo_do_innych_kalibracji!R28+pomocniczo_do_innych_kalibracji!T28+pomocniczo_do_innych_kalibracji!V28+pomocniczo_do_innych_kalibracji!X28+pomocniczo_do_innych_kalibracji!Z28)))","v":4.6216432461106098},{"$f":"LN(Eurostat!E48)","v":4.6366688530474622},{"$f":"LN(Eurostat!D48)","v":4.6200587984818418},{"$f":"pomocniczo_do_innych_kalibracji!AC28-pomocniczo_do_innych_kalibracji!AC27","v":-1.6003433028885183E-2},{"$f":"pomocniczo_do_innych_kalibracji!AD28-pomocniczo_do_innych_kalibracji!AD27","v":-4.0678211554334709E-3},{"$f":"pomocniczo_do_innych_kalibracji!AE28-pomocniczo_do_innych_kalibracji!AE27","v":1.4042866305752355E-3},{"$f":"pomocniczo_do_innych_kalibracji!AF28-pomocniczo_do_innych_kalibracji!AF27","v":1.0009352439759311E-3},{"$f":"Eurostat!CC48/100","v":4.2900000000000001E-2},{"$f":"Eurostat!CB48/100","v":2.6099999999999998E-2},{"$f":"LN(1/Eurostat!CD48)-LN(1/Eurostat!CD47)","v":2.0801286804116081E-2}]
[{"$f":"Eurostat!A49","v":"2006Q2"},{"$f":"LN((Eurostat!BG49^pomocniczo_do_innych_kalibracji!I29*Eurostat!BI49^pomocniczo_do_innych_kalibracji!K29)^(1/(pomocniczo_do_innych_kalibracji!I29+pomocniczo_do_innych_kalibracji!K29)))","v":4.6656512148171787},{"$f":"LN((Eurostat!BM49^pomocniczo_do_innych_kalibracji!M29*Eurostat!BO49^pomocniczo_do_innych_kalibracji!O29*Eurostat!BQ49^pomocniczo_do_innych_kalibracji!Q29*Eurostat!BS49^pomocniczo_do_innych_kalibracji!S29*Eurostat!BU49^pomocniczo_do_innych_kalibracji!U29*Eurostat!BW49^pomocniczo_do_innych_kalibracji!W29*Eurostat!BY49^pomocniczo_do_innych_kalibracji!Y29*Eurostat!CA49^pomocniczo_do_innych_kalibracji!AA29)^(1/(pomocniczo_do_innych_kalibracji!M29+pomocniczo_do_innych_kalibracji!O29+pomocniczo_do_innych_kalibracji!Q29+pomocniczo_do_innych_kalibracji!S29+pomocniczo_do_innych_kalibracji!U29+pomocniczo_do_innych_kalibracji!W29+pomocniczo_do_innych_kalibracji!Y29+pomocniczo_do_innych_kalibracji!AA29)))","v":4.6483509990917451},{"$f":"LN((Eurostat!BF49^pomocniczo_do_innych_kalibracji!H29*Eurostat!BH49^pomocniczo_do_innych_kalibracji!J29)^(1/(pomocniczo_do_innych_kalibracji!H29+pomocniczo_do_innych_kalibracji!J29)))","v":4.6389653335944709},{"$f":"LN((Eurostat!BL49^pomocniczo_do_innych_kalibracji!L29*Eurostat!BN49^pomocniczo_do_innych_kalibracji!N29*Eurostat!BP49^pomocniczo_do_innych_kalibracji!P29*Eurostat!BR49^pomocniczo_do_innych_kalibracji!R29*Eurostat!BT49^pomocniczo_do_innych_kalibracji!T29*Eurostat!BV49^pomocniczo_do_innych_kalibracji!V29*Eurostat!BX49^pomocniczo_do_innych_kalibracji!X29*Eurostat!BZ49^pomocniczo_do_innych_kalibracji!Z29)^(1/(pomocniczo_do_innych_kalibracji!L29+pomocniczo_do_innych_kalibracji!N29+pomocniczo_do_innych_kalibracji!P29+pomocniczo_do_innych_kalibracji!R29+pomocniczo_do_innych_kalibracji!T29+pomocniczo_do_innych_kalibracji!V29+pomocniczo_do_innych_kalibracji!X29+pomocniczo_do_innych_kalibracji!Z29)))","v":4.633653801154419},{"$f":"LN(Eurostat!E49)","v":4.6501435516308227},{"$f":"LN(Eurostat!D49)","v":4.6249728132842707},{"$f":"pomocniczo_do_innych_kalibracji!AC29-pomocniczo_do_innych_kalibracji!AC28","v":1.7026285959178544E-2},{"$f":"pomocniczo_do_innych_kalibracji!AD29-pomocniczo_do_innych_kalibracji!AD28","v":1.6445493725186111E-2},{"$f":"pomocniczo_do_innych_kalibracji!AE29-pomocniczo_do_innych_kalibracji!AE28","v":1.9918735368547047E-3},{"$f":"pomocniczo_do_innych_kalibracji!AF29-pomocniczo_do_innych_kalibracji!AF28","v":5.7019835982892175E-3},{"$f":"Eurostat!CC49/100","v":4.1500000000000002E-2},{"$f":"Eurostat!CB49/100","v":2.8900000000000002E-2},{"$f":"LN(1/Eurostat!CD49)-LN(1/Eurostat!CD48)","v":-2.9194651947276551E-2}]
[{"$f":"Eurostat!A50","v":"2006Q3"},{"$f":"LN((Eurostat!BG50^pomocniczo_do_innych_kalibracji!I30*Eurostat!BI50^pomocniczo_do_innych_kalibracji!K30)^(1/(pomocniczo_do_innych_kalibracji!I30+pomocniczo_do_innych_kalibracji!K30)))","v":4.682879108729729},{"$f":"LN((Eurostat!BM50^pomocniczo_do_innych_kalibracji!M30*Eurostat!BO50^pomocniczo_do_innych_kalibracji!O30*Eurostat!BQ50^pomocniczo_do_innych_kalibracji!Q30*Eurostat!BS50^pomocniczo_do_innych_kalibracji!S30*Eurostat!BU50^pomocniczo_do_innych_kalibracji!U30*Eurostat!BW50^pomocniczo_do_innych_kalibracji!W30*Eurostat!BY50^pomocniczo_do_innych_kalibracji!Y30*Eurostat!CA50^pomocniczo_do_innych_kalibracji!AA30)^(1/(pomocniczo_do_innych_kalibracji!M30+pomocniczo_do_innych_kalibracji!O30+pomocniczo_do_innych_kalibracji!Q30+pomocniczo_do_innych_kalibracji!S30+pomocniczo_do_innych_kalibracji!U30+pomocniczo_do_innych_kalibracji!W30+pomocniczo_do_innych_kalibracji!Y30+pomocniczo_do_innych_kalibracji!AA30)))","v":4.6686293858126948},{"$f":"LN((Eurostat!BF50^pomocniczo_do_innych_kalibracji!H30*Eurostat!BH50^pomocniczo_do_innych_kalibracji!J30)^(1/(pomocniczo_do_innych_kalibracji!H30+pomocniczo_do_innych_kalibracji!J30)))","v":4.6449171814309125},{"$f":"LN((Eurostat!BL50^pomocniczo_do_innych_kalibracji!L30*Eurostat!BN50^pomocniczo_do_innych_kalibracji!N30*Eurostat!BP50^pomocniczo_do_innych_kalibracji!P30*Eurostat!BR50^pomocniczo_do_innych_kalibracji!R30*Eurostat!BT50^pomocniczo_do_innych_kalibracji!T30*Eurostat!BV50^pomocniczo_do_innych_kalibracji!V30*Eurostat!BX50^pomocniczo_do_innych_kalibracji!X30*Eurostat!BZ50^pomocniczo_do_innych_kalibracji!Z30)^(1/(pomocniczo_do_innych_kalibracji!L30+pomocniczo_do_innych_kalibracji!N30+pomocniczo_do_innych_kalibracji!P30+pomocniczo_do_innych_kalibracji!R30+pomocniczo_do_innych_kalibracji!T30+pomocniczo_do_innych_kalibracji!V30+pomocniczo_do_innych_kalibracji!X30+pomocniczo_do_innych_kalibracji!Z30)))","v":4.6411912590229401},{"$f":"LN(Eurostat!E50)","v":4.664382045619937},{"$f":"LN(Eurostat!D50)","v":4.6269316777696039},{"$f":"pomocniczo_do_innych_kalibracji!AC30-pomocniczo_do_innych_kalibracji!AC29","v":-7.2304483929972463E-3},{"$f":"pomocniczo_do_innych_kalibracji!AD30-pomocniczo_do_innych_kalibracji!AD29","v":3.2144818429191702E-3},{"$f":"pomocniczo_do_innych_kalibracji!AE30-pomocniczo_do_innych_kalibracji!AE29","v":7.8494847031027604E-3},{"$f":"pomocniczo_do_innych_kalibracji!AF30-pomocniczo_do_innych_kalibracji!AF29","v":3.2936020494984675E-3},{"$f":"Eurostat!CC50/100","v":4.2000000000000003E-2},{"$f":"Eurostat!CB50/100","v":3.2199999999999999E-2},{"$f":"LN(1/Eurostat!CD50)-LN(1/Eurostat!CD49)","v":-1.392070486385677E-3}]
[{"$f":"Eurostat!A51","v":"2006Q4"},{"$f":"LN((Eurostat!BG51^pomocniczo_do_innych_kalibracji!I31*Eurostat!BI51^pomocniczo_do_innych_kalibracji!K31)^(1/(pomocniczo_do_innych_kalibracji!I31+pomocniczo_do_innych_kalibracji!K31)))","v":4.7021164189304621},{"$f":"LN((Eurostat!BM51^pomocniczo_do_innych_kalibracji!M31*Eurostat!BO51^pomocniczo_do_innych_kalibracji!O31*Eurostat!BQ51^pomocniczo_do_innych_kalibracji!Q31*Eurostat!BS51^pomocniczo_do_innych_kalibracji!S31*Eurostat!BU51^pomocniczo_do_innych_kalibracji!U31*Eurostat!BW51^pomocniczo_do_innych_kalibracji!W31*Eurostat!BY51^pomocniczo_do_innych_kalibracji!Y31*Eurostat!CA51^pomocniczo_do_innych_kalibracji!AA31)^(1/(pomocniczo_do_innych_kalibracji!M31+pomocniczo_do_innych_kalibracji!O31+pomocniczo_do_innych_kalibracji!Q31+pomocniczo_do_innych_kalibracji!S31+pomocniczo_do_innych_kalibracji!U31+pomocniczo_do_innych_kalibracji!W31+pomocniczo_do_innych_kalibracji!Y31+pomocniczo_do_innych_kalibracji!AA31)))","v":4.6785344776945754},{"$f":"LN((Eurostat!BF51^pomocniczo_do_innych_kalibracji!H31*Eurostat!BH51^pomocniczo_do_innych_kalibracji!J31)^(1/(pomocniczo_do_innych_kalibracji!H31+pomocniczo_do_innych_kalibracji!J31)))","v":4.6558338151268686},{"$f":"LN((Eurostat!BL51^pomocniczo_do_innych_kalibracji!L31*Eurostat!BN51^pomocniczo_do_innych_kalibracji!N31*Eurostat!BP51^pomocniczo_do_innych_kalibracji!P31*Eurostat!BR51^pomocniczo_do_innych_kalibracji!R31*Eurostat!BT51^pomocniczo_do_innych_kalibracji!T31*Eurostat!BV51^pomocniczo_do_innych_kalibracji!V31*Eurostat!BX51^pomocniczo_do_innych_kalibracji!X31*Eurostat!BZ51^pomocniczo_do_innych_kalibracji!Z31)^(1/(pomocniczo_do_innych_kalibracji!L31+pomocniczo_do_innych_kalibracji!N31+pomocniczo_do_innych_kalibracji!P31+pomocniczo_do_innych_kalibracji!R31+pomocniczo_do_innych_kalibracji!T31+pomocniczo_do_innych_kalibracji!V31+pomocniczo_do_innych_kalibracji!X31+pomocniczo_do_innych_kalibracji!Z31)))","v":4.6521250870353539},{"$f":"LN(Eurostat!E51)","v":4.6746962486367014},{"$f":"LN(Eurostat!D51)","v":4.6347289882296359},{"$f":"pomocniczo_do_innych_kalibracji!AC31-pomocniczo_do_innych_kalibracji!AC30","v":-8.6054794624512709E-4},{"$f":"pomocniczo_do_innych_kalibracji!AD31-pomocniczo_do_innych_kalibracji!AD30","v":1.2546497836260606E-2},{"$f":"pomocniczo_do_innych_kalibracji!AE31-pomocniczo_do_innych_kalibracji!AE30","v":2.8275650251323725E-3},{"$f":"pomocniczo_do_innych_kalibracji!AF31-pomocniczo_do_innych_kalibracji!AF30","v":3.7616139321681175E-3},{"$f":"Eurostat!CC51/100","v":4.2000000000000003E-2},{"$f":"Eurostat!CB51/100","v":3.5900000000000001E-2},{"$f":"LN(1/Eurostat!CD51)-LN(1/Eurostat!CD50)","v":2.7150292935080866E-2}]
[{"$f":"Eurostat!A52","v":"2007Q1"},{"$f":"LN((Eurostat!BG52^pomocniczo_do_innych_kalibracji!I32*Eurostat!BI52^pomocniczo_do_innych_kalibracji!K32)^(1/(pomocniczo_do_innych_kalibracji!I32+pomocniczo_do_innych_kalibracji!K32)))","v":4.7147507612782018},{"$f":"LN((Eurostat!BM52^pomocniczo_do_innych_kalibracji!M32*Eurostat!BO52^pomocniczo_do_innych_kalibracji!O32*Eurostat!BQ52^pomocniczo_do_innych_kalibracji!Q32*Eurostat!BS52^pomocniczo_do_innych_kalibracji!S32*Eurostat!BU52^pomocniczo_do_innych_kalibracji!U32*Eurostat!BW52^pomocniczo_do_innych_kalibracji!W32*Eurostat!BY52^pomocniczo_do_innych_kalibracji!Y32*Eurostat!CA52^pomocniczo_do_innych_kalibracji!AA32)^(1/(pomocniczo_do_innych_kalibracji!M32+pomocniczo_do_innych_kalibracji!O32+pomocniczo_do_innych_kalibracji!Q32+pomocniczo_do_innych_kalibracji!S32+pomocniczo_do_innych_kalibracji!U32+pomocniczo_do_innych_kalibracji!W32+pomocniczo_do_innych_kalibracji!Y32+pomocniczo_do_innych_kalibracji!AA32)))","v":4.7016059337800096},{"$f":"LN((Eurostat!BF52^pomocniczo_do_innych_kalibracji!H32*Eurostat!BH52^pomocniczo_do_innych_kalibracji!J32)^(1/(pomocniczo_do_innych_kalibracji!H32+pomocniczo_do_innych_kalibracji!J32)))","v":4.6687528836939283},{"$f":"LN((Eurostat!BL52^pomocniczo_do_innych_kalibracji!L32*Eurostat!BN52^pomocniczo_do_innych_kalibracji!N32*Eurostat!BP52^pomocniczo_do_innych_kalibracji!P32*Eurostat!BR52^pomocniczo_do_innych_kalibracji!R32*Eurostat!BT52^pomocniczo_do_innych_kalibracji!T32*Eurostat!BV52^pomocniczo_do_innych_kalibracji!V32*Eurostat!BX52^pomocniczo_do_innych_kalibracji!X32*Eurostat!BZ52^pomocniczo_do_innych_kalibracji!Z32)^(1/(pomocniczo_do_innych_kalibracji!L32+pomocniczo_do_innych_kalibracji!N32+pomocniczo_do_innych_kalibracji!P32+pomocniczo_do_innych_kalibracji!R32+pomocniczo_do_innych_kalibracji!T32+pomocniczo_do_innych_kalibracji!V32+pomocniczo_do_innych_kalibracji!X32+pomocniczo_do_innych_kalibracji!Z32)))","v":4.6608500973830012},{"$f":"LN(Eurostat!E52)","v":4.6885917941271638},{"$f":"LN(Eurostat!D52)","v":4.6366688530474622},{"$f":"pomocniczo_do_innych_kalibracji!AC32-pomocniczo_do_innych_kalibracji!AC31","v":2.5667996794207504E-2},{"$f":"pomocniczo_do_innych_kalibracji!AD32-pomocniczo_do_innych_kalibracji!AD31","v":1.2327618307810262E-2},{"$f":"pomocniczo_do_innych_kalibracji!AE32-pomocniczo_do_innych_kalibracji!AE31","v":-4.3453641382296126E-4},{"$f":"pomocniczo_do_innych_kalibracji!AF32-pomocniczo_do_innych_kalibracji!AF31","v":6.7545841282798946E-3},{"$f":"Eurostat!CC52/100","v":4.2099999999999999E-2},{"$f":"Eurostat!CB52/100","v":3.8199999999999998E-2},{"$f":"LN(1/Eurostat!CD52)-LN(1/Eurostat!CD51)","v":-9.955991780597806E-3}]
[{"$f":"Eurostat!A53","v":"2007Q2"},{"$f":"LN((Eurostat!BG53^pomocniczo_do_innych_kalibracji!I33*Eurostat!BI53^pomocniczo_do_innych_kalibracji!K33)^(1/(pomocniczo_do_innych_kalibracji!I33+pomocniczo_do_innych_kalibracji!K33)))","v":4.7433865448318233},{"$f":"LN((Eurostat!BM53^pomocniczo_do_innych_kalibracji!M33*Eurostat!BO53^pomocniczo_do_innych_kalibracji!O33*Eurostat!BQ53^pomocniczo_do_innych_kalibracji!Q33*Eurostat!BS53^pomocniczo_do_innych_kalibracji!S33*Eurostat!BU53^pomocniczo_do_innych_kalibracji!U33*Eurostat!BW53^pomocniczo_do_innych_kalibracji!W33*Eurostat!BY53^pomocniczo_do_innych_kalibracji!Y33*Eurostat!CA53^pomocniczo_do_innych_kalibracji!AA33)^(1/(pomocniczo_do_innych_kalibracji!M33+pomocniczo_do_innych_kalibracji!O33+pomocniczo_do_innych_kalibracji!Q33+pomocniczo_do_innych_kalibracji!S33+pomocniczo_do_innych_kalibracji!U33+pomocniczo_do_innych_kalibracji!W33+pomocniczo_do_innych_kalibracji!Y33+pomocniczo_do_innych_kalibracji!AA33)))","v":4.7085698961445246},{"$f":"LN((Eurostat!BF53^pomocniczo_do_innych_kalibracji!H33*Eurostat!BH53^pomocniczo_do_innych_kalibracji!J33)^(1/(pomocniczo_do_innych_kalibracji!H33+pomocniczo_do_innych_kalibracji!J33)))","v":4.6770099303960944},{"$f":"LN((Eurostat!BL53^pomocniczo_do_innych_kalibracji!L33*Eurostat!BN53^pomocniczo_do_innych_kalibracji!N33*Eurostat!BP53^pomocniczo_do_innych_kalibracji!P33*Eurostat!BR53^pomocniczo_do_innych_kalibracji!R33*Eurostat!BT53^pomocniczo_do_innych_kalibracji!T33*Eurostat!BV53^pomocniczo_do_innych_kalibracji!V33*Eurostat!BX53^pomocniczo_do_innych_kalibracji!X33*Eurostat!BZ53^pomocniczo_do_innych_kalibracji!Z33)^(1/(pomocniczo_do_innych_kalibracji!L33+pomocniczo_do_innych_kalibracji!N33+pomocniczo_do_innych_kalibracji!P33+pomocniczo_do_innych_kalibracji!R33+pomocniczo_do_innych_kalibracji!T33+pomocniczo_do_innych_kalibracji!V33+pomocniczo_do_innych_kalibracji!X33+pomocniczo_do_innych_kalibracji!Z33)))","v":4.6659785485404504},{"$f":"LN(Eurostat!E53)","v":4.697749367281185},{"$f":"LN(Eurostat!D53)","v":4.6424659707317879},{"$f":"pomocniczo_do_innych_kalibracji!AC33-pomocniczo_do_innych_kalibracji!AC32","v":-8.4389939126587876E-3},{"$f":"pomocniczo_do_innych_kalibracji!AD33-pomocniczo_do_innych_kalibracji!AD32","v":1.0689428448714011E-2},{"$f":"pomocniczo_do_innych_kalibracji!AE33-pomocniczo_do_innych_kalibracji!AE32","v":8.9258288930302854E-3},{"$f":"pomocniczo_do_innych_kalibracji!AF33-pomocniczo_do_innych_kalibracji!AF32","v":5.6496988272281001E-3},{"$f":"Eurostat!CC53/100","v":4.4199999999999996E-2},{"$f":"Eurostat!CB53/100","v":4.0599999999999997E-2},{"$f":"LN(1/Eurostat!CD53)-LN(1/Eurostat!CD52)","v":2.2324911157374894E-2}]
[{"$f":"Eurostat!A54","v":"2007Q3"},{"$f":"LN((Eurostat!BG54^pomocniczo_do_innych_kalibracji!I34*Eurostat!BI54^pomocniczo_do_innych_kalibracji!K34)^(1/(pomocniczo_do_innych_kalibracji!I34+pomocniczo_do_innych_kalibracji!K34)))","v":4.756457402847154},{"$f":"LN((Eurostat!BM54^pomocniczo_do_innych_kalibracji!M34*Eurostat!BO54^pomocniczo_do_innych_kalibracji!O34*Eurostat!BQ54^pomocniczo_do_innych_kalibracji!Q34*Eurostat!BS54^pomocniczo_do_innych_kalibracji!S34*Eurostat!BU54^pomocniczo_do_innych_kalibracji!U34*Eurostat!BW54^pomocniczo_do_innych_kalibracji!W34*Eurostat!BY54^pomocniczo_do_innych_kalibracji!Y34*Eurostat!CA54^pomocniczo_do_innych_kalibracji!AA34)^(1/(pomocniczo_do_innych_kalibracji!M34+pomocniczo_do_innych_kalibracji!O34+pomocniczo_do_innych_kalibracji!Q34+pomocniczo_do_innych_kalibracji!S34+pomocniczo_do_innych_kalibracji!U34+pomocniczo_do_innych_kalibracji!W34+pomocniczo_do_innych_kalibracji!Y34+pomocniczo_do_innych_kalibracji!AA34)))","v":4.7173635587849398},{"$f":"LN((Eurostat!BF54^pomocniczo_do_innych_kalibracji!H34*Eurostat!BH54^pomocniczo_do_innych_kalibracji!J34)^(1/(pomocniczo_do_innych_kalibracji!H34+pomocniczo_do_innych_kalibracji!J34)))","v":4.6843879366513761},{"$f":"LN((Eurostat!BL54^pomocniczo_do_innych_kalibracji!L34*Eurostat!BN54^pomocniczo_do_innych_kalibracji!N34*Eurostat!BP54^pomocniczo_do_innych_kalibracji!P34*Eurostat!BR54^pomocniczo_do_innych_kalibracji!R34*Eurostat!BT54^pomocniczo_do_innych_kalibracji!T34*Eurostat!BV54^pomocniczo_do_innych_kalibracji!V34*Eurostat!BX54^pomocniczo_do_innych_kalibracji!X34*Eurostat!BZ54^pomocniczo_do_innych_kalibracji!Z34)^(1/(pomocniczo_do_innych_kalibracji!L34+pomocniczo_do_innych_kalibracji!N34+pomocniczo_do_innych_kalibracji!P34+pomocniczo_do_innych_kalibracji!R34+pomocniczo_do_innych_kalibracji!T34+pomocniczo_do_innych_kalibracji!V34+pomocniczo_do_innych_kalibracji!X34+pomocniczo_do_innych_kalibracji!Z34)))","v":4.6720519541160321},{"$f":"LN(Eurostat!E54)","v":4.7059200890882344},{"$f":"LN(Eurostat!D54)","v":4.6472713620067267},{"$f":"pomocniczo_do_innych_kalibracji!AC34-pomocniczo_do_innych_kalibracji!AC33","v":1.0754350437236049E-2},{"$f":"pomocniczo_do_innych_kalibracji!AD34-pomocniczo_do_innych_kalibracji!AD33","v":2.2497667989618719E-2},{"$f":"pomocniczo_do_innych_kalibracji!AE34-pomocniczo_do_innych_kalibracji!AE33","v":6.6878039088473784E-3},{"$f":"pomocniczo_do_innych_kalibracji!AF34-pomocniczo_do_innych_kalibracji!AF33","v":5.6975168051209835E-3},{"$f":"Eurostat!CC54/100","v":4.9200000000000001E-2},{"$f":"Eurostat!CB54/100","v":4.4999999999999998E-2},{"$f":"LN(1/Eurostat!CD54)-LN(1/Eurostat!CD53)","v":2.766617929623294E-3}]
[{"$f":"Eurostat!A55","v":"2007Q4"},{"$f":"LN((Eurostat!BG55^pomocniczo_do_innych_kalibracji!I35*Eurostat!BI55^pomocniczo_do_innych_kalibracji!K35)^(1/(pomocniczo_do_innych_kalibracji!I35+pomocniczo_do_innych_kalibracji!K35)))","v":4.7810835647105181},{"$f":"LN((Eurostat!BM55^pomocniczo_do_innych_kalibracji!M35*Eurostat!BO55^pomocniczo_do_innych_kalibracji!O35*Eurostat!BQ55^pomocniczo_do_innych_kalibracji!Q35*Eurostat!BS55^pomocniczo_do_innych_kalibracji!S35*Eurostat!BU55^pomocniczo_do_innych_kalibracji!U35*Eurostat!BW55^pomocniczo_do_innych_kalibracji!W35*Eurostat!BY55^pomocniczo_do_innych_kalibracji!Y35*Eurostat!CA55^pomocniczo_do_innych_kalibracji!AA35)^(1/(pomocniczo_do_innych_kalibracji!M35+pomocniczo_do_innych_kalibracji!O35+pomocniczo_do_innych_kalibracji!Q35+pomocniczo_do_innych_kalibracji!S35+pomocniczo_do_innych_kalibracji!U35+pomocniczo_do_innych_kalibracji!W35+pomocniczo_do_innych_kalibracji!Y35+pomocniczo_do_innych_kalibracji!AA35)))","v":4.7371483484463921},{"$f":"LN((Eurostat!BF55^pomocniczo_do_innych_kalibracji!H35*Eurostat!BH55^pomocniczo_do_innych_kalibracji!J35)^(1/(pomocniczo_do_innych_kalibracji!H35+pomocniczo_do_innych_kalibracji!J35)))","v":4.6887083599938704},{"$f":"LN((Eurostat!BL55^pomocniczo_do_innych_kalibracji!L35*Eurostat!BN55^pomocniczo_do_innych_kalibracji!N35*Eurostat!BP55^pomocniczo_do_innych_kalibracji!P35*Eurostat!BR55^pomocniczo_do_innych_kalibracji!R35*Eurostat!BT55^pomocniczo_do_innych_kalibracji!T35*Eurostat!BV55^pomocniczo_do_innych_kalibracji!V35*Eurostat!BX55^pomocniczo_do_innych_kalibracji!X35*Eurostat!BZ55^pomocniczo_do_innych_kalibracji!Z35)^(1/(pomocniczo_do_innych_kalibracji!L35+pomocniczo_do_innych_kalibracji!N35+pomocniczo_do_innych_kalibracji!P35+pomocniczo_do_innych_kalibracji!R35+pomocniczo_do_innych_kalibracji!T35+pomocniczo_do_innych_kalibracji!V35+pomocniczo_do_innych_kalibracji!X35+pomocniczo_do_innych_kalibracji!Z35)))","v":4.6780461343712023},{"$f":"LN(Eurostat!E55)","v":4.7104306966455844},{"$f":"LN(Eurostat!D55)","v":4.6510991178764911},{"$f":"pomocniczo_do_innych_kalibracji!AC35-pomocniczo_do_innych_kalibracji!AC34","v":-1.5006872407888672E-2},{"$f":"pomocniczo_do_innych_kalibracji!AD35-pomocniczo_do_innych_kalibracji!AD34","v":9.0375385375542905E-3},{"$f":"pomocniczo_do_innych_kalibracji!AE35-pomocniczo_do_innych_kalibracji!AE34","v":4.5750189980955369E-3},{"$f":"pomocniczo_do_innych_kalibracji!AF35-pomocniczo_do_innych_kalibracji!AF34","v":5.9399296555584513E-3},{"$f":"Eurostat!CC55/100","v":5.3899999999999997E-2},{"$f":"Eurostat!CB55/100","v":4.7300000000000002E-2},{"$f":"LN(1/Eurostat!CD55)-LN(1/Eurostat!CD54)","v":3.5340125732626682E-2}]
[{"$f":"Eurostat!A56","v":"2008Q1"},{"$f":"LN((Eurostat!BG56^pomocniczo_do_innych_kalibracji!I36*Eurostat!BI56^pomocniczo_do_innych_kalibracji!K36)^(1/(pomocniczo_do_innych_kalibracji!I36+pomocniczo_do_innych_kalibracji!K36)))","v":4.8037203086880282},{"$f":"LN((Eurostat!BM56^pomocniczo_do_innych_kalibracji!M36*Eurostat!BO56^pomocniczo_do_innych_kalibracji!O36*Eurostat!BQ56^pomocniczo_do_innych_kalibracji!Q36*Eurostat!BS56^pomocniczo_do_innych_kalibracji!S36*Eurostat!BU56^pomocniczo_do_innych_kalibracji!U36*Eurostat!BW56^pomocniczo_do_innych_kalibracji!W36*Eurostat!BY56^pomocniczo_do_innych_kalibracji!Y36*Eurostat!CA56^pomocniczo_do_innych_kalibracji!AA36)^(1/(pomocniczo_do_innych_kalibracji!M36+pomocniczo_do_innych_kalibracji!O36+pomocniczo_do_innych_kalibracji!Q36+pomocniczo_do_innych_kalibracji!S36+pomocniczo_do_innych_kalibracji!U36+pomocniczo_do_innych_kalibracji!W36+pomocniczo_do_innych_kalibracji!Y36+pomocniczo_do_innych_kalibracji!AA36)))","v":4.7561759315835177},{"$f":"LN((Eurostat!BF56^pomocniczo_do_innych_kalibracji!H36*Eurostat!BH56^pomocniczo_do_innych_kalibracji!J36)^(1/(pomocniczo_do_innych_kalibracji!H36+pomocniczo_do_innych_kalibracji!J36)))","v":4.6826775131119041},{"$f":"LN((Eurostat!BL56^pomocniczo_do_innych_kalibracji!L36*Eurostat!BN56^pomocniczo_do_innych_kalibracji!N36*Eurostat!BP56^pomocniczo_do_innych_kalibracji!P36*Eurostat!BR56^pomocniczo_do_innych_kalibracji!R36*Eurostat!BT56^pomocniczo_do_innych_kalibracji!T36*Eurostat!BV56^pomocniczo_do_innych_kalibracji!V36*Eurostat!BX56^pomocniczo_do_innych_kalibracji!X36*Eurostat!BZ56^pomocniczo_do_innych_kalibracji!Z36)^(1/(pomocniczo_do_innych_kalibracji!L36+pomocniczo_do_innych_kalibracji!N36+pomocniczo_do_innych_kalibracji!P36+pomocniczo_do_innych_kalibracji!R36+pomocniczo_do_innych_kalibracji!T36+pomocniczo_do_innych_kalibracji!V36+pomocniczo_do_innych_kalibracji!X36+pomocniczo_do_innych_kalibracji!Z36)))","v":4.6886238333302233},{"$f":"LN(Eurostat!E56)","v":4.7458013157278369},{"$f":"LN(Eurostat!D56)","v":4.6530075154022512},{"$f":"pomocniczo_do_innych_kalibracji!AC36-pomocniczo_do_innych_kalibracji!AC35","v":-1.2314821475691851E-2},{"$f":"pomocniczo_do_innych_kalibracji!AD36-pomocniczo_do_innych_kalibracji!AD35","v":6.6836244752961349E-3},{"$f":"pomocniczo_do_innych_kalibracji!AE36-pomocniczo_do_innych_kalibracji!AE35","v":4.7856471113325583E-3},{"$f":"pomocniczo_do_innych_kalibracji!AF36-pomocniczo_do_innych_kalibracji!AF35","v":3.0693510694721482E-3},{"$f":"Eurostat!CC56/100","v":5.7999999999999996E-2},{"$f":"Eurostat!CB56/100","v":4.4800000000000006E-2},{"$f":"LN(1/Eurostat!CD56)-LN(1/Eurostat!CD55)","v":2.2809000647262767E-2}]
[{"$f":"Eurostat!A57","v":"2008Q2"},{"$f":"LN((Eurostat!BG57^pomocniczo_do_innych_kalibracji!I37*Eurostat!BI57^pomocniczo_do_innych_kalibracji!K37)^(1/(pomocniczo_do_innych_kalibracji!I37+pomocniczo_do_innych_kalibracji!K37)))","v":4.8033449493765445},{"$f":"LN((Eurostat!BM57^pomocniczo_do_innych_kalibracji!M37*Eurostat!BO57^pomocniczo_do_innych_kalibracji!O37*Eurostat!BQ57^pomocniczo_do_innych_kalibracji!Q37*Eurostat!BS57^pomocniczo_do_innych_kalibracji!S37*Eurostat!BU57^pomocniczo_do_innych_kalibracji!U37*Eurostat!BW57^pomocniczo_do_innych_kalibracji!W37*Eurostat!BY57^pomocniczo_do_innych_kalibracji!Y37*Eurostat!CA57^pomocniczo_do_innych_kalibracji!AA37)^(1/(pomocniczo_do_innych_kalibracji!M37+pomocniczo_do_innych_kalibracji!O37+pomocniczo_do_innych_kalibracji!Q37+pomocniczo_do_innych_kalibracji!S37+pomocniczo_do_innych_kalibracji!U37+pomocniczo_do_innych_kalibracji!W37+pomocniczo_do_innych_kalibracji!Y37+pomocniczo_do_innych_kalibracji!AA37)))","v":4.7579386992550941},{"$f":"LN((Eurostat!BF57^pomocniczo_do_innych_kalibracji!H37*Eurostat!BH57^pomocniczo_do_innych_kalibracji!J37)^(1/(pomocniczo_do_innych_kalibracji!H37+pomocniczo_do_innych_kalibracji!J37)))","v":4.6775474873254748},{"$f":"LN((Eurostat!BL57^pomocniczo_do_innych_kalibracji!L37*Eurostat!BN57^pomocniczo_do_innych_kalibracji!N37*Eurostat!BP57^pomocniczo_do_innych_kalibracji!P37*Eurostat!BR57^pomocniczo_do_innych_kalibracji!R37*Eurostat!BT57^pomocniczo_do_innych_kalibracji!T37*Eurostat!BV57^pomocniczo_do_innych_kalibracji!V37*Eurostat!BX57^pomocniczo_do_innych_kalibracji!X37*Eurostat!BZ57^pomocniczo_do_innych_kalibracji!Z37)^(1/(pomocniczo_do_innych_kalibracji!L37+pomocniczo_do_innych_kalibracji!N37+pomocniczo_do_innych_kalibracji!P37+pomocniczo_do_innych_kalibracji!R37+pomocniczo_do_innych_kalibracji!T37+pomocniczo_do_innych_kalibracji!V37+pomocniczo_do_innych_kalibracji!X37+pomocniczo_do_innych_kalibracji!Z37)))","v":4.6836463932960193},{"$f":"LN(Eurostat!E57)","v":4.7570325352973377},{"$f":"LN(Eurostat!D57)","v":4.6539603501575231},{"$f":"pomocniczo_do_innych_kalibracji!AC37-pomocniczo_do_innych_kalibracji!AC36","v":3.3280735250538207E-2},{"$f":"pomocniczo_do_innych_kalibracji!AD37-pomocniczo_do_innych_kalibracji!AD36","v":1.7274063370442683E-2},{"$f":"pomocniczo_do_innych_kalibracji!AE37-pomocniczo_do_innych_kalibracji!AE36","v":5.367324150564734E-3},{"$f":"pomocniczo_do_innych_kalibracji!AF37-pomocniczo_do_innych_kalibracji!AF36","v":7.9137620850513457E-3},{"$f":"Eurostat!CC57/100","v":6.4299999999999996E-2},{"$f":"Eurostat!CB57/100","v":4.8600000000000004E-2},{"$f":"LN(1/Eurostat!CD57)-LN(1/Eurostat!CD56)","v":4.8384754035615929E-2}]
[{"$f":"Eurostat!A58","v":"2008Q3"},{"$f":"LN((Eurostat!BG58^pomocniczo_do_innych_kalibracji!I38*Eurostat!BI58^pomocniczo_do_innych_kalibracji!K38)^(1/(pomocniczo_do_innych_kalibracji!I38+pomocniczo_do_innych_kalibracji!K38)))","v":4.7999051962550663},{"$f":"LN((Eurostat!BM58^pomocniczo_do_innych_kalibracji!M38*Eurostat!BO58^pomocniczo_do_innych_kalibracji!O38*Eurostat!BQ58^pomocniczo_do_innych_kalibracji!Q38*Eurostat!BS58^pomocniczo_do_innych_kalibracji!S38*Eurostat!BU58^pomocniczo_do_innych_kalibracji!U38*Eurostat!BW58^pomocniczo_do_innych_kalibracji!W38*Eurostat!BY58^pomocniczo_do_innych_kalibracji!Y38*Eurostat!CA58^pomocniczo_do_innych_kalibracji!AA38)^(1/(pomocniczo_do_innych_kalibracji!M38+pomocniczo_do_innych_kalibracji!O38+pomocniczo_do_innych_kalibracji!Q38+pomocniczo_do_innych_kalibracji!S38+pomocniczo_do_innych_kalibracji!U38+pomocniczo_do_innych_kalibracji!W38+pomocniczo_do_innych_kalibracji!Y38+pomocniczo_do_innych_kalibracji!AA38)))","v":4.772160980907878},{"$f":"LN((Eurostat!BF58^pomocniczo_do_innych_kalibracji!H38*Eurostat!BH58^pomocniczo_do_innych_kalibracji!J38)^(1/(pomocniczo_do_innych_kalibracji!H38+pomocniczo_do_innych_kalibracji!J38)))","v":4.6613129016503034},{"$f":"LN((Eurostat!BL58^pomocniczo_do_innych_kalibracji!L38*Eurostat!BN58^pomocniczo_do_innych_kalibracji!N38*Eurostat!BP58^pomocniczo_do_innych_kalibracji!P38*Eurostat!BR58^pomocniczo_do_innych_kalibracji!R38*Eurostat!BT58^pomocniczo_do_innych_kalibracji!T38*Eurostat!BV58^pomocniczo_do_innych_kalibracji!V38*Eurostat!BX58^pomocniczo_do_innych_kalibracji!X38*Eurostat!BZ58^pomocniczo_do_innych_kalibracji!Z38)^(1/(pomocniczo_do_innych_kalibracji!L38+pomocniczo_do_innych_kalibracji!N38+pomocniczo_do_innych_kalibracji!P38+pomocniczo_do_innych_kalibracji!R38+pomocniczo_do_innych_kalibracji!T38+pomocniczo_do_innych_kalibracji!V38+pomocniczo_do_innych_kalibracji!X38+pomocniczo_do_innych_kalibracji!Z38)))","v":4.6784318979661554},{"$f":"LN(Eurostat!E58)","v":4.7621739347977563},{"$f":"LN(Eurostat!D58)","v":4.6530075154022512},{"$f":"pomocniczo_do_innych_kalibracji!AC38-pomocniczo_do_innych_kalibracji!AC37","v":1.2686704361703605E-2},{"$f":"pomocniczo_do_innych_kalibracji!AD38-pomocniczo_do_innych_kalibracji!AD37","v":1.6433045108490418E-3},{"$f":"pomocniczo_do_innych_kalibracji!AE38-pomocniczo_do_innych_kalibracji!AE37","v":6.2343876695880596E-4},{"$f":"pomocniczo_do_innych_kalibracji!AF38-pomocniczo_do_innych_kalibracji!AF37","v":4.7530120510215212E-3},{"$f":"Eurostat!CC58/100","v":6.5700000000000008E-2},{"$f":"Eurostat!CB58/100","v":4.9800000000000004E-2},{"$f":"LN(1/Eurostat!CD58)-LN(1/Eurostat!CD57)","v":2.9458132228224132E-2}]
[{"$f":"Eurostat!A59","v":"2008Q4"},{"$f":"LN((Eurostat!BG59^pomocniczo_do_innych_kalibracji!I39*Eurostat!BI59^pomocniczo_do_innych_kalibracji!K39)^(1/(pomocniczo_do_innych_kalibracji!I39+pomocniczo_do_innych_kalibracji!K39)))","v":4.7890175066472134},{"$f":"LN((Eurostat!BM59^pomocniczo_do_innych_kalibracji!M39*Eurostat!BO59^pomocniczo_do_innych_kalibracji!O39*Eurostat!BQ59^pomocniczo_do_innych_kalibracji!Q39*Eurostat!BS59^pomocniczo_do_innych_kalibracji!S39*Eurostat!BU59^pomocniczo_do_innych_kalibracji!U39*Eurostat!BW59^pomocniczo_do_innych_kalibracji!W39*Eurostat!BY59^pomocniczo_do_innych_kalibracji!Y39*Eurostat!CA59^pomocniczo_do_innych_kalibracji!AA39)^(1/(pomocniczo_do_innych_kalibracji!M39+pomocniczo_do_innych_kalibracji!O39+pomocniczo_do_innych_kalibracji!Q39+pomocniczo_do_innych_kalibracji!S39+pomocniczo_do_innych_kalibracji!U39+pomocniczo_do_innych_kalibracji!W39+pomocniczo_do_innych_kalibracji!Y39+pomocniczo_do_innych_kalibracji!AA39)))","v":4.7803780265481315},{"$f":"LN((Eurostat!BF59^pomocniczo_do_innych_kalibracji!H39*Eurostat!BH59^pomocniczo_do_innych_kalibracji!J39)^(1/(pomocniczo_do_innych_kalibracji!H39+pomocniczo_do_innych_kalibracji!J39)))","v":4.6156596155486032},{"$f":"LN((Eurostat!BL59^pomocniczo_do_innych_kalibracji!L39*Eurostat!BN59^pomocniczo_do_innych_kalibracji!N39*Eurostat!BP59^pomocniczo_do_innych_kalibracji!P39*Eurostat!BR59^pomocniczo_do_innych_kalibracji!R39*Eurostat!BT59^pomocniczo_do_innych_kalibracji!T39*Eurostat!BV59^pomocniczo_do_innych_kalibracji!V39*Eurostat!BX59^pomocniczo_do_innych_kalibracji!X39*Eurostat!BZ59^pomocniczo_do_innych_kalibracji!Z39)^(1/(pomocniczo_do_innych_kalibracji!L39+pomocniczo_do_innych_kalibracji!N39+pomocniczo_do_innych_kalibracji!P39+pomocniczo_do_innych_kalibracji!R39+pomocniczo_do_innych_kalibracji!T39+pomocniczo_do_innych_kalibracji!V39+pomocniczo_do_innych_kalibracji!X39+pomocniczo_do_innych_kalibracji!Z39)))","v":4.6675786360501652},{"$f":"LN(Eurostat!E59)","v":4.7715317232033163},{"$f":"LN(Eurostat!D59)","v":4.6520537718869415},{"$f":"pomocniczo_do_innych_kalibracji!AC39-pomocniczo_do_innych_kalibracji!AC38","v":-3.5018623467425236E-2},{"$f":"pomocniczo_do_innych_kalibracji!AD39-pomocniczo_do_innych_kalibracji!AD38","v":9.4742904340838763E-3},{"$f":"pomocniczo_do_innych_kalibracji!AE39-pomocniczo_do_innych_kalibracji!AE38","v":-1.0771186095697161E-3},{"$f":"pomocniczo_do_innych_kalibracji!AF39-pomocniczo_do_innych_kalibracji!AF38","v":5.4002002197437449E-3},{"$f":"Eurostat!CC59/100","v":6.6400000000000001E-2},{"$f":"Eurostat!CB59/100","v":4.2099999999999999E-2},{"$f":"LN(1/Eurostat!CD59)-LN(1/Eurostat!CD58)","v":-0.12958631562958556}]
[{"$f":"Eurostat!A60","v":"2009Q1"},{"$f":"LN((Eurostat!BG60^pomocniczo_do_innych_kalibracji!I40*Eurostat!BI60^pomocniczo_do_innych_kalibracji!K40)^(1/(pomocniczo_do_innych_kalibracji!I40+pomocniczo_do_innych_kalibracji!K40)))","v":4.7874491096726404},{"$f":"LN((Eurostat!BM60^pomocniczo_do_innych_kalibracji!M40*Eurostat!BO60^pomocniczo_do_innych_kalibracji!O40*Eurostat!BQ60^pomocniczo_do_innych_kalibracji!Q40*Eurostat!BS60^pomocniczo_do_innych_kalibracji!S40*Eurostat!BU60^pomocniczo_do_innych_kalibracji!U40*Eurostat!BW60^pomocniczo_do_innych_kalibracji!W40*Eurostat!BY60^pomocniczo_do_innych_kalibracji!Y40*Eurostat!CA60^pomocniczo_do_innych_kalibracji!AA40)^(1/(pomocniczo_do_innych_kalibracji!M40+pomocniczo_do_innych_kalibracji!O40+pomocniczo_do_innych_kalibracji!Q40+pomocniczo_do_innych_kalibracji!S40+pomocniczo_do_innych_kalibracji!U40+pomocniczo_do_innych_kalibracji!W40+pomocniczo_do_innych_kalibracji!Y40+pomocniczo_do_innych_kalibracji!AA40)))","v":4.7835428013071111},{"$f":"LN((Eurostat!BF60^pomocniczo_do_innych_kalibracji!H40*Eurostat!BH60^pomocniczo_do_innych_kalibracji!J40)^(1/(pomocniczo_do_innych_kalibracji!H40+pomocniczo_do_innych_kalibracji!J40)))","v":4.5313620145827391},{"$f":"LN((Eurostat!BL60^pomocniczo_do_innych_kalibracji!L40*Eurostat!BN60^pomocniczo_do_innych_kalibracji!N40*Eurostat!BP60^pomocniczo_do_innych_kalibracji!P40*Eurostat!BR60^pomocniczo_do_innych_kalibracji!R40*Eurostat!BT60^pomocniczo_do_innych_kalibracji!T40*Eurostat!BV60^pomocniczo_do_innych_kalibracji!V40*Eurostat!BX60^pomocniczo_do_innych_kalibracji!X40*Eurostat!BZ60^pomocniczo_do_innych_kalibracji!Z40)^(1/(pomocniczo_do_innych_kalibracji!L40+pomocniczo_do_innych_kalibracji!N40+pomocniczo_do_innych_kalibracji!P40+pomocniczo_do_innych_kalibracji!R40+pomocniczo_do_innych_kalibracji!T40+pomocniczo_do_innych_kalibracji!V40+pomocniczo_do_innych_kalibracji!X40+pomocniczo_do_innych_kalibracji!Z40)))","v":4.6496144822772063},{"$f":"LN(Eurostat!E60)","v":4.7765993016156223},{"$f":"LN(Eurostat!D60)","v":4.6501435516308227},{"$f":"pomocniczo_do_innych_kalibracji!AC40-pomocniczo_do_innych_kalibracji!AC39","v":8.6457512325245567E-2},{"$f":"pomocniczo_do_innych_kalibracji!AD40-pomocniczo_do_innych_kalibracji!AD39","v":1.4506944249421672E-2},{"$f":"pomocniczo_do_innych_kalibracji!AE40-pomocniczo_do_innych_kalibracji!AE39","v":6.7806704807988893E-3},{"$f":"pomocniczo_do_innych_kalibracji!AF40-pomocniczo_do_innych_kalibracji!AF39","v":6.513015496564023E-3},{"$f":"Eurostat!CC60/100","v":4.8300000000000003E-2},{"$f":"Eurostat!CB60/100","v":2.0099999999999996E-2},{"$f":"LN(1/Eurostat!CD60)-LN(1/Eurostat!CD59)","v":-0.17785037246753865}]
[{"$f":"Eurostat!A61","v":"2009Q2"},{"$f":"LN((Eurostat!BG61^pomocniczo_do_innych_kalibracji!I41*Eurostat!BI61^pomocniczo_do_innych_kalibracji!K41)^(1/(pomocniczo_do_innych_kalibracji!I41+pomocniczo_do_innych_kalibracji!K41)))","v":4.8079069781084378},{"$f":"LN((Eurostat!BM61^pomocniczo_do_innych_kalibracji!M41*Eurostat!BO61^pomocniczo_do_innych_kalibracji!O41*Eurostat!BQ61^pomocniczo_do_innych_kalibracji!Q41*Eurostat!BS61^pomocniczo_do_innych_kalibracji!S41*Eurostat!BU61^pomocniczo_do_innych_kalibracji!U41*Eurostat!BW61^pomocniczo_do_innych_kalibracji!W41*Eurostat!BY61^pomocniczo_do_innych_kalibracji!Y41*Eurostat!CA61^pomocniczo_do_innych_kalibracji!AA41)^(1/(pomocniczo_do_innych_kalibracji!M41+pomocniczo_do_innych_kalibracji!O41+pomocniczo_do_innych_kalibracji!Q41+pomocniczo_do_innych_kalibracji!S41+pomocniczo_do_innych_kalibracji!U41+pomocniczo_do_innych_kalibracji!W41+pomocniczo_do_innych_kalibracji!Y41+pomocniczo_do_innych_kalibracji!AA41)))","v":4.7788941524829411},{"$f":"LN((Eurostat!BF61^pomocniczo_do_innych_kalibracji!H41*Eurostat!BH61^pomocniczo_do_innych_kalibracji!J41)^(1/(pomocniczo_do_innych_kalibracji!H41+pomocniczo_do_innych_kalibracji!J41)))","v":4.5251955201234768},{"$f":"LN((Eurostat!BL61^pomocniczo_do_innych_kalibracji!L41*Eurostat!BN61^pomocniczo_do_innych_kalibracji!N41*Eurostat!BP61^pomocniczo_do_innych_kalibracji!P41*Eurostat!BR61^pomocniczo_do_innych_kalibracji!R41*Eurostat!BT61^pomocniczo_do_innych_kalibracji!T41*Eurostat!BV61^pomocniczo_do_innych_kalibracji!V41*Eurostat!BX61^pomocniczo_do_innych_kalibracji!X41*Eurostat!BZ61^pomocniczo_do_innych_kalibracji!Z41)^(1/(pomocniczo_do_innych_kalibracji!L41+pomocniczo_do_innych_kalibracji!N41+pomocniczo_do_innych_kalibracji!P41+pomocniczo_do_innych_kalibracji!R41+pomocniczo_do_innych_kalibracji!T41+pomocniczo_do_innych_kalibracji!V41+pomocniczo_do_innych_kalibracji!X41+pomocniczo_do_innych_kalibracji!Z41)))","v":4.6459690516382919},{"$f":"LN(Eurostat!E61)","v":4.774068722449905},{"$f":"LN(Eurostat!D61)","v":4.6520537718869415},{"$f":"pomocniczo_do_innych_kalibracji!AC41-pomocniczo_do_innych_kalibracji!AC40","v":-1.4243938572959358E-2},{"$f":"pomocniczo_do_innych_kalibracji!AD41-pomocniczo_do_innych_kalibracji!AD40","v":1.0906951455398328E-2},{"$f":"pomocniczo_do_innych_kalibracji!AE41-pomocniczo_do_innych_kalibracji!AE40","v":-5.1246866655914047E-3},{"$f":"pomocniczo_do_innych_kalibracji!AF41-pomocniczo_do_innych_kalibracji!AF40","v":3.7043999048265164E-3},{"$f":"Eurostat!CC61/100","v":4.4400000000000002E-2},{"$f":"Eurostat!CB61/100","v":1.3100000000000001E-2},{"$f":"LN(1/Eurostat!CD61)-LN(1/Eurostat!CD60)","v":1.0389877959984251E-2}]
[{"$f":"Eurostat!A62","v":"2009Q3"},{"$f":"LN((Eurostat!BG62^pomocniczo_do_innych_kalibracji!I42*Eurostat!BI62^pomocniczo_do_innych_kalibracji!K42)^(1/(pomocniczo_do_innych_kalibracji!I42+pomocniczo_do_innych_kalibracji!K42)))","v":4.8324640379698902},{"$f":"LN((Eurostat!BM62^pomocniczo_do_innych_kalibracji!M42*Eurostat!BO62^pomocniczo_do_innych_kalibracji!O42*Eurostat!BQ62^pomocniczo_do_innych_kalibracji!Q42*Eurostat!BS62^pomocniczo_do_innych_kalibracji!S42*Eurostat!BU62^pomocniczo_do_innych_kalibracji!U42*Eurostat!BW62^pomocniczo_do_innych_kalibracji!W42*Eurostat!BY62^pomocniczo_do_innych_kalibracji!Y42*Eurostat!CA62^pomocniczo_do_innych_kalibracji!AA42)^(1/(pomocniczo_do_innych_kalibracji!M42+pomocniczo_do_innych_kalibracji!O42+pomocniczo_do_innych_kalibracji!Q42+pomocniczo_do_innych_kalibracji!S42+pomocniczo_do_innych_kalibracji!U42+pomocniczo_do_innych_kalibracji!W42+pomocniczo_do_innych_kalibracji!Y42+pomocniczo_do_innych_kalibracji!AA42)))","v":4.7815607946123686},{"$f":"LN((Eurostat!BF62^pomocniczo_do_innych_kalibracji!H42*Eurostat!BH62^pomocniczo_do_innych_kalibracji!J42)^(1/(pomocniczo_do_innych_kalibracji!H42+pomocniczo_do_innych_kalibracji!J42)))","v":4.5470395344976442},{"$f":"LN((Eurostat!BL62^pomocniczo_do_innych_kalibracji!L42*Eurostat!BN62^pomocniczo_do_innych_kalibracji!N42*Eurostat!BP62^pomocniczo_do_innych_kalibracji!P42*Eurostat!BR62^pomocniczo_do_innych_kalibracji!R42*Eurostat!BT62^pomocniczo_do_innych_kalibracji!T42*Eurostat!BV62^pomocniczo_do_innych_kalibracji!V42*Eurostat!BX62^pomocniczo_do_innych_kalibracji!X42*Eurostat!BZ62^pomocniczo_do_innych_kalibracji!Z42)^(1/(pomocniczo_do_innych_kalibracji!L42+pomocniczo_do_innych_kalibracji!N42+pomocniczo_do_innych_kalibracji!P42+pomocniczo_do_innych_kalibracji!R42+pomocniczo_do_innych_kalibracji!T42+pomocniczo_do_innych_kalibracji!V42+pomocniczo_do_innych_kalibracji!X42+pomocniczo_do_innych_kalibracji!Z42)))","v":4.6453538669247729},{"$f":"LN(Eurostat!E62)","v":4.779963476361254},{"$f":"LN(Eurostat!D62)","v":4.6539603501575231},{"$f":"pomocniczo_do_innych_kalibracji!AC42-pomocniczo_do_innych_kalibracji!AC41","v":-1.1295099327249147E-2},{"$f":"pomocniczo_do_innych_kalibracji!AD42-pomocniczo_do_innych_kalibracji!AD41","v":1.5527599503708522E-2},{"$f":"pomocniczo_do_innych_kalibracji!AE42-pomocniczo_do_innych_kalibracji!AE41","v":-4.5664480985418976E-3},{"$f":"pomocniczo_do_innych_kalibracji!AF42-pomocniczo_do_innych_kalibracji!AF41","v":3.0861276781113389E-3},{"$f":"Eurostat!CC62/100","v":4.2000000000000003E-2},{"$f":"Eurostat!CB62/100","v":8.6999999999999994E-3},{"$f":"LN(1/Eurostat!CD62)-LN(1/Eurostat!CD61)","v":5.886023805836671E-2}]
[{"$f":"Eurostat!A63","v":"2009Q4"},{"$f":"LN((Eurostat!BG63^pomocniczo_do_innych_kalibracji!I43*Eurostat!BI63^pomocniczo_do_innych_kalibracji!K43)^(1/(pomocniczo_do_innych_kalibracji!I43+pomocniczo_do_innych_kalibracji!K43)))","v":4.8492993839609015},{"$f":"LN((Eurostat!BM63^pomocniczo_do_innych_kalibracji!M43*Eurostat!BO63^pomocniczo_do_innych_kalibracji!O43*Eurostat!BQ63^pomocniczo_do_innych_kalibracji!Q43*Eurostat!BS63^pomocniczo_do_innych_kalibracji!S43*Eurostat!BU63^pomocniczo_do_innych_kalibracji!U43*Eurostat!BW63^pomocniczo_do_innych_kalibracji!W43*Eurostat!BY63^pomocniczo_do_innych_kalibracji!Y43*Eurostat!CA63^pomocniczo_do_innych_kalibracji!AA43)^(1/(pomocniczo_do_innych_kalibracji!M43+pomocniczo_do_innych_kalibracji!O43+pomocniczo_do_innych_kalibracji!Q43+pomocniczo_do_innych_kalibracji!S43+pomocniczo_do_innych_kalibracji!U43+pomocniczo_do_innych_kalibracji!W43+pomocniczo_do_innych_kalibracji!Y43+pomocniczo_do_innych_kalibracji!AA43)))","v":4.7858650396675513},{"$f":"LN((Eurostat!BF63^pomocniczo_do_innych_kalibracji!H43*Eurostat!BH63^pomocniczo_do_innych_kalibracji!J43)^(1/(pomocniczo_do_innych_kalibracji!H43+pomocniczo_do_innych_kalibracji!J43)))","v":4.5604485051879795},{"$f":"LN((Eurostat!BL63^pomocniczo_do_innych_kalibracji!L43*Eurostat!BN63^pomocniczo_do_innych_kalibracji!N43*Eurostat!BP63^pomocniczo_do_innych_kalibracji!P43*Eurostat!BR63^pomocniczo_do_innych_kalibracji!R43*Eurostat!BT63^pomocniczo_do_innych_kalibracji!T43*Eurostat!BV63^pomocniczo_do_innych_kalibracji!V43*Eurostat!BX63^pomocniczo_do_innych_kalibracji!X43*Eurostat!BZ63^pomocniczo_do_innych_kalibracji!Z43)^(1/(pomocniczo_do_innych_kalibracji!L43+pomocniczo_do_innych_kalibracji!N43+pomocniczo_do_innych_kalibracji!P43+pomocniczo_do_innych_kalibracji!R43+pomocniczo_do_innych_kalibracji!T43+pomocniczo_do_innych_kalibracji!V43+pomocniczo_do_innych_kalibracji!X43+pomocniczo_do_innych_kalibracji!Z43)))","v":4.645997099119179},{"$f":"LN(Eurostat!E63)","v":4.7874917427820458},{"$f":"LN(Eurostat!D63)","v":4.6587109529161213},{"$f":"pomocniczo_do_innych_kalibracji!AC43-pomocniczo_do_innych_kalibracji!AC42","v":-3.2316810558334907E-3},{"$f":"pomocniczo_do_innych_kalibracji!AD43-pomocniczo_do_innych_kalibracji!AD42","v":1.3169434665682545E-2},{"$f":"pomocniczo_do_innych_kalibracji!AE43-pomocniczo_do_innych_kalibracji!AE42","v":8.0713411003685565E-4},{"$f":"pomocniczo_do_innych_kalibracji!AF43-pomocniczo_do_innych_kalibracji!AF42","v":5.2270992054381793E-4},{"$f":"Eurostat!CC63/100","v":4.2000000000000003E-2},{"$f":"Eurostat!CB63/100","v":7.1999999999999998E-3},{"$f":"LN(1/Eurostat!CD63)-LN(1/Eurostat!CD62)","v":5.5659878774605431E-3}]
[{"$f":"Eurostat!A64","v":"2010Q1"},{"$f":"LN((Eurostat!BG64^pomocniczo_do_innych_kalibracji!I44*Eurostat!BI64^pomocniczo_do_innych_kalibracji!K44)^(1/(pomocniczo_do_innych_kalibracji!I44+pomocniczo_do_innych_kalibracji!K44)))","v":4.8608956219830031},{"$f":"LN((Eurostat!BM64^pomocniczo_do_innych_kalibracji!M44*Eurostat!BO64^pomocniczo_do_innych_kalibracji!O44*Eurostat!BQ64^pomocniczo_do_innych_kalibracji!Q44*Eurostat!BS64^pomocniczo_do_innych_kalibracji!S44*Eurostat!BU64^pomocniczo_do_innych_kalibracji!U44*Eurostat!BW64^pomocniczo_do_innych_kalibracji!W44*Eurostat!BY64^pomocniczo_do_innych_kalibracji!Y44*Eurostat!CA64^pomocniczo_do_innych_kalibracji!AA44)^(1/(pomocniczo_do_innych_kalibracji!M44+pomocniczo_do_innych_kalibracji!O44+pomocniczo_do_innych_kalibracji!Q44+pomocniczo_do_innych_kalibracji!S44+pomocniczo_do_innych_kalibracji!U44+pomocniczo_do_innych_kalibracji!W44+pomocniczo_do_innych_kalibracji!Y44+pomocniczo_do_innych_kalibracji!AA44)))","v":4.7954915717847451},{"$f":"LN((Eurostat!BF64^pomocniczo_do_innych_kalibracji!H44*Eurostat!BH64^pomocniczo_do_innych_kalibracji!J44)^(1/(pomocniczo_do_innych_kalibracji!H44+pomocniczo_do_innych_kalibracji!J44)))","v":4.5930278168284753},{"$f":"LN((Eurostat!BL64^pomocniczo_do_innych_kalibracji!L44*Eurostat!BN64^pomocniczo_do_innych_kalibracji!N44*Eurostat!BP64^pomocniczo_do_innych_kalibracji!P44*Eurostat!BR64^pomocniczo_do_innych_kalibracji!R44*Eurostat!BT64^pomocniczo_do_innych_kalibracji!T44*Eurostat!BV64^pomocniczo_do_innych_kalibracji!V44*Eurostat!BX64^pomocniczo_do_innych_kalibracji!X44*Eurostat!BZ64^pomocniczo_do_innych_kalibracji!Z44)^(1/(pomocniczo_do_innych_kalibracji!L44+pomocniczo_do_innych_kalibracji!N44+pomocniczo_do_innych_kalibracji!P44+pomocniczo_do_innych_kalibracji!R44+pomocniczo_do_innych_kalibracji!T44+pomocniczo_do_innych_kalibracji!V44+pomocniczo_do_innych_kalibracji!X44+pomocniczo_do_innych_kalibracji!Z44)))","v":4.6428411078705381},{"$f":"LN(Eurostat!E64)","v":4.7982668159500044},{"$f":"LN(Eurostat!D64)","v":4.6587109529161213},{"$f":"pomocniczo_do_innych_kalibracji!AC44-pomocniczo_do_innych_kalibracji!AC43","v":-9.8306939839179819E-2},{"$f":"pomocniczo_do_innych_kalibracji!AD44-pomocniczo_do_innych_kalibracji!AD43","v":-5.314258802440186E-3},{"$f":"pomocniczo_do_innych_kalibracji!AE44-pomocniczo_do_innych_kalibracji!AE43","v":-6.9030696456460205E-3},{"$f":"pomocniczo_do_innych_kalibracji!AF44-pomocniczo_do_innych_kalibracji!AF43","v":1.536857331725372E-4},{"$f":"Eurostat!CC64/100","v":4.1799999999999997E-2},{"$f":"Eurostat!CB64/100","v":6.6E-3},{"$f":"LN(1/Eurostat!CD64)-LN(1/Eurostat!CD63)","v":4.5980604082169974E-2}]
[{"$f":"Eurostat!A65","v":"2010Q2"},{"$f":"LN((Eurostat!BG65^pomocniczo_do_innych_kalibracji!I45*Eurostat!BI65^pomocniczo_do_innych_kalibracji!K45)^(1/(pomocniczo_do_innych_kalibracji!I45+pomocniczo_do_innych_kalibracji!K45)))","v":4.8681768067315501},{"$f":"LN((Eurostat!BM65^pomocniczo_do_innych_kalibracji!M45*Eurostat!BO65^pomocniczo_do_innych_kalibracji!O45*Eurostat!BQ65^pomocniczo_do_innych_kalibracji!Q45*Eurostat!BS65^pomocniczo_do_innych_kalibracji!S45*Eurostat!BU65^pomocniczo_do_innych_kalibracji!U45*Eurostat!BW65^pomocniczo_do_innych_kalibracji!W45*Eurostat!BY65^pomocniczo_do_innych_kalibracji!Y45*Eurostat!CA65^pomocniczo_do_innych_kalibracji!AA45)^(1/(pomocniczo_do_innych_kalibracji!M45+pomocniczo_do_innych_kalibracji!O45+pomocniczo_do_innych_kalibracji!Q45+pomocniczo_do_innych_kalibracji!S45+pomocniczo_do_innych_kalibracji!U45+pomocniczo_do_innych_kalibracji!W45+pomocniczo_do_innych_kalibracji!Y45+pomocniczo_do_innych_kalibracji!AA45)))","v":4.7999214291135797},{"$f":"LN((Eurostat!BF65^pomocniczo_do_innych_kalibracji!H45*Eurostat!BH65^pomocniczo_do_innych_kalibracji!J45)^(1/(pomocniczo_do_innych_kalibracji!H45+pomocniczo_do_innych_kalibracji!J45)))","v":4.6120864139250504},{"$f":"LN((Eurostat!BL65^pomocniczo_do_innych_kalibracji!L45*Eurostat!BN65^pomocniczo_do_innych_kalibracji!N45*Eurostat!BP65^pomocniczo_do_innych_kalibracji!P45*Eurostat!BR65^pomocniczo_do_innych_kalibracji!R45*Eurostat!BT65^pomocniczo_do_innych_kalibracji!T45*Eurostat!BV65^pomocniczo_do_innych_kalibracji!V45*Eurostat!BX65^pomocniczo_do_innych_kalibracji!X45*Eurostat!BZ65^pomocniczo_do_innych_kalibracji!Z45)^(1/(pomocniczo_do_innych_kalibracji!L45+pomocniczo_do_innych_kalibracji!N45+pomocniczo_do_innych_kalibracji!P45+pomocniczo_do_innych_kalibracji!R45+pomocniczo_do_innych_kalibracji!T45+pomocniczo_do_innych_kalibracji!V45+pomocniczo_do_innych_kalibracji!X45+pomocniczo_do_innych_kalibracji!Z45)))","v":4.6478429829303431},{"$f":"LN(Eurostat!E65)","v":4.8056590467374951},{"$f":"LN(Eurostat!D65)","v":4.6606048928761918},{"$f":"pomocniczo_do_innych_kalibracji!AC45-pomocniczo_do_innych_kalibracji!AC44","v":0.10605606233282305},{"$f":"pomocniczo_do_innych_kalibracji!AD45-pomocniczo_do_innych_kalibracji!AD44","v":6.9792819529235217E-3},{"$f":"pomocniczo_do_innych_kalibracji!AE45-pomocniczo_do_innych_kalibracji!AE44","v":1.1092114238543616E-2},{"$f":"pomocniczo_do_innych_kalibracji!AF45-pomocniczo_do_innych_kalibracji!AF44","v":-2.1940314261481575E-4},{"$f":"Eurostat!CC65/100","v":3.7999999999999999E-2},{"$f":"Eurostat!CB65/100","v":6.8999999999999999E-3},{"$f":"LN(1/Eurostat!CD65)-LN(1/Eurostat!CD64)","v":-7.5462626971931623E-3}]
[{"$f":"Eurostat!A66","v":"2010Q3"},{"$f":"LN((Eurostat!BG66^pomocniczo_do_innych_kalibracji!I46*Eurostat!BI66^pomocniczo_do_innych_kalibracji!K46)^(1/(pomocniczo_do_innych_kalibracji!I46+pomocniczo_do_innych_kalibracji!K46)))","v":4.8809136138957783},{"$f":"LN((Eurostat!BM66^pomocniczo_do_innych_kalibracji!M46*Eurostat!BO66^pomocniczo_do_innych_kalibracji!O46*Eurostat!BQ66^pomocniczo_do_innych_kalibracji!Q46*Eurostat!BS66^pomocniczo_do_innych_kalibracji!S46*Eurostat!BU66^pomocniczo_do_innych_kalibracji!U46*Eurostat!BW66^pomocniczo_do_innych_kalibracji!W46*Eurostat!BY66^pomocniczo_do_innych_kalibracji!Y46*Eurostat!CA66^pomocniczo_do_innych_kalibracji!AA46)^(1/(pomocniczo_do_innych_kalibracji!M46+pomocniczo_do_innych_kalibracji!O46+pomocniczo_do_innych_kalibracji!Q46+pomocniczo_do_innych_kalibracji!S46+pomocniczo_do_innych_kalibracji!U46+pomocniczo_do_innych_kalibracji!W46+pomocniczo_do_innych_kalibracji!Y46+pomocniczo_do_innych_kalibracji!AA46)))","v":4.8190653364108922},{"$f":"LN((Eurostat!BF66^pomocniczo_do_innych_kalibracji!H46*Eurostat!BH66^pomocniczo_do_innych_kalibracji!J46)^(1/(pomocniczo_do_innych_kalibracji!H46+pomocniczo_do_innych_kalibracji!J46)))","v":4.6207775089402956},{"$f":"LN((Eurostat!BL66^pomocniczo_do_innych_kalibracji!L46*Eurostat!BN66^pomocniczo_do_innych_kalibracji!N46*Eurostat!BP66^pomocniczo_do_innych_kalibracji!P46*Eurostat!BR66^pomocniczo_do_innych_kalibracji!R46*Eurostat!BT66^pomocniczo_do_innych_kalibracji!T46*Eurostat!BV66^pomocniczo_do_innych_kalibracji!V46*Eurostat!BX66^pomocniczo_do_innych_kalibracji!X46*Eurostat!BZ66^pomocniczo_do_innych_kalibracji!Z46)^(1/(pomocniczo_do_innych_kalibracji!L46+pomocniczo_do_innych_kalibracji!N46+pomocniczo_do_innych_kalibracji!P46+pomocniczo_do_innych_kalibracji!R46+pomocniczo_do_innych_kalibracji!T46+pomocniczo_do_innych_kalibracji!V46+pomocniczo_do_innych_kalibracji!X46+pomocniczo_do_innych_kalibracji!Z46)))","v":4.6498961119050266},{"$f":"LN(Eurostat!E66)","v":4.8186673602504957},{"$f":"LN(Eurostat!D66)","v":4.6634390941120669},{"$f":"pomocniczo_do_innych_kalibracji!AC46-pomocniczo_do_innych_kalibracji!AC45","v":-9.1076433246701782E-3},{"$f":"pomocniczo_do_innych_kalibracji!AD46-pomocniczo_do_innych_kalibracji!AD45","v":3.7351512221128758E-4},{"$f":"pomocniczo_do_innych_kalibracji!AE46-pomocniczo_do_innych_kalibracji!AE45","v":2.3481551389377131E-3},{"$f":"pomocniczo_do_innych_kalibracji!AF46-pomocniczo_do_innych_kalibracji!AF45","v":3.6259083731877695E-3},{"$f":"Eurostat!CC66/100","v":3.8300000000000001E-2},{"$f":"Eurostat!CB66/100","v":8.6999999999999994E-3},{"$f":"LN(1/Eurostat!CD66)-LN(1/Eurostat!CD65)","v":2.0932500354324812E-3}]
[{"$f":"Eurostat!A67","v":"2010Q4"},{"$f":"LN((Eurostat!BG67^pomocniczo_do_innych_kalibracji!I47*Eurostat!BI67^pomocniczo_do_innych_kalibracji!K47)^(1/(pomocniczo_do_innych_kalibracji!I47+pomocniczo_do_innych_kalibracji!K47)))","v":4.8852586115066847},{"$f":"LN((Eurostat!BM67^pomocniczo_do_innych_kalibracji!M47*Eurostat!BO67^pomocniczo_do_innych_kalibracji!O47*Eurostat!BQ67^pomocniczo_do_innych_kalibracji!Q47*Eurostat!BS67^pomocniczo_do_innych_kalibracji!S47*Eurostat!BU67^pomocniczo_do_innych_kalibracji!U47*Eurostat!BW67^pomocniczo_do_innych_kalibracji!W47*Eurostat!BY67^pomocniczo_do_innych_kalibracji!Y47*Eurostat!CA67^pomocniczo_do_innych_kalibracji!AA47)^(1/(pomocniczo_do_innych_kalibracji!M47+pomocniczo_do_innych_kalibracji!O47+pomocniczo_do_innych_kalibracji!Q47+pomocniczo_do_innych_kalibracji!S47+pomocniczo_do_innych_kalibracji!U47+pomocniczo_do_innych_kalibracji!W47+pomocniczo_do_innych_kalibracji!Y47+pomocniczo_do_innych_kalibracji!AA47)))","v":4.8338822540589037},{"$f":"LN((Eurostat!BF67^pomocniczo_do_innych_kalibracji!H47*Eurostat!BH67^pomocniczo_do_innych_kalibracji!J47)^(1/(pomocniczo_do_innych_kalibracji!H47+pomocniczo_do_innych_kalibracji!J47)))","v":4.6378679116089989},{"$f":"LN((Eurostat!BL67^pomocniczo_do_innych_kalibracji!L47*Eurostat!BN67^pomocniczo_do_innych_kalibracji!N47*Eurostat!BP67^pomocniczo_do_innych_kalibracji!P47*Eurostat!BR67^pomocniczo_do_innych_kalibracji!R47*Eurostat!BT67^pomocniczo_do_innych_kalibracji!T47*Eurostat!BV67^pomocniczo_do_innych_kalibracji!V47*Eurostat!BX67^pomocniczo_do_innych_kalibracji!X47*Eurostat!BZ67^pomocniczo_do_innych_kalibracji!Z47)^(1/(pomocniczo_do_innych_kalibracji!L47+pomocniczo_do_innych_kalibracji!N47+pomocniczo_do_innych_kalibracji!P47+pomocniczo_do_innych_kalibracji!R47+pomocniczo_do_innych_kalibracji!T47+pomocniczo_do_innych_kalibracji!V47+pomocniczo_do_innych_kalibracji!X47+pomocniczo_do_innych_kalibracji!Z47)))","v":4.6503314800629614},{"$f":"LN(Eurostat!E67)","v":4.8210876922105612},{"$f":"LN(Eurostat!D67)","v":4.6662652853479019},{"$f":"pomocniczo_do_innych_kalibracji!AC47-pomocniczo_do_innych_kalibracji!AC46","v":1.9950135308512529E-2},{"$f":"pomocniczo_do_innych_kalibracji!AD47-pomocniczo_do_innych_kalibracji!AD46","v":-7.4493915890885276E-3},{"$f":"pomocniczo_do_innych_kalibracji!AE47-pomocniczo_do_innych_kalibracji!AE46","v":5.3955804001439844E-3},{"$f":"pomocniczo_do_innych_kalibracji!AF47-pomocniczo_do_innych_kalibracji!AF46","v":1.9657639147077077E-3},{"$f":"Eurostat!CC67/100","v":3.8699999999999998E-2},{"$f":"Eurostat!CB67/100","v":1.0200000000000001E-2},{"$f":"LN(1/Eurostat!CD67)-LN(1/Eurostat!CD66)","v":1.055769464605838E-2}]
[{"$f":"Eurostat!A68","v":"2011Q1"},{"$f":"LN((Eurostat!BG68^pomocniczo_do_innych_kalibracji!I48*Eurostat!BI68^pomocniczo_do_innych_kalibracji!K48)^(1/(pomocniczo_do_innych_kalibracji!I48+pomocniczo_do_innych_kalibracji!K48)))","v":4.9052838468056565},{"$f":"LN((Eurostat!BM68^pomocniczo_do_innych_kalibracji!M48*Eurostat!BO68^pomocniczo_do_innych_kalibracji!O48*Eurostat!BQ68^pomocniczo_do_innych_kalibracji!Q48*Eurostat!BS68^pomocniczo_do_innych_kalibracji!S48*Eurostat!BU68^pomocniczo_do_innych_kalibracji!U48*Eurostat!BW68^pomocniczo_do_innych_kalibracji!W48*Eurostat!BY68^pomocniczo_do_innych_kalibracji!Y48*Eurostat!CA68^pomocniczo_do_innych_kalibracji!AA48)^(1/(pomocniczo_do_innych_kalibracji!M48+pomocniczo_do_innych_kalibracji!O48+pomocniczo_do_innych_kalibracji!Q48+pomocniczo_do_innych_kalibracji!S48+pomocniczo_do_innych_kalibracji!U48+pomocniczo_do_innych_kalibracji!W48+pomocniczo_do_innych_kalibracji!Y48+pomocniczo_do_innych_kalibracji!AA48)))","v":4.8270002231938633},{"$f":"LN((Eurostat!BF68^pomocniczo_do_innych_kalibracji!H48*Eurostat!BH68^pomocniczo_do_innych_kalibracji!J48)^(1/(pomocniczo_do_innych_kalibracji!H48+pomocniczo_do_innych_kalibracji!J48)))","v":4.6441094121838624},{"$f":"LN((Eurostat!BL68^pomocniczo_do_innych_kalibracji!L48*Eurostat!BN68^pomocniczo_do_innych_kalibracji!N48*Eurostat!BP68^pomocniczo_do_innych_kalibracji!P48*Eurostat!BR68^pomocniczo_do_innych_kalibracji!R48*Eurostat!BT68^pomocniczo_do_innych_kalibracji!T48*Eurostat!BV68^pomocniczo_do_innych_kalibracji!V48*Eurostat!BX68^pomocniczo_do_innych_kalibracji!X48*Eurostat!BZ68^pomocniczo_do_innych_kalibracji!Z48)^(1/(pomocniczo_do_innych_kalibracji!L48+pomocniczo_do_innych_kalibracji!N48+pomocniczo_do_innych_kalibracji!P48+pomocniczo_do_innych_kalibracji!R48+pomocniczo_do_innych_kalibracji!T48+pomocniczo_do_innych_kalibracji!V48+pomocniczo_do_innych_kalibracji!X48+pomocniczo_do_innych_kalibracji!Z48)))","v":4.6603662963697037},{"$f":"LN(Eurostat!E68)","v":4.8251086063533526},{"$f":"LN(Eurostat!D68)","v":4.667205576907544},{"$f":"pomocniczo_do_innych_kalibracji!AC48-pomocniczo_do_innych_kalibracji!AC47","v":-6.8679992022513403E-4},{"$f":"pomocniczo_do_innych_kalibracji!AD48-pomocniczo_do_innych_kalibracji!AD47","v":2.7988853679048908E-2},{"$f":"pomocniczo_do_innych_kalibracji!AE48-pomocniczo_do_innych_kalibracji!AE47","v":-2.4502970822393166E-4},{"$f":"pomocniczo_do_innych_kalibracji!AF48-pomocniczo_do_innych_kalibracji!AF47","v":5.3914144141664622E-4},{"$f":"Eurostat!CC68/100","v":4.0999999999999995E-2},{"$f":"Eurostat!CB68/100","v":1.09E-2},{"$f":"LN(1/Eurostat!CD68)-LN(1/Eurostat!CD67)","v":5.2068969850269653E-3}]
[{"$f":"Eurostat!A69","v":"2011Q2"},{"$f":"LN((Eurostat!BG69^pomocniczo_do_innych_kalibracji!I49*Eurostat!BI69^pomocniczo_do_innych_kalibracji!K49)^(1/(pomocniczo_do_innych_kalibracji!I49+pomocniczo_do_innych_kalibracji!K49)))","v":4.938963653840144},{"$f":"LN((Eurostat!BM69^pomocniczo_do_innych_kalibracji!M49*Eurostat!BO69^pomocniczo_do_innych_kalibracji!O49*Eurostat!BQ69^pomocniczo_do_innych_kalibracji!Q49*Eurostat!BS69^pomocniczo_do_innych_kalibracji!S49*Eurostat!BU69^pomocniczo_do_innych_kalibracji!U49*Eurostat!BW69^pomocniczo_do_innych_kalibracji!W49*Eurostat!BY69^pomocniczo_do_innych_kalibracji!Y49*Eurostat!CA69^pomocniczo_do_innych_kalibracji!AA49)^(1/(pomocniczo_do_innych_kalibracji!M49+pomocniczo_do_innych_kalibracji!O49+pomocniczo_do_innych_kalibracji!Q49+pomocniczo_do_innych_kalibracji!S49+pomocniczo_do_innych_kalibracji!U49+pomocniczo_do_innych_kalibracji!W49+pomocniczo_do_innych_kalibracji!Y49+pomocniczo_do_innych_kalibracji!AA49)))","v":4.8446648995956476},{"$f":"LN((Eurostat!BF69^pomocniczo_do_innych_kalibracji!H49*Eurostat!BH69^pomocniczo_do_innych_kalibracji!J49)^(1/(pomocniczo_do_innych_kalibracji!H49+pomocniczo_do_innych_kalibracji!J49)))","v":4.6461260305951164},{"$f":"LN((Eurostat!BL69^pomocniczo_do_innych_kalibracji!L49*Eurostat!BN69^pomocniczo_do_innych_kalibracji!N49*Eurostat!BP69^pomocniczo_do_innych_kalibracji!P49*Eurostat!BR69^pomocniczo_do_innych_kalibracji!R49*Eurostat!BT69^pomocniczo_do_innych_kalibracji!T49*Eurostat!BV69^pomocniczo_do_innych_kalibracji!V49*Eurostat!BX69^pomocniczo_do_innych_kalibracji!X49*Eurostat!BZ69^pomocniczo_do_innych_kalibracji!Z49)^(1/(pomocniczo_do_innych_kalibracji!L49+pomocniczo_do_innych_kalibracji!N49+pomocniczo_do_innych_kalibracji!P49+pomocniczo_do_innych_kalibracji!R49+pomocniczo_do_innych_kalibracji!T49+pomocniczo_do_innych_kalibracji!V49+pomocniczo_do_innych_kalibracji!X49+pomocniczo_do_innych_kalibracji!Z49)))","v":4.6609751460145006},{"$f":"LN(Eurostat!E69)","v":4.8291134174728656},{"$f":"LN(Eurostat!D69)","v":4.6634390941120669},{"$f":"pomocniczo_do_innych_kalibracji!AC49-pomocniczo_do_innych_kalibracji!AC48","v":-1.4770514451498684E-2},{"$f":"pomocniczo_do_innych_kalibracji!AD49-pomocniczo_do_innych_kalibracji!AD48","v":1.5918398969159142E-3},{"$f":"pomocniczo_do_innych_kalibracji!AE49-pomocniczo_do_innych_kalibracji!AE48","v":2.5586776544122003E-3},{"$f":"pomocniczo_do_innych_kalibracji!AF49-pomocniczo_do_innych_kalibracji!AF48","v":1.8258204260481747E-3},{"$f":"Eurostat!CC69/100","v":4.4299999999999999E-2},{"$f":"Eurostat!CB69/100","v":1.41E-2},{"$f":"LN(1/Eurostat!CD69)-LN(1/Eurostat!CD68)","v":-3.4406024630917464E-3}]
[{"$f":"Eurostat!A70","v":"2011Q3"},{"$f":"LN((Eurostat!BG70^pomocniczo_do_innych_kalibracji!I50*Eurostat!BI70^pomocniczo_do_innych_kalibracji!K50)^(1/(pomocniczo_do_innych_kalibracji!I50+pomocniczo_do_innych_kalibracji!K50)))","v":4.9400259853666757},{"$f":"LN((Eurostat!BM70^pomocniczo_do_innych_kalibracji!M50*Eurostat!BO70^pomocniczo_do_innych_kalibracji!O50*Eurostat!BQ70^pomocniczo_do_innych_kalibracji!Q50*Eurostat!BS70^pomocniczo_do_innych_kalibracji!S50*Eurostat!BU70^pomocniczo_do_innych_kalibracji!U50*Eurostat!BW70^pomocniczo_do_innych_kalibracji!W50*Eurostat!BY70^pomocniczo_do_innych_kalibracji!Y50*Eurostat!CA70^pomocniczo_do_innych_kalibracji!AA50)^(1/(pomocniczo_do_innych_kalibracji!M50+pomocniczo_do_innych_kalibracji!O50+pomocniczo_do_innych_kalibracji!Q50+pomocniczo_do_innych_kalibracji!S50+pomocniczo_do_innych_kalibracji!U50+pomocniczo_do_innych_kalibracji!W50+pomocniczo_do_innych_kalibracji!Y50+pomocniczo_do_innych_kalibracji!AA50)))","v":4.855515734116544},{"$f":"LN((Eurostat!BF70^pomocniczo_do_innych_kalibracji!H50*Eurostat!BH70^pomocniczo_do_innych_kalibracji!J50)^(1/(pomocniczo_do_innych_kalibracji!H50+pomocniczo_do_innych_kalibracji!J50)))","v":4.6460262943422679},{"$f":"LN((Eurostat!BL70^pomocniczo_do_innych_kalibracji!L50*Eurostat!BN70^pomocniczo_do_innych_kalibracji!N50*Eurostat!BP70^pomocniczo_do_innych_kalibracji!P50*Eurostat!BR70^pomocniczo_do_innych_kalibracji!R50*Eurostat!BT70^pomocniczo_do_innych_kalibracji!T50*Eurostat!BV70^pomocniczo_do_innych_kalibracji!V50*Eurostat!BX70^pomocniczo_do_innych_kalibracji!X50*Eurostat!BZ70^pomocniczo_do_innych_kalibracji!Z50)^(1/(pomocniczo_do_innych_kalibracji!L50+pomocniczo_do_innych_kalibracji!N50+pomocniczo_do_innych_kalibracji!P50+pomocniczo_do_innych_kalibracji!R50+pomocniczo_do_innych_kalibracji!T50+pomocniczo_do_innych_kalibracji!V50+pomocniczo_do_innych_kalibracji!X50+pomocniczo_do_innych_kalibracji!Z50)))","v":4.6613333250948008},{"$f":"LN(Eurostat!E70)","v":4.8307108619020225},{"$f":"LN(Eurostat!D70)","v":4.664382045619937},{"$f":"pomocniczo_do_innych_kalibracji!AC50-pomocniczo_do_innych_kalibracji!AC49","v":1.7560739597297648E-2},{"$f":"pomocniczo_do_innych_kalibracji!AD50-pomocniczo_do_innych_kalibracji!AD49","v":2.2909108202258111E-3},{"$f":"pomocniczo_do_innych_kalibracji!AE50-pomocniczo_do_innych_kalibracji!AE49","v":6.1977927435741265E-4},{"$f":"pomocniczo_do_innych_kalibracji!AF50-pomocniczo_do_innych_kalibracji!AF49","v":4.9484432896491626E-3},{"$f":"Eurostat!CC70/100","v":4.7199999999999999E-2},{"$f":"Eurostat!CB70/100","v":1.5600000000000001E-2},{"$f":"LN(1/Eurostat!CD70)-LN(1/Eurostat!CD69)","v":-4.7615715038734185E-2}]
[{"$f":"Eurostat!A71","v":"2011Q4"},{"$f":"LN((Eurostat!BG71^pomocniczo_do_innych_kalibracji!I51*Eurostat!BI71^pomocniczo_do_innych_kalibracji!K51)^(1/(pomocniczo_do_innych_kalibracji!I51+pomocniczo_do_innych_kalibracji!K51)))","v":4.9714209375073777},{"$f":"LN((Eurostat!BM71^pomocniczo_do_innych_kalibracji!M51*Eurostat!BO71^pomocniczo_do_innych_kalibracji!O51*Eurostat!BQ71^pomocniczo_do_innych_kalibracji!Q51*Eurostat!BS71^pomocniczo_do_innych_kalibracji!S51*Eurostat!BU71^pomocniczo_do_innych_kalibracji!U51*Eurostat!BW71^pomocniczo_do_innych_kalibracji!W51*Eurostat!BY71^pomocniczo_do_innych_kalibracji!Y51*Eurostat!CA71^pomocniczo_do_innych_kalibracji!AA51)^(1/(pomocniczo_do_innych_kalibracji!M51+pomocniczo_do_innych_kalibracji!O51+pomocniczo_do_innych_kalibracji!Q51+pomocniczo_do_innych_kalibracji!S51+pomocniczo_do_innych_kalibracji!U51+pomocniczo_do_innych_kalibracji!W51+pomocniczo_do_innych_kalibracji!Y51+pomocniczo_do_innych_kalibracji!AA51)))","v":4.8478366472835823},{"$f":"LN((Eurostat!BF71^pomocniczo_do_innych_kalibracji!H51*Eurostat!BH71^pomocniczo_do_innych_kalibracji!J51)^(1/(pomocniczo_do_innych_kalibracji!H51+pomocniczo_do_innych_kalibracji!J51)))","v":4.6353744576642839},{"$f":"LN((Eurostat!BL71^pomocniczo_do_innych_kalibracji!L51*Eurostat!BN71^pomocniczo_do_innych_kalibracji!N51*Eurostat!BP71^pomocniczo_do_innych_kalibracji!P51*Eurostat!BR71^pomocniczo_do_innych_kalibracji!R51*Eurostat!BT71^pomocniczo_do_innych_kalibracji!T51*Eurostat!BV71^pomocniczo_do_innych_kalibracji!V51*Eurostat!BX71^pomocniczo_do_innych_kalibracji!X51*Eurostat!BZ71^pomocniczo_do_innych_kalibracji!Z51)^(1/(pomocniczo_do_innych_kalibracji!L51+pomocniczo_do_innych_kalibracji!N51+pomocniczo_do_innych_kalibracji!P51+pomocniczo_do_innych_kalibracji!R51+pomocniczo_do_innych_kalibracji!T51+pomocniczo_do_innych_kalibracji!V51+pomocniczo_do_innych_kalibracji!X51+pomocniczo_do_innych_kalibracji!Z51)))","v":4.6606191152141632},{"$f":"LN(Eurostat!E71)","v":4.8346933442663405},{"$f":"LN(Eurostat!D71)","v":4.6606048928761918},{"$f":"pomocniczo_do_innych_kalibracji!AC51-pomocniczo_do_innych_kalibracji!AC50","v":4.5789554850713898E-2},{"$f":"pomocniczo_do_innych_kalibracji!AD51-pomocniczo_do_innych_kalibracji!AD50","v":1.6258780913911863E-2},{"$f":"pomocniczo_do_innych_kalibracji!AE51-pomocniczo_do_innych_kalibracji!AE50","v":5.3713815798506204E-3},{"$f":"pomocniczo_do_innych_kalibracji!AF51-pomocniczo_do_innych_kalibracji!AF50","v":5.2208284515566916E-3},{"$f":"Eurostat!CC71/100","v":4.9100000000000005E-2},{"$f":"Eurostat!CB71/100","v":1.4999999999999999E-2},{"$f":"LN(1/Eurostat!CD71)-LN(1/Eurostat!CD70)","v":-6.2539329488711992E-2}]
[{"$f":"Eurostat!A72","v":"2012Q1"},{"$f":"LN((Eurostat!BG72^pomocniczo_do_innych_kalibracji!I52*Eurostat!BI72^pomocniczo_do_innych_kalibracji!K52)^(1/(pomocniczo_do_innych_kalibracji!I52+pomocniczo_do_innych_kalibracji!K52)))","v":4.9692458919490088},{"$f":"LN((Eurostat!BM72^pomocniczo_do_innych_kalibracji!M52*Eurostat!BO72^pomocniczo_do_innych_kalibracji!O52*Eurostat!BQ72^pomocniczo_do_innych_kalibracji!Q52*Eurostat!BS72^pomocniczo_do_innych_kalibracji!S52*Eurostat!BU72^pomocniczo_do_innych_kalibracji!U52*Eurostat!BW72^pomocniczo_do_innych_kalibracji!W52*Eurostat!BY72^pomocniczo_do_innych_kalibracji!Y52*Eurostat!CA72^pomocniczo_do_innych_kalibracji!AA52)^(1/(pomocniczo_do_innych_kalibracji!M52+pomocniczo_do_innych_kalibracji!O52+pomocniczo_do_innych_kalibracji!Q52+pomocniczo_do_innych_kalibracji!S52+pomocniczo_do_innych_kalibracji!U52+pomocniczo_do_innych_kalibracji!W52+pomocniczo_do_innych_kalibracji!Y52+pomocniczo_do_innych_kalibracji!AA52)))","v":4.8596051936001583},{"$f":"LN((Eurostat!BF72^pomocniczo_do_innych_kalibracji!H52*Eurostat!BH72^pomocniczo_do_innych_kalibracji!J52)^(1/(pomocniczo_do_innych_kalibracji!H52+pomocniczo_do_innych_kalibracji!J52)))","v":4.6345193355218353},{"$f":"LN((Eurostat!BL72^pomocniczo_do_innych_kalibracji!L52*Eurostat!BN72^pomocniczo_do_innych_kalibracji!N52*Eurostat!BP72^pomocniczo_do_innych_kalibracji!P52*Eurostat!BR72^pomocniczo_do_innych_kalibracji!R52*Eurostat!BT72^pomocniczo_do_innych_kalibracji!T52*Eurostat!BV72^pomocniczo_do_innych_kalibracji!V52*Eurostat!BX72^pomocniczo_do_innych_kalibracji!X52*Eurostat!BZ72^pomocniczo_do_innych_kalibracji!Z52)^(1/(pomocniczo_do_innych_kalibracji!L52+pomocniczo_do_innych_kalibracji!N52+pomocniczo_do_innych_kalibracji!P52+pomocniczo_do_innych_kalibracji!R52+pomocniczo_do_innych_kalibracji!T52+pomocniczo_do_innych_kalibracji!V52+pomocniczo_do_innych_kalibracji!X52+pomocniczo_do_innych_kalibracji!Z52)))","v":4.6605062795777767},{"$f":"LN(Eurostat!E72)","v":4.8386600293564452},{"$f":"LN(Eurostat!D72)","v":4.6577626361072619},{"$f":"pomocniczo_do_innych_kalibracji!AC52-pomocniczo_do_innych_kalibracji!AC51","v":-3.9330808773841319E-2},{"$f":"pomocniczo_do_innych_kalibracji!AD52-pomocniczo_do_innych_kalibracji!AD51","v":9.0008831148757906E-3},{"$f":"pomocniczo_do_innych_kalibracji!AE52-pomocniczo_do_innych_kalibracji!AE51","v":4.1214838099818962E-3},{"$f":"pomocniczo_do_innych_kalibracji!AF52-pomocniczo_do_innych_kalibracji!AF51","v":-3.974307075251815E-4},{"$f":"Eurostat!CC72/100","v":4.9699999999999994E-2},{"$f":"Eurostat!CB72/100","v":1.04E-2},{"$f":"LN(1/Eurostat!CD72)-LN(1/Eurostat!CD71)","v":4.3410717238618002E-2}]
[{"$f":"Eurostat!A73","v":"2012Q2"},{"$f":"LN((Eurostat!BG73^pomocniczo_do_innych_kalibracji!I53*Eurostat!BI73^pomocniczo_do_innych_kalibracji!K53)^(1/(pomocniczo_do_innych_kalibracji!I53+pomocniczo_do_innych_kalibracji!K53)))","v":4.9473286383446364},{"$f":"LN((Eurostat!BM73^pomocniczo_do_innych_kalibracji!M53*Eurostat!BO73^pomocniczo_do_innych_kalibracji!O53*Eurostat!BQ73^pomocniczo_do_innych_kalibracji!Q53*Eurostat!BS73^pomocniczo_do_innych_kalibracji!S53*Eurostat!BU73^pomocniczo_do_innych_kalibracji!U53*Eurostat!BW73^pomocniczo_do_innych_kalibracji!W53*Eurostat!BY73^pomocniczo_do_innych_kalibracji!Y53*Eurostat!CA73^pomocniczo_do_innych_kalibracji!AA53)^(1/(pomocniczo_do_innych_kalibracji!M53+pomocniczo_do_innych_kalibracji!O53+pomocniczo_do_innych_kalibracji!Q53+pomocniczo_do_innych_kalibracji!S53+pomocniczo_do_innych_kalibracji!U53+pomocniczo_do_innych_kalibracji!W53+pomocniczo_do_innych_kalibracji!Y53+pomocniczo_do_innych_kalibracji!AA53)))","v":4.8703989941624641},{"$f":"LN((Eurostat!BF73^pomocniczo_do_innych_kalibracji!H53*Eurostat!BH73^pomocniczo_do_innych_kalibracji!J53)^(1/(pomocniczo_do_innych_kalibracji!H53+pomocniczo_do_innych_kalibracji!J53)))","v":4.6305291972421534},{"$f":"LN((Eurostat!BL73^pomocniczo_do_innych_kalibracji!L53*Eurostat!BN73^pomocniczo_do_innych_kalibracji!N53*Eurostat!BP73^pomocniczo_do_innych_kalibracji!P53*Eurostat!BR73^pomocniczo_do_innych_kalibracji!R53*Eurostat!BT73^pomocniczo_do_innych_kalibracji!T53*Eurostat!BV73^pomocniczo_do_innych_kalibracji!V53*Eurostat!BX73^pomocniczo_do_innych_kalibracji!X53*Eurostat!BZ73^pomocniczo_do_innych_kalibracji!Z53)^(1/(pomocniczo_do_innych_kalibracji!L53+pomocniczo_do_innych_kalibracji!N53+pomocniczo_do_innych_kalibracji!P53+pomocniczo_do_innych_kalibracji!R53+pomocniczo_do_innych_kalibracji!T53+pomocniczo_do_innych_kalibracji!V53+pomocniczo_do_innych_kalibracji!X53+pomocniczo_do_innych_kalibracji!Z53)))","v":4.6579439149722699},{"$f":"LN(Eurostat!E73)","v":4.8378679501071131},{"$f":"LN(Eurostat!D73)","v":4.6530075154022512},{"$f":"pomocniczo_do_innych_kalibracji!AC53-pomocniczo_do_innych_kalibracji!AC52","v":2.9772335312638454E-2},{"$f":"pomocniczo_do_innych_kalibracji!AD53-pomocniczo_do_innych_kalibracji!AD52","v":9.14748185447678E-3},{"$f":"pomocniczo_do_innych_kalibracji!AE53-pomocniczo_do_innych_kalibracji!AE52","v":5.1042811273163124E-3},{"$f":"pomocniczo_do_innych_kalibracji!AF53-pomocniczo_do_innych_kalibracji!AF52","v":3.3314202329490783E-3},{"$f":"Eurostat!CC73/100","v":5.04E-2},{"$f":"Eurostat!CB73/100","v":6.9999999999999993E-3},{"$f":"LN(1/Eurostat!CD73)-LN(1/Eurostat!CD72)","v":-6.2644451484146213E-3}]
[{"$f":"Eurostat!A74","v":"2012Q3"},{"$f":"LN((Eurostat!BG74^pomocniczo_do_innych_kalibracji!I54*Eurostat!BI74^pomocniczo_do_innych_kalibracji!K54)^(1/(pomocniczo_do_innych_kalibracji!I54+pomocniczo_do_innych_kalibracji!K54)))","v":4.9577674337487672},{"$f":"LN((Eurostat!BM74^pomocniczo_do_innych_kalibracji!M54*Eurostat!BO74^pomocniczo_do_innych_kalibracji!O54*Eurostat!BQ74^pomocniczo_do_innych_kalibracji!Q54*Eurostat!BS74^pomocniczo_do_innych_kalibracji!S54*Eurostat!BU74^pomocniczo_do_innych_kalibracji!U54*Eurostat!BW74^pomocniczo_do_innych_kalibracji!W54*Eurostat!BY74^pomocniczo_do_innych_kalibracji!Y54*Eurostat!CA74^pomocniczo_do_innych_kalibracji!AA54)^(1/(pomocniczo_do_innych_kalibracji!M54+pomocniczo_do_innych_kalibracji!O54+pomocniczo_do_innych_kalibracji!Q54+pomocniczo_do_innych_kalibracji!S54+pomocniczo_do_innych_kalibracji!U54+pomocniczo_do_innych_kalibracji!W54+pomocniczo_do_innych_kalibracji!Y54+pomocniczo_do_innych_kalibracji!AA54)))","v":4.8656144790095066},{"$f":"LN((Eurostat!BF74^pomocniczo_do_innych_kalibracji!H54*Eurostat!BH74^pomocniczo_do_innych_kalibracji!J54)^(1/(pomocniczo_do_innych_kalibracji!H54+pomocniczo_do_innych_kalibracji!J54)))","v":4.6303141384307382},{"$f":"LN((Eurostat!BL74^pomocniczo_do_innych_kalibracji!L54*Eurostat!BN74^pomocniczo_do_innych_kalibracji!N54*Eurostat!BP74^pomocniczo_do_innych_kalibracji!P54*Eurostat!BR74^pomocniczo_do_innych_kalibracji!R54*Eurostat!BT74^pomocniczo_do_innych_kalibracji!T54*Eurostat!BV74^pomocniczo_do_innych_kalibracji!V54*Eurostat!BX74^pomocniczo_do_innych_kalibracji!X54*Eurostat!BZ74^pomocniczo_do_innych_kalibracji!Z54)^(1/(pomocniczo_do_innych_kalibracji!L54+pomocniczo_do_innych_kalibracji!N54+pomocniczo_do_innych_kalibracji!P54+pomocniczo_do_innych_kalibracji!R54+pomocniczo_do_innych_kalibracji!T54+pomocniczo_do_innych_kalibracji!V54+pomocniczo_do_innych_kalibracji!X54+pomocniczo_do_innych_kalibracji!Z54)))","v":4.6558520366139566},{"$f":"LN(Eurostat!E74)","v":4.8410325097100761},{"$f":"LN(Eurostat!D74)","v":4.6510991178764911},{"$f":"pomocniczo_do_innych_kalibracji!AC54-pomocniczo_do_innych_kalibracji!AC53","v":1.1140778528613282E-2},{"$f":"pomocniczo_do_innych_kalibracji!AD54-pomocniczo_do_innych_kalibracji!AD53","v":2.8889872278003992E-3},{"$f":"pomocniczo_do_innych_kalibracji!AE54-pomocniczo_do_innych_kalibracji!AE53","v":8.4854415682977802E-3},{"$f":"pomocniczo_do_innych_kalibracji!AF54-pomocniczo_do_innych_kalibracji!AF53","v":1.9095316392636619E-3},{"$f":"Eurostat!CC74/100","v":5.0599999999999999E-2},{"$f":"Eurostat!CB74/100","v":3.5999999999999999E-3},{"$f":"LN(1/Eurostat!CD74)-LN(1/Eurostat!CD73)","v":2.9277588117671893E-2}]
[{"$f":"Eurostat!A75","v":"2012Q4"},{"$f":"LN((Eurostat!BG75^pomocniczo_do_innych_kalibracji!I55*Eurostat!BI75^pomocniczo_do_innych_kalibracji!K55)^(1/(pomocniczo_do_innych_kalibracji!I55+pomocniczo_do_innych_kalibracji!K55)))","v":4.9634554590901443},{"$f":"LN((Eurostat!BM75^pomocniczo_do_innych_kalibracji!M55*Eurostat!BO75^pomocniczo_do_innych_kalibracji!O55*Eurostat!BQ75^pomocniczo_do_innych_kalibracji!Q55*Eurostat!BS75^pomocniczo_do_innych_kalibracji!S55*Eurostat!BU75^pomocniczo_do_innych_kalibracji!U55*Eurostat!BW75^pomocniczo_do_innych_kalibracji!W55*Eurostat!BY75^pomocniczo_do_innych_kalibracji!Y55*Eurostat!CA75^pomocniczo_do_innych_kalibracji!AA55)^(1/(pomocniczo_do_innych_kalibracji!M55+pomocniczo_do_innych_kalibracji!O55+pomocniczo_do_innych_kalibracji!Q55+pomocniczo_do_innych_kalibracji!S55+pomocniczo_do_innych_kalibracji!U55+pomocniczo_do_innych_kalibracji!W55+pomocniczo_do_innych_kalibracji!Y55+pomocniczo_do_innych_kalibracji!AA55)))","v":4.8701345856039771},{"$f":"LN((Eurostat!BF75^pomocniczo_do_innych_kalibracji!H55*Eurostat!BH75^pomocniczo_do_innych_kalibracji!J55)^(1/(pomocniczo_do_innych_kalibracji!H55+pomocniczo_do_innych_kalibracji!J55)))","v":4.6140605966034594},{"$f":"LN((Eurostat!BL75^pomocniczo_do_innych_kalibracji!L55*Eurostat!BN75^pomocniczo_do_innych_kalibracji!N55*Eurostat!BP75^pomocniczo_do_innych_kalibracji!P55*Eurostat!BR75^pomocniczo_do_innych_kalibracji!R55*Eurostat!BT75^pomocniczo_do_innych_kalibracji!T55*Eurostat!BV75^pomocniczo_do_innych_kalibracji!V55*Eurostat!BX75^pomocniczo_do_innych_kalibracji!X55*Eurostat!BZ75^pomocniczo_do_innych_kalibracji!Z55)^(1/(pomocniczo_do_innych_kalibracji!L55+pomocniczo_do_innych_kalibracji!N55+pomocniczo_do_innych_kalibracji!P55+pomocniczo_do_innych_kalibracji!R55+pomocniczo_do_innych_kalibracji!T55+pomocniczo_do_innych_kalibracji!V55+pomocniczo_do_innych_kalibracji!X55+pomocniczo_do_innych_kalibracji!Z55)))","v":4.6536134488803746},{"$f":"LN(Eurostat!E75)","v":4.8402423081675749},{"$f":"LN(Eurostat!D75)","v":4.6472713620067267},{"$f":"pomocniczo_do_innych_kalibracji!AC55-pomocniczo_do_innych_kalibracji!AC54","v":-7.4801602042393611E-3},{"$f":"pomocniczo_do_innych_kalibracji!AD55-pomocniczo_do_innych_kalibracji!AD54","v":5.5331352305136861E-3},{"$f":"pomocniczo_do_innych_kalibracji!AE55-pomocniczo_do_innych_kalibracji!AE54","v":1.0766858539066781E-2},{"$f":"pomocniczo_do_innych_kalibracji!AF55-pomocniczo_do_innych_kalibracji!AF54","v":3.3057361830364229E-3},{"$f":"Eurostat!CC75/100","v":4.5700000000000005E-2},{"$f":"Eurostat!CB75/100","v":2E-3},{"$f":"LN(1/Eurostat!CD75)-LN(1/Eurostat!CD74)","v":5.891711693025492E-3}]
[{"$f":"Eurostat!A76","v":"2013Q1"},{"$f":"LN((Eurostat!BG76^pomocniczo_do_innych_kalibracji!I56*Eurostat!BI76^pomocniczo_do_innych_kalibracji!K56)^(1/(pomocniczo_do_innych_kalibracji!I56+pomocniczo_do_innych_kalibracji!K56)))","v":4.9594966973982118},{"$f":"LN((Eurostat!BM76^pomocniczo_do_innych_kalibracji!M56*Eurostat!BO76^pomocniczo_do_innych_kalibracji!O56*Eurostat!BQ76^pomocniczo_do_innych_kalibracji!Q56*Eurostat!BS76^pomocniczo_do_innych_kalibracji!S56*Eurostat!BU76^pomocniczo_do_innych_kalibracji!U56*Eurostat!BW76^pomocniczo_do_innych_kalibracji!W56*Eurostat!BY76^pomocniczo_do_innych_kalibracji!Y56*Eurostat!CA76^pomocniczo_do_innych_kalibracji!AA56)^(1/(pomocniczo_do_innych_kalibracji!M56+pomocniczo_do_innych_kalibracji!O56+pomocniczo_do_innych_kalibracji!Q56+pomocniczo_do_innych_kalibracji!S56+pomocniczo_do_innych_kalibracji!U56+pomocniczo_do_innych_kalibracji!W56+pomocniczo_do_innych_kalibracji!Y56+pomocniczo_do_innych_kalibracji!AA56)))","v":4.8626807430888581},{"$f":"LN((Eurostat!BF76^pomocniczo_do_innych_kalibracji!H56*Eurostat!BH76^pomocniczo_do_innych_kalibracji!J56)^(1/(pomocniczo_do_innych_kalibracji!H56+pomocniczo_do_innych_kalibracji!J56)))","v":4.6163610920490425},{"$f":"LN((Eurostat!BL76^pomocniczo_do_innych_kalibracji!L56*Eurostat!BN76^pomocniczo_do_innych_kalibracji!N56*Eurostat!BP76^pomocniczo_do_innych_kalibracji!P56*Eurostat!BR76^pomocniczo_do_innych_kalibracji!R56*Eurostat!BT76^pomocniczo_do_innych_kalibracji!T56*Eurostat!BV76^pomocniczo_do_innych_kalibracji!V56*Eurostat!BX76^pomocniczo_do_innych_kalibracji!X56*Eurostat!BZ76^pomocniczo_do_innych_kalibracji!Z56)^(1/(pomocniczo_do_innych_kalibracji!L56+pomocniczo_do_innych_kalibracji!N56+pomocniczo_do_innych_kalibracji!P56+pomocniczo_do_innych_kalibracji!R56+pomocniczo_do_innych_kalibracji!T56+pomocniczo_do_innych_kalibracji!V56+pomocniczo_do_innych_kalibracji!X56+pomocniczo_do_innych_kalibracji!Z56)))","v":4.6505179284429623},{"$f":"LN(Eurostat!E76)","v":4.8433993747203417},{"$f":"LN(Eurostat!D76)","v":4.6463121293192664},{"$f":"pomocniczo_do_innych_kalibracji!AC56-pomocniczo_do_innych_kalibracji!AC55","v":9.8301412198216198E-3},{"$f":"pomocniczo_do_innych_kalibracji!AD56-pomocniczo_do_innych_kalibracji!AD55","v":5.6531207571977049E-3},{"$f":"pomocniczo_do_innych_kalibracji!AE56-pomocniczo_do_innych_kalibracji!AE55","v":-9.35481019288531E-4},{"$f":"pomocniczo_do_innych_kalibracji!AF56-pomocniczo_do_innych_kalibracji!AF55","v":5.9261488925343997E-3},{"$f":"Eurostat!CC76/100","v":3.7699999999999997E-2},{"$f":"Eurostat!CB76/100","v":2.0999999999999999E-3},{"$f":"LN(1/Eurostat!CD76)-LN(1/Eurostat!CD75)","v":-1.0522466193582103E-2}]
[{"$f":"Eurostat!A77","v":"2013Q2"},{"$f":"LN((Eurostat!BG77^pomocniczo_do_innych_kalibracji!I57*Eurostat!BI77^pomocniczo_do_innych_kalibracji!K57)^(1/(pomocniczo_do_innych_kalibracji!I57+pomocniczo_do_innych_kalibracji!K57)))","v":4.9880753046663937},{"$f":"LN((Eurostat!BM77^pomocniczo_do_innych_kalibracji!M57*Eurostat!BO77^pomocniczo_do_innych_kalibracji!O57*Eurostat!BQ77^pomocniczo_do_innych_kalibracji!Q57*Eurostat!BS77^pomocniczo_do_innych_kalibracji!S57*Eurostat!BU77^pomocniczo_do_innych_kalibracji!U57*Eurostat!BW77^pomocniczo_do_innych_kalibracji!W57*Eurostat!BY77^pomocniczo_do_innych_kalibracji!Y57*Eurostat!CA77^pomocniczo_do_innych_kalibracji!AA57)^(1/(pomocniczo_do_innych_kalibracji!M57+pomocniczo_do_innych_kalibracji!O57+pomocniczo_do_innych_kalibracji!Q57+pomocniczo_do_innych_kalibracji!S57+pomocniczo_do_innych_kalibracji!U57+pomocniczo_do_innych_kalibracji!W57+pomocniczo_do_innych_kalibracji!Y57+pomocniczo_do_innych_kalibracji!AA57)))","v":4.869037956576066},{"$f":"LN((Eurostat!BF77^pomocniczo_do_innych_kalibracji!H57*Eurostat!BH77^pomocniczo_do_innych_kalibracji!J57)^(1/(pomocniczo_do_innych_kalibracji!H57+pomocniczo_do_innych_kalibracji!J57)))","v":4.6217265310284592},{"$f":"LN((Eurostat!BL77^pomocniczo_do_innych_kalibracji!L57*Eurostat!BN77^pomocniczo_do_innych_kalibracji!N57*Eurostat!BP77^pomocniczo_do_innych_kalibracji!P57*Eurostat!BR77^pomocniczo_do_innych_kalibracji!R57*Eurostat!BT77^pomocniczo_do_innych_kalibracji!T57*Eurostat!BV77^pomocniczo_do_innych_kalibracji!V57*Eurostat!BX77^pomocniczo_do_innych_kalibracji!X57*Eurostat!BZ77^pomocniczo_do_innych_kalibracji!Z57)^(1/(pomocniczo_do_innych_kalibracji!L57+pomocniczo_do_innych_kalibracji!N57+pomocniczo_do_innych_kalibracji!P57+pomocniczo_do_innych_kalibracji!R57+pomocniczo_do_innych_kalibracji!T57+pomocniczo_do_innych_kalibracji!V57+pomocniczo_do_innych_kalibracji!X57+pomocniczo_do_innych_kalibracji!Z57)))","v":4.6536691255801736},{"$f":"LN(Eurostat!E77)","v":4.8496837630384935},{"$f":"LN(Eurostat!D77)","v":4.6472713620067267},{"$f":"pomocniczo_do_innych_kalibracji!AC57-pomocniczo_do_innych_kalibracji!AC56","v":-1.7138445879274933E-2},{"$f":"pomocniczo_do_innych_kalibracji!AD57-pomocniczo_do_innych_kalibracji!AD56","v":1.2129642351865755E-4},{"$f":"pomocniczo_do_innych_kalibracji!AE57-pomocniczo_do_innych_kalibracji!AE56","v":2.8586277010731465E-3},{"$f":"pomocniczo_do_innych_kalibracji!AF57-pomocniczo_do_innych_kalibracji!AF56","v":1.4552064293207323E-3},{"$f":"Eurostat!CC77/100","v":2.9500000000000002E-2},{"$f":"Eurostat!CB77/100","v":2.0999999999999999E-3},{"$f":"LN(1/Eurostat!CD77)-LN(1/Eurostat!CD76)","v":-1.0150913114126192E-2}]
[{"$f":"Eurostat!A78","v":"2013Q3"},{"$f":"LN((Eurostat!BG78^pomocniczo_do_innych_kalibracji!I58*Eurostat!BI78^pomocniczo_do_innych_kalibracji!K58)^(1/(pomocniczo_do_innych_kalibracji!I58+pomocniczo_do_innych_kalibracji!K58)))","v":4.9965470805101351},{"$f":"LN((Eurostat!BM78^pomocniczo_do_innych_kalibracji!M58*Eurostat!BO78^pomocniczo_do_innych_kalibracji!O58*Eurostat!BQ78^pomocniczo_do_innych_kalibracji!Q58*Eurostat!BS78^pomocniczo_do_innych_kalibracji!S58*Eurostat!BU78^pomocniczo_do_innych_kalibracji!U58*Eurostat!BW78^pomocniczo_do_innych_kalibracji!W58*Eurostat!BY78^pomocniczo_do_innych_kalibracji!Y58*Eurostat!CA78^pomocniczo_do_innych_kalibracji!AA58)^(1/(pomocniczo_do_innych_kalibracji!M58+pomocniczo_do_innych_kalibracji!O58+pomocniczo_do_innych_kalibracji!Q58+pomocniczo_do_innych_kalibracji!S58+pomocniczo_do_innych_kalibracji!U58+pomocniczo_do_innych_kalibracji!W58+pomocniczo_do_innych_kalibracji!Y58+pomocniczo_do_innych_kalibracji!AA58)))","v":4.8762803997450286},{"$f":"LN((Eurostat!BF78^pomocniczo_do_innych_kalibracji!H58*Eurostat!BH78^pomocniczo_do_innych_kalibracji!J58)^(1/(pomocniczo_do_innych_kalibracji!H58+pomocniczo_do_innych_kalibracji!J58)))","v":4.6227872142803168},{"$f":"LN((Eurostat!BL78^pomocniczo_do_innych_kalibracji!L58*Eurostat!BN78^pomocniczo_do_innych_kalibracji!N58*Eurostat!BP78^pomocniczo_do_innych_kalibracji!P58*Eurostat!BR78^pomocniczo_do_innych_kalibracji!R58*Eurostat!BT78^pomocniczo_do_innych_kalibracji!T58*Eurostat!BV78^pomocniczo_do_innych_kalibracji!V58*Eurostat!BX78^pomocniczo_do_innych_kalibracji!X58*Eurostat!BZ78^pomocniczo_do_innych_kalibracji!Z58)^(1/(pomocniczo_do_innych_kalibracji!L58+pomocniczo_do_innych_kalibracji!N58+pomocniczo_do_innych_kalibracji!P58+pomocniczo_do_innych_kalibracji!R58+pomocniczo_do_innych_kalibracji!T58+pomocniczo_do_innych_kalibracji!V58+pomocniczo_do_innych_kalibracji!X58+pomocniczo_do_innych_kalibracji!Z58)))","v":4.6551763021764625},{"$f":"LN(Eurostat!E78)","v":4.8528112089026889},{"$f":"LN(Eurostat!D78)","v":4.6491870714048655},{"$f":"pomocniczo_do_innych_kalibracji!AC58-pomocniczo_do_innych_kalibracji!AC57","v":-7.2093649168953888E-3},{"$f":"pomocniczo_do_innych_kalibracji!AD58-pomocniczo_do_innych_kalibracji!AD57","v":7.7625458194647834E-3},{"$f":"pomocniczo_do_innych_kalibracji!AE58-pomocniczo_do_innych_kalibracji!AE57","v":-2.4155659104989624E-3},{"$f":"pomocniczo_do_innych_kalibracji!AF58-pomocniczo_do_innych_kalibracji!AF57","v":3.0650554071707248E-3},{"$f":"Eurostat!CC78/100","v":2.7000000000000003E-2},{"$f":"Eurostat!CB78/100","v":2.2000000000000001E-3},{"$f":"LN(1/Eurostat!CD78)-LN(1/Eurostat!CD77)","v":-1.1721797979128867E-2}]
[{"$f":"Eurostat!A79","v":"2013Q4"},{"$f":"LN((Eurostat!BG79^pomocniczo_do_innych_kalibracji!I59*Eurostat!BI79^pomocniczo_do_innych_kalibracji!K59)^(1/(pomocniczo_do_innych_kalibracji!I59+pomocniczo_do_innych_kalibracji!K59)))","v":4.9985471413557097},{"$f":"LN((Eurostat!BM79^pomocniczo_do_innych_kalibracji!M59*Eurostat!BO79^pomocniczo_do_innych_kalibracji!O59*Eurostat!BQ79^pomocniczo_do_innych_kalibracji!Q59*Eurostat!BS79^pomocniczo_do_innych_kalibracji!S59*Eurostat!BU79^pomocniczo_do_innych_kalibracji!U59*Eurostat!BW79^pomocniczo_do_innych_kalibracji!W59*Eurostat!BY79^pomocniczo_do_innych_kalibracji!Y59*Eurostat!CA79^pomocniczo_do_innych_kalibracji!AA59)^(1/(pomocniczo_do_innych_kalibracji!M59+pomocniczo_do_innych_kalibracji!O59+pomocniczo_do_innych_kalibracji!Q59+pomocniczo_do_innych_kalibracji!S59+pomocniczo_do_innych_kalibracji!U59+pomocniczo_do_innych_kalibracji!W59+pomocniczo_do_innych_kalibracji!Y59+pomocniczo_do_innych_kalibracji!AA59)))","v":4.8866701742457623},{"$f":"LN((Eurostat!BF79^pomocniczo_do_innych_kalibracji!H59*Eurostat!BH79^pomocniczo_do_innych_kalibracji!J59)^(1/(pomocniczo_do_innych_kalibracji!H59+pomocniczo_do_innych_kalibracji!J59)))","v":4.6294631524028187},{"$f":"LN((Eurostat!BL79^pomocniczo_do_innych_kalibracji!L59*Eurostat!BN79^pomocniczo_do_innych_kalibracji!N59*Eurostat!BP79^pomocniczo_do_innych_kalibracji!P59*Eurostat!BR79^pomocniczo_do_innych_kalibracji!R59*Eurostat!BT79^pomocniczo_do_innych_kalibracji!T59*Eurostat!BV79^pomocniczo_do_innych_kalibracji!V59*Eurostat!BX79^pomocniczo_do_innych_kalibracji!X59*Eurostat!BZ79^pomocniczo_do_innych_kalibracji!Z59)^(1/(pomocniczo_do_innych_kalibracji!L59+pomocniczo_do_innych_kalibracji!N59+pomocniczo_do_innych_kalibracji!P59+pomocniczo_do_innych_kalibracji!R59+pomocniczo_do_innych_kalibracji!T59+pomocniczo_do_innych_kalibracji!V59+pomocniczo_do_innych_kalibracji!X59+pomocniczo_do_innych_kalibracji!Z59)))","v":4.6579489394975582},{"$f":"LN(Eurostat!E79)","v":4.8613615913485013},{"$f":"LN(Eurostat!D79)","v":4.6491870714048655},{"$f":"pomocniczo_do_innych_kalibracji!AC59-pomocniczo_do_innych_kalibracji!AC58","v":9.7046957160165093E-3},{"$f":"pomocniczo_do_innych_kalibracji!AD59-pomocniczo_do_innych_kalibracji!AD58","v":-2.8703394153595241E-4},{"$f":"pomocniczo_do_innych_kalibracji!AE59-pomocniczo_do_innych_kalibracji!AE58","v":2.5194467424372036E-3},{"$f":"pomocniczo_do_innych_kalibracji!AF59-pomocniczo_do_innych_kalibracji!AF58","v":5.150060176175586E-4},{"$f":"Eurostat!CC79/100","v":2.6600000000000002E-2},{"$f":"Eurostat!CB79/100","v":2.3999999999999998E-3},{"$f":"LN(1/Eurostat!CD79)-LN(1/Eurostat!CD78)","v":1.4799274016862762E-2}]
[{"$f":"Eurostat!A80","v":"2014Q1"},{"$f":"LN((Eurostat!BG80^pomocniczo_do_innych_kalibracji!I60*Eurostat!BI80^pomocniczo_do_innych_kalibracji!K60)^(1/(pomocniczo_do_innych_kalibracji!I60+pomocniczo_do_innych_kalibracji!K60)))","v":5.0184894938450944},{"$f":"LN((Eurostat!BM80^pomocniczo_do_innych_kalibracji!M60*Eurostat!BO80^pomocniczo_do_innych_kalibracji!O60*Eurostat!BQ80^pomocniczo_do_innych_kalibracji!Q60*Eurostat!BS80^pomocniczo_do_innych_kalibracji!S60*Eurostat!BU80^pomocniczo_do_innych_kalibracji!U60*Eurostat!BW80^pomocniczo_do_innych_kalibracji!W60*Eurostat!BY80^pomocniczo_do_innych_kalibracji!Y60*Eurostat!CA80^pomocniczo_do_innych_kalibracji!AA60)^(1/(pomocniczo_do_innych_kalibracji!M60+pomocniczo_do_innych_kalibracji!O60+pomocniczo_do_innych_kalibracji!Q60+pomocniczo_do_innych_kalibracji!S60+pomocniczo_do_innych_kalibracji!U60+pomocniczo_do_innych_kalibracji!W60+pomocniczo_do_innych_kalibracji!Y60+pomocniczo_do_innych_kalibracji!AA60)))","v":4.8932286779502308},{"$f":"LN((Eurostat!BF80^pomocniczo_do_innych_kalibracji!H60*Eurostat!BH80^pomocniczo_do_innych_kalibracji!J60)^(1/(pomocniczo_do_innych_kalibracji!H60+pomocniczo_do_innych_kalibracji!J60)))","v":4.6291460336724519},{"$f":"LN((Eurostat!BL80^pomocniczo_do_innych_kalibracji!L60*Eurostat!BN80^pomocniczo_do_innych_kalibracji!N60*Eurostat!BP80^pomocniczo_do_innych_kalibracji!P60*Eurostat!BR80^pomocniczo_do_innych_kalibracji!R60*Eurostat!BT80^pomocniczo_do_innych_kalibracji!T60*Eurostat!BV80^pomocniczo_do_innych_kalibracji!V60*Eurostat!BX80^pomocniczo_do_innych_kalibracji!X60*Eurostat!BZ80^pomocniczo_do_innych_kalibracji!Z60)^(1/(pomocniczo_do_innych_kalibracji!L60+pomocniczo_do_innych_kalibracji!N60+pomocniczo_do_innych_kalibracji!P60+pomocniczo_do_innych_kalibracji!R60+pomocniczo_do_innych_kalibracji!T60+pomocniczo_do_innych_kalibracji!V60+pomocniczo_do_innych_kalibracji!X60+pomocniczo_do_innych_kalibracji!Z60)))","v":4.6597278363852048},{"$f":"LN(Eurostat!E80)","v":4.8652240913223981},{"$f":"LN(Eurostat!D80)","v":4.6520537718869415},{"$f":"pomocniczo_do_innych_kalibracji!AC60-pomocniczo_do_innych_kalibracji!AC59","v":-2.5454884323359295E-3},{"$f":"pomocniczo_do_innych_kalibracji!AD60-pomocniczo_do_innych_kalibracji!AD59","v":3.9583146398776137E-3},{"$f":"pomocniczo_do_innych_kalibracji!AE60-pomocniczo_do_innych_kalibracji!AE59","v":-2.3372089698057152E-3},{"$f":"pomocniczo_do_innych_kalibracji!AF60-pomocniczo_do_innych_kalibracji!AF59","v":3.7457356068664183E-3},{"$f":"Eurostat!CC80/100","v":2.7099999999999999E-2},{"$f":"Eurostat!CB80/100","v":3.0000000000000001E-3},{"$f":"LN(1/Eurostat!CD80)-LN(1/Eurostat!CD79)","v":2.3896004701740026E-4}]
[{"$f":"Eurostat!A81","v":"2014Q2"},{"$f":"LN((Eurostat!BG81^pomocniczo_do_innych_kalibracji!I61*Eurostat!BI81^pomocniczo_do_innych_kalibracji!K61)^(1/(pomocniczo_do_innych_kalibracji!I61+pomocniczo_do_innych_kalibracji!K61)))","v":5.0171072560659891},{"$f":"LN((Eurostat!BM81^pomocniczo_do_innych_kalibracji!M61*Eurostat!BO81^pomocniczo_do_innych_kalibracji!O61*Eurostat!BQ81^pomocniczo_do_innych_kalibracji!Q61*Eurostat!BS81^pomocniczo_do_innych_kalibracji!S61*Eurostat!BU81^pomocniczo_do_innych_kalibracji!U61*Eurostat!BW81^pomocniczo_do_innych_kalibracji!W61*Eurostat!BY81^pomocniczo_do_innych_kalibracji!Y61*Eurostat!CA81^pomocniczo_do_innych_kalibracji!AA61)^(1/(pomocniczo_do_innych_kalibracji!M61+pomocniczo_do_innych_kalibracji!O61+pomocniczo_do_innych_kalibracji!Q61+pomocniczo_do_innych_kalibracji!S61+pomocniczo_do_innych_kalibracji!U61+pomocniczo_do_innych_kalibracji!W61+pomocniczo_do_innych_kalibracji!Y61+pomocniczo_do_innych_kalibracji!AA61)))","v":4.8999688177383174},{"$f":"LN((Eurostat!BF81^pomocniczo_do_innych_kalibracji!H61*Eurostat!BH81^pomocniczo_do_innych_kalibracji!J61)^(1/(pomocniczo_do_innych_kalibracji!H61+pomocniczo_do_innych_kalibracji!J61)))","v":4.629304003583008},{"$f":"LN((Eurostat!BL81^pomocniczo_do_innych_kalibracji!L61*Eurostat!BN81^pomocniczo_do_innych_kalibracji!N61*Eurostat!BP81^pomocniczo_do_innych_kalibracji!P61*Eurostat!BR81^pomocniczo_do_innych_kalibracji!R61*Eurostat!BT81^pomocniczo_do_innych_kalibracji!T61*Eurostat!BV81^pomocniczo_do_innych_kalibracji!V61*Eurostat!BX81^pomocniczo_do_innych_kalibracji!X61*Eurostat!BZ81^pomocniczo_do_innych_kalibracji!Z61)^(1/(pomocniczo_do_innych_kalibracji!L61+pomocniczo_do_innych_kalibracji!N61+pomocniczo_do_innych_kalibracji!P61+pomocniczo_do_innych_kalibracji!R61+pomocniczo_do_innych_kalibracji!T61+pomocniczo_do_innych_kalibracji!V61+pomocniczo_do_innych_kalibracji!X61+pomocniczo_do_innych_kalibracji!Z61)))","v":4.6578969450020882},{"$f":"LN(Eurostat!E81)","v":4.8713732267627483},{"$f":"LN(Eurostat!D81)","v":4.6549122778829055},{"$f":"pomocniczo_do_innych_kalibracji!AC61-pomocniczo_do_innych_kalibracji!AC60","v":1.1017928221245477E-2},{"$f":"pomocniczo_do_innych_kalibracji!AD61-pomocniczo_do_innych_kalibracji!AD60","v":2.0154443101363384E-3},{"$f":"pomocniczo_do_innych_kalibracji!AE61-pomocniczo_do_innych_kalibracji!AE60","v":1.3133668111056096E-3},{"$f":"pomocniczo_do_innych_kalibracji!AF61-pomocniczo_do_innych_kalibracji!AF60","v":6.5639150797736079E-4},{"$f":"Eurostat!CC81/100","v":2.7099999999999999E-2},{"$f":"Eurostat!CB81/100","v":3.0000000000000001E-3},{"$f":"LN(1/Eurostat!CD81)-LN(1/Eurostat!CD80)","v":4.2630710728932542E-3}]